<?xml version="1.0" encoding="UTF-8" standalone="no"?>
<metadata xml:lang="fr">
<Esri>
<CreaDate>20260219</CreaDate>
<CreaTime>15240400</CreaTime>
<ArcGISFormat>1.0</ArcGISFormat>
<SyncOnce>FALSE</SyncOnce>
<scaleRange>
<minScale>150000000</minScale>
<maxScale>5000</maxScale>
</scaleRange>
<ArcGISProfile>ISO19139</ArcGISProfile>
<DataProperties>
<itemProps>
<itemName Sync="TRUE">AGGLO_FOND_PA_V5</itemName>
<imsContentType Sync="TRUE">002</imsContentType>
<nativeExtBox>
<westBL Sync="TRUE">2462494.049697</westBL>
<eastBL Sync="TRUE">2536331.406674</eastBL>
<southBL Sync="TRUE">1085971.948558</southBL>
<northBL Sync="TRUE">1158332.558395</northBL>
<exTypeCode Sync="TRUE">1</exTypeCode>
</nativeExtBox>
<itemLocation>
<linkage Sync="TRUE">file://\\MW-477911\C$\Users\sayaan\Documents\ArcGIS\Projects\Mon projet3\Mon projet3.gdb</linkage>
<protocol Sync="TRUE">Local Area Network</protocol>
</itemLocation>
</itemProps>
<coordRef>
<type Sync="TRUE">Projected</type>
<geogcsn Sync="TRUE">GCS_CH1903+</geogcsn>
<csUnits Sync="TRUE">Linear Unit: Meter (1.000000)</csUnits>
<projcsn Sync="TRUE">CH1903+_LV95</projcsn>
<peXml Sync="TRUE">&lt;ProjectedCoordinateSystem xsi:type='typens:ProjectedCoordinateSystem' xmlns:xsi='http://www.w3.org/2001/XMLSchema-instance' xmlns:xs='http://www.w3.org/2001/XMLSchema' xmlns:typens='http://www.esri.com/schemas/ArcGIS/3.3.0'&gt;&lt;WKT&gt;PROJCS[&amp;quot;CH1903+_LV95&amp;quot;,GEOGCS[&amp;quot;GCS_CH1903+&amp;quot;,DATUM[&amp;quot;D_CH1903+&amp;quot;,SPHEROID[&amp;quot;Bessel_1841&amp;quot;,6377397.155,299.1528128]],PRIMEM[&amp;quot;Greenwich&amp;quot;,0.0],UNIT[&amp;quot;Degree&amp;quot;,0.0174532925199433]],PROJECTION[&amp;quot;Hotine_Oblique_Mercator_Azimuth_Center&amp;quot;],PARAMETER[&amp;quot;False_Easting&amp;quot;,2600000.0],PARAMETER[&amp;quot;False_Northing&amp;quot;,1200000.0],PARAMETER[&amp;quot;Scale_Factor&amp;quot;,1.0],PARAMETER[&amp;quot;Azimuth&amp;quot;,90.0],PARAMETER[&amp;quot;Longitude_Of_Center&amp;quot;,7.439583333333333],PARAMETER[&amp;quot;Latitude_Of_Center&amp;quot;,46.95240555555556],UNIT[&amp;quot;Meter&amp;quot;,1.0],AUTHORITY[&amp;quot;EPSG&amp;quot;,2056]]&lt;/WKT&gt;&lt;XOrigin&gt;-27386400&lt;/XOrigin&gt;&lt;YOrigin&gt;-32067900&lt;/YOrigin&gt;&lt;XYScale&gt;140996569.55187955&lt;/XYScale&gt;&lt;ZOrigin&gt;-100000&lt;/ZOrigin&gt;&lt;ZScale&gt;10000&lt;/ZScale&gt;&lt;MOrigin&gt;-100000&lt;/MOrigin&gt;&lt;MScale&gt;10000&lt;/MScale&gt;&lt;XYTolerance&gt;0.001&lt;/XYTolerance&gt;&lt;ZTolerance&gt;0.001&lt;/ZTolerance&gt;&lt;MTolerance&gt;0.001&lt;/MTolerance&gt;&lt;HighPrecision&gt;true&lt;/HighPrecision&gt;&lt;WKID&gt;2056&lt;/WKID&gt;&lt;LatestWKID&gt;2056&lt;/LatestWKID&gt;&lt;/ProjectedCoordinateSystem&gt;</peXml>
</coordRef>
<lineage>
<Process Date="20260226" Time="134729" ToolSource="c:\program files\arcgis\pro\Resources\ArcToolbox\toolboxes\Data Management Tools.tbx\CopyRaster">CopyRaster AGGLO_FOND_PA "C:\Users\sayaan\Documents\ArcGIS\Projects\Mon projet3\Mon projet3.gdb\AGGLO_FOND_PA_V5" # # # NONE NONE "non signé 8 bits" NONE NONE "Format TIFF" NONE CURRENT_SLICE NO_TRANSPOSE</Process>
<Process Date="20260226" Time="135526" ToolSource="c:\program files\arcgis\pro\Resources\ArcToolbox\toolboxes\Data Management Tools.tbx\CopyMultiple">CopyMultiple "'C:\Users\sayaan\Documents\ArcGIS\Projects\Mon projet3\Mon projet3.gdb\AGGLO_FOND_PA_V5' RasterDataset" V:\Donnees_Applicatives\GEOMATIQUE\INTRANET\DONNEES\AGGLO_FOND_PA\GDB\AGGLO_FOND_PA.gdb AGGLO_FOND_PA_V5 "AGGLO_FOND_PA_V5 RasterDataset AGGLO_FOND_PA_V5 #"</Process>
<Process Date="20260312" Time="164725" ToolSource="c:\program files\arcgis\pro\Resources\ArcToolbox\Toolboxes\Data Management Tools.tbx\CopyMultiple">CopyMultiple "V:\Donnees_Applicatives\GEOMATIQUE\INTRANET\DONNEES\AGGLO_FOND_PA\GDB\AGGLO_FOND_PA.gdb\AGGLO_FOND_PA_V5 RasterDataset" V:\Donnees_Applicatives\GEOMATIQUE\INTRANET\DONNEES\AGGLO_FOND_PA\GDB\AGGLO_FOND_PA.gdb AGGLO_FOND_PA_V5_1 "AGGLO_FOND_PA_V5 RasterDataset AGGLO_FOND_PA_V5_1 #"</Process>
<Process Date="20260312" Time="165603" ToolSource="c:\program files\arcgis\pro\Resources\ArcToolbox\Toolboxes\Data Management Tools.tbx\Rename">Rename V:\Donnees_Applicatives\GEOMATIQUE\INTRANET\DONNEES\AGGLO_FOND_PA\GDB\AGGLO_FOND_PA.gdb\AGGLO_FOND_PA_V5_1 V:\Donnees_Applicatives\GEOMATIQUE\INTRANET\DONNEES\AGGLO_FOND_PA\GDB\AGGLO_FOND_PA.gdb\AGGLO_FOND_PA RasterDataset</Process>
</lineage>
</DataProperties>
<SyncDate>20260226</SyncDate>
<SyncTime>13472900</SyncTime>
<ModDate>20260226</ModDate>
<ModTime>13472900</ModTime>
</Esri>
<dataIdInfo>
<idPurp>Agglo - Fond de plan pour les données du Grand Genève</idPurp>
<idAbs>Agglo - Fond de plan pour les données du Grand Genève</idAbs>
<idCredit>DPA</idCredit>
<idCitation>
<resTitle>Agglo - Fond de plan pour les données du Grand Genève</resTitle>
<presForm>
<PresFormCd Sync="TRUE" value="011"/>
</presForm>
</idCitation>
<searchKeys>
<keyword>Cartes</keyword>
<keyword>de</keyword>
<keyword>base</keyword>
<keyword>190_PUBLISHVECTORS_PUBLISHING</keyword>
<keyword>190_PUBLISHVECTORS_1f2ceba417604979b40f750805498e4b</keyword>
</searchKeys>
<envirDesc Sync="TRUE">Microsoft Windows 10 Version 10.0 (Build 22631) ; Esri ArcGIS 13.3.0.52636</envirDesc>
<dataLang>
<languageCode Sync="TRUE" value="fra"/>
<countryCode Sync="TRUE" value="CHE"/>
</dataLang>
<spatRpType>
<SpatRepTypCd Sync="TRUE" value="002"/>
</spatRpType>
<dataExt>
<geoEle>
<GeoBndBox esriExtentType="search">
<exTypeCode Sync="TRUE">1</exTypeCode>
<westBL Sync="TRUE">5.645850</westBL>
<eastBL Sync="TRUE">6.618811</eastBL>
<northBL Sync="TRUE">46.574511</northBL>
<southBL Sync="TRUE">45.912559</southBL>
</GeoBndBox>
</geoEle>
</dataExt>
<resConst>
<Consts>
<useLimit/>
</Consts>
</resConst>
</dataIdInfo>
<mdHrLv>
<ScopeCd value="005"/>
</mdHrLv>
<mdDateSt Sync="TRUE">20260226</mdDateSt>
<mdLang>
<languageCode Sync="TRUE" value="fra"/>
<countryCode Sync="TRUE" value="CHE"/>
</mdLang>
<distInfo>
<distFormat>
<formatName Sync="TRUE">Jeu de données raster de géodatabase fichier</formatName>
</distFormat>
</distInfo>
<mdHrLvName Sync="TRUE">dataset</mdHrLvName>
<refSysInfo>
<RefSystem>
<refSysID>
<identCode Sync="TRUE" code="2056"/>
<idCodeSpace Sync="TRUE">EPSG</idCodeSpace>
<idVersion Sync="TRUE">4.5(8.1.0)</idVersion>
</refSysID>
</RefSystem>
</refSysInfo>
<spdoinfo>
<rastinfo>
<rasttype Sync="TRUE">Pixel</rasttype>
<rowcount Sync="TRUE">9800</rowcount>
<colcount Sync="TRUE">10000</colcount>
<rastxsz Sync="TRUE">7.383736</rastxsz>
<rastysz Sync="TRUE">7.383736</rastysz>
<rastbpp Sync="TRUE">8</rastbpp>
<vrtcount Sync="TRUE">1</vrtcount>
<rastorig Sync="TRUE">Upper Left</rastorig>
<rastcmap Sync="TRUE">FALSE</rastcmap>
<rastcomp Sync="TRUE">LZ77</rastcomp>
<rastband Sync="TRUE">3</rastband>
<rastdtyp Sync="TRUE">pixel codes</rastdtyp>
<rastifor Sync="TRUE">FGDBR</rastifor>
<rastplyr Sync="TRUE">TRUE</rastplyr>
</rastinfo>
</spdoinfo>
<spref>
<horizsys>
<planar>
<planci>
<plance Sync="TRUE">row and column</plance>
<coordrep>
<absres Sync="TRUE">7.383736</absres>
<ordres Sync="TRUE">7.383736</ordres>
</coordrep>
</planci>
</planar>
</horizsys>
</spref>
</metadata>
