{
 "currentVersion": 11.3,
 "serviceDescription": "Agglo - Fond de plan pour les données du Grand Genève",
 "name": "AGGLO_FOND_PA",
 "description": "",
 "extent": {
  "xmin": 2462494.049696884,
  "ymin": 1085971.9485579373,
  "xmax": 2536331.4066739245,
  "ymax": 1158332.558395436,
  "spatialReference": {
   "wkid": 2056,
   "latestWkid": 2056
  }
 },
 "initialExtent": {
  "xmin": 2462494.049696884,
  "ymin": 1085971.9485579373,
  "xmax": 2536331.4066739245,
  "ymax": 1158332.558395436,
  "spatialReference": {
   "wkid": 2056,
   "latestWkid": 2056
  }
 },
 "fullExtent": {
  "xmin": 2462494.049696884,
  "ymin": 1085971.9485579373,
  "xmax": 2536331.4066739245,
  "ymax": 1158332.558395436,
  "spatialReference": {
   "wkid": 2056,
   "latestWkid": 2056
  }
 },
 "sortableFields": "",
 "bandCount": 3,
 "pixelType": "U8",
 "minValues": [
  103,
  103,
  103
 ],
 "maxValues": [
  255,
  255,
  255
 ],
 "meanValues": [
  238.58201224489795,
  239.78896953061223,
  236.83998574489797
 ],
 "stdvValues": [
  19.565008315548987,
  19.240364209080113,
  21.28793734247424
 ],
 "hasMultidimensions": false,
 "pixelSizeX": 7.383735697704042,
 "pixelSizeY": 7.383735697703954,
 "meanPixelSize": 7.383735697703997,
 "datasetFormat": "FGDBR",
 "uncompressedSize": 294000000,
 "blockWidth": 128,
 "blockHeight": 128,
 "compressionType": "LZ77",
 "bandNames": [
  "Band_1",
  "Band_2",
  "Band_3"
 ],
 "allowCopy": true,
 "allowAnalysis": true,
 "itemAccess": false,
 "inspectionCapabilities": "",
 "minPixelSize": 0,
 "maxPixelSize": 0,
 "copyrightText": "DPA",
 "serviceDataType": "esriImageServiceDataTypeRGB",
 "serviceSourceType": "esriImageServiceSourceTypeDataset",
 "objectIdField": "",
 "fields": [],
 "capabilities": "Image,Metadata,Pixels,Mensuration",
 "defaultMosaicMethod": "Center",
 "allowedMosaicMethods": "",
 "sortField": "",
 "sortValue": null,
 "sortAscending": true,
 "mosaicOperator": "First",
 "defaultCompressionQuality": 75,
 "defaultResamplingMethod": "Nearest",
 "maxImageHeight": 8192,
 "maxImageWidth": 8192,
 "allowRasterFunction": true,
 "rasterFunctionInfos": [
  {
   "name": "None",
   "description": "",
   "help": ""
  }
 ],
 "rasterTypeInfos": [
  {
   "name": "Raster Dataset",
   "description": "Supports all ArcGIS Raster Datasets",
   "help": ""
  }
 ],
 "mensurationCapabilities": "Basic",
 "hasHistograms": true,
 "hasColormap": false,
 "hasRasterAttributeTable": false,
 "minScale": 0,
 "maxScale": 0,
 "exportTilesAllowed": false,
 "supportsStatistics": false,
 "supportsAdvancedQueries": false,
 "editFieldsInfo": null,
 "ownershipBasedAccessControlForRasters": null,
 "allowComputeTiePoints": false,
 "useStandardizedQueries": true,
 "advancedQueryCapabilities": {
  "useStandardizedQueries": true,
  "supportsStatistics": false,
  "supportsOrderBy": false,
  "supportsDistinct": false,
  "supportsPagination": false
 },
 "spatialReference": {
  "wkid": 2056,
  "latestWkid": 2056
 }
}
