<?xml version="1.0" encoding="UTF-8" standalone="no"?>
<metadata xml:lang="fr">
<Esri>
<CreaDate>20240212</CreaDate>
<CreaTime>12384400</CreaTime>
<ArcGISFormat>1.0</ArcGISFormat>
<SyncOnce>FALSE</SyncOnce>
<DataProperties>
<lineage>
<Process Date="20240212" Time="123844" ToolSource="c:\program files\arcgis\pro\Resources\ArcToolbox\toolboxes\Image Analyst Tools.tbx\RasterCalculator">RasterCalculator Con(IsNull( "vsGG24"),0, "vsGG24") e:\laurent.huber\ArcGIS\trame_noire_polemetrof\trame_noire_polemetrof.gdb\vsGG24_0</Process>
<Process Date="20240212" Time="124527" ToolSource="c:\program files\arcgis\pro\Resources\ArcToolbox\toolboxes\Data Management Tools.tbx\Clip">Clip E:\laurent.huber\ArcGIS\Trame_Noire_PoleMetroF\Trame_Noire_PoleMetroF.gdb\vsGG24_0 "2465789.4328 1086777.4394 2531325.5829 1155694.86" E:\laurent.huber\ArcGIS\Trame_Noire_PoleMetroF\Trame_Noire_PoleMetroF.gdb\vsGG24_Clip sde_sig.SITG.AGGLO_PERIMETRE_AVEC_LAC -1 ClippingGeometry NO_MAINTAIN_EXTENT</Process>
<Process Date="20240318" Time="105258" ToolSource="c:\program files\arcgis\pro\Resources\ArcToolbox\toolboxes\Data Management Tools.tbx\CopyMultiple">CopyMultiple "E:\laurent.huber\ArcGIS\Trame_Noire_PoleMetroF\Trame_Noire_PoleMetroF.gdb\vsGG24_Clip RasterDataset" E:\laurent.huber\ArcGIS\Trame_Noire_PoleMetroF\GE_TRAMENOIRE.gdb vsGG24_Clip "vsGG24_Clip RasterDataset vsGG24_Clip #"</Process>
<Process Date="20240318" Time="105606" ToolSource="c:\program files\arcgis\pro\Resources\ArcToolbox\toolboxes\Data Management Tools.tbx\Rename">Rename E:\laurent.huber\ArcGIS\Trame_Noire_PoleMetroF\GE_TRAMENOIRE.gdb\vsGG24_Clip E:\laurent.huber\ArcGIS\Trame_Noire_PoleMetroF\GE_TRAMENOIRE.gdb\GE24_VISIBILITE_SOURCES_LUM RasterDataset</Process>
<Process Date="20240318" Time="112230" ToolSource="c:\program files\arcgis\pro\Resources\ArcToolbox\toolboxes\Data Management Tools.tbx\Rename">Rename E:\laurent.huber\ArcGIS\Trame_Noire_PoleMetroF\GE_TRAME_NOIRE.gdb\GE24_VISIBILITE_SOURCES_LUM E:\laurent.huber\ArcGIS\Trame_Noire_PoleMetroF\GE_TRAME_NOIRE.gdb\Gg24_VISIBILITE_SOURCES_LUM RasterDataset</Process>
<Process Date="20240318" Time="112243" ToolSource="c:\program files\arcgis\pro\Resources\ArcToolbox\toolboxes\Data Management Tools.tbx\Rename">Rename E:\laurent.huber\ArcGIS\Trame_Noire_PoleMetroF\GE_TRAME_NOIRE.gdb\Gg24_VISIBILITE_SOURCES_LUM E:\laurent.huber\ArcGIS\Trame_Noire_PoleMetroF\GE_TRAME_NOIRE.gdb\G24_VISIBILITE_SOURCES_LUM RasterDataset</Process>
<Process Date="20240318" Time="112248" ToolSource="c:\program files\arcgis\pro\Resources\ArcToolbox\toolboxes\Data Management Tools.tbx\Rename">Rename E:\laurent.huber\ArcGIS\Trame_Noire_PoleMetroF\GE_TRAME_NOIRE.gdb\G24_VISIBILITE_SOURCES_LUM E:\laurent.huber\ArcGIS\Trame_Noire_PoleMetroF\GE_TRAME_NOIRE.gdb\GG24_VISIBILITE_SOURCES_LUM RasterDataset</Process>
<Process Date="20240319" Time="082424" ToolSource="c:\program files\arcgis\pro\Resources\ArcToolbox\toolboxes\Data Management Tools.tbx\Rename">Rename S:\UO6705\11_SYSTEMES_INFORMATION\03_SIG_SITG\51_Corridors\Classes_entites_tables\Corridors_noirs\TRAME_NOIRE_HEPIA_20240319\GGGE_TRAME_NOIRE_1.gdb\GG24_VISIBILITE_SOURCES_LUM S:\UO6705\11_SYSTEMES_INFORMATION\03_SIG_SITG\51_Corridors\Classes_entites_tables\Corridors_noirs\TRAME_NOIRE_HEPIA_20240319\GGGE_TRAME_NOIRE_1.gdb\FFP_VISIBILITE_ECLAIRAGE RasterDataset</Process>
<Process Date="20240321" Time="134759" ToolSource="c:\program files\arcgis\pro\Resources\ArcToolbox\Toolboxes\Data Management Tools.tbx\Rename">Rename "S:\UO6705\12_DOSSIERS_TEMPORAIRES\SGOI\trame_noire\Visibilité eclairage\FFP_VISIBILITE_ECLAIRAGE.gdb\FFP_VISIBILITE_ECLAIRAGE" "S:\UO6705\12_DOSSIERS_TEMPORAIRES\SGOI\trame_noire\Visibilité eclairage\FFP_VISIBILITE_ECLAIRAGE.gdb\AGGLO_VISIBILITE_ECLAIRAGE" RasterDataset</Process>
</lineage>
<itemProps>
<itemName Sync="TRUE">vsGG24_Clip</itemName>
<imsContentType Sync="TRUE">002</imsContentType>
<nativeExtBox>
<westBL Sync="TRUE">2465788.648402</westBL>
<eastBL Sync="TRUE">2531325.648402</eastBL>
<southBL Sync="TRUE">1086777.141013</southBL>
<northBL Sync="TRUE">1155695.141013</northBL>
<exTypeCode Sync="TRUE">1</exTypeCode>
</nativeExtBox>
<itemLocation>
<linkage Sync="TRUE">file://\\HEPIA-WS-0698\E$\laurent.huber\ArcGIS\Trame_Noire_PoleMetroF\Trame_Noire_PoleMetroF.gdb</linkage>
<protocol Sync="TRUE">Local Area Network</protocol>
</itemLocation>
</itemProps>
<coordRef>
<type Sync="TRUE">Projected</type>
<geogcsn Sync="TRUE">GCS_CH1903+</geogcsn>
<csUnits Sync="TRUE">Linear Unit: Meter (1.000000)</csUnits>
<projcsn Sync="TRUE">CH1903+_LV95</projcsn>
<peXml Sync="TRUE">&lt;ProjectedCoordinateSystem xsi:type='typens:ProjectedCoordinateSystem' xmlns:xsi='http://www.w3.org/2001/XMLSchema-instance' xmlns:xs='http://www.w3.org/2001/XMLSchema' xmlns:typens='http://www.esri.com/schemas/ArcGIS/2.9.0'&gt;&lt;WKT&gt;PROJCS[&amp;quot;CH1903+_LV95&amp;quot;,GEOGCS[&amp;quot;GCS_CH1903+&amp;quot;,DATUM[&amp;quot;D_CH1903+&amp;quot;,SPHEROID[&amp;quot;Bessel_1841&amp;quot;,6377397.155,299.1528128]],PRIMEM[&amp;quot;Greenwich&amp;quot;,0.0],UNIT[&amp;quot;Degree&amp;quot;,0.0174532925199433]],PROJECTION[&amp;quot;Hotine_Oblique_Mercator_Azimuth_Center&amp;quot;],PARAMETER[&amp;quot;False_Easting&amp;quot;,2600000.0],PARAMETER[&amp;quot;False_Northing&amp;quot;,1200000.0],PARAMETER[&amp;quot;Scale_Factor&amp;quot;,1.0],PARAMETER[&amp;quot;Azimuth&amp;quot;,90.0],PARAMETER[&amp;quot;Longitude_Of_Center&amp;quot;,7.439583333333333],PARAMETER[&amp;quot;Latitude_Of_Center&amp;quot;,46.95240555555556],UNIT[&amp;quot;Meter&amp;quot;,1.0],AUTHORITY[&amp;quot;EPSG&amp;quot;,2056]]&lt;/WKT&gt;&lt;XOrigin&gt;-27386400&lt;/XOrigin&gt;&lt;YOrigin&gt;-32067900&lt;/YOrigin&gt;&lt;XYScale&gt;140996569.55187955&lt;/XYScale&gt;&lt;ZOrigin&gt;-100000&lt;/ZOrigin&gt;&lt;ZScale&gt;10000&lt;/ZScale&gt;&lt;MOrigin&gt;-100000&lt;/MOrigin&gt;&lt;MScale&gt;10000&lt;/MScale&gt;&lt;XYTolerance&gt;0.001&lt;/XYTolerance&gt;&lt;ZTolerance&gt;0.001&lt;/ZTolerance&gt;&lt;MTolerance&gt;0.001&lt;/MTolerance&gt;&lt;HighPrecision&gt;true&lt;/HighPrecision&gt;&lt;WKID&gt;2056&lt;/WKID&gt;&lt;LatestWKID&gt;2056&lt;/LatestWKID&gt;&lt;/ProjectedCoordinateSystem&gt;</peXml>
</coordRef>
</DataProperties>
<SyncDate>20240212</SyncDate>
<SyncTime>12450700</SyncTime>
<ModDate>20240212</ModDate>
<ModTime>12450700</ModTime>
</Esri>
<dataIdInfo>
<envirDesc Sync="TRUE">Microsoft Windows 10 Version 10.0 (Build 19045) ; Esri ArcGIS 12.9.3.32739</envirDesc>
<dataLang>
<languageCode Sync="TRUE" value="fra"/>
<countryCode Sync="TRUE" value="CHE"/>
</dataLang>
<idCitation>
<resTitle Sync="TRUE">AGGLO_VISIBILITE_ECLAIRAGE</resTitle>
<presForm>
<PresFormCd Sync="TRUE" value="011"/>
</presForm>
</idCitation>
<spatRpType>
<SpatRepTypCd Sync="TRUE" value="002"/>
</spatRpType>
<dataExt>
<geoEle>
<GeoBndBox esriExtentType="search">
<exTypeCode Sync="TRUE">1</exTypeCode>
<westBL Sync="TRUE">5.689580</westBL>
<eastBL Sync="TRUE">6.554167</eastBL>
<northBL Sync="TRUE">46.550289</northBL>
<southBL Sync="TRUE">45.920463</southBL>
</GeoBndBox>
</geoEle>
</dataExt>
<idAbs/>
<searchKeys>
<keyword>AGGLO_VISIBILITE_ECLAIRAGE</keyword>
</searchKeys>
<idPurp>AGGLO_VISIBILITE_ECLAIRAGE</idPurp>
<idCredit/>
<resConst>
<Consts>
<useLimit/>
</Consts>
</resConst>
</dataIdInfo>
<mdLang>
<languageCode Sync="TRUE" value="fra"/>
<countryCode Sync="TRUE" value="CHE"/>
</mdLang>
<distInfo>
<distFormat>
<formatName Sync="TRUE">File Geodatabase Raster Dataset</formatName>
</distFormat>
</distInfo>
<mdHrLv>
<ScopeCd Sync="TRUE" value="005"/>
</mdHrLv>
<mdHrLvName Sync="TRUE">dataset</mdHrLvName>
<refSysInfo>
<RefSystem>
<refSysID>
<identCode Sync="TRUE" code="2056"/>
<idCodeSpace Sync="TRUE">EPSG</idCodeSpace>
<idVersion Sync="TRUE">4.5(8.1.0)</idVersion>
</refSysID>
</RefSystem>
</refSysInfo>
<spdoinfo>
<rastinfo>
<rasttype Sync="TRUE">Pixel</rasttype>
<rowcount Sync="TRUE">68918</rowcount>
<colcount Sync="TRUE">65537</colcount>
<rastxsz Sync="TRUE">1.000000</rastxsz>
<rastysz Sync="TRUE">1.000000</rastysz>
<rastbpp Sync="TRUE">16</rastbpp>
<vrtcount Sync="TRUE">1</vrtcount>
<rastorig Sync="TRUE">Upper Left</rastorig>
<rastcmap Sync="TRUE">FALSE</rastcmap>
<rastcomp Sync="TRUE">LZ77</rastcomp>
<rastband Sync="TRUE">1</rastband>
<rastdtyp Sync="TRUE">pixel codes</rastdtyp>
<rastifor Sync="TRUE">FGDBR</rastifor>
<rastplyr Sync="TRUE">TRUE</rastplyr>
</rastinfo>
</spdoinfo>
<spref>
<horizsys>
<planar>
<planci>
<plance Sync="TRUE">row and column</plance>
<coordrep>
<absres Sync="TRUE">1.000000</absres>
<ordres Sync="TRUE">1.000000</ordres>
</coordrep>
</planci>
</planar>
</horizsys>
</spref>
<eainfo>
<detailed Name="VAT_vsGG24_Clip">
<enttyp>
<enttypl Sync="TRUE">VAT_vsGG24_Clip</enttypl>
<enttypt Sync="TRUE">Table</enttypt>
<enttypc Sync="TRUE">303</enttypc>
</enttyp>
<attr>
<attrlabl Sync="TRUE">OBJECTID</attrlabl>
<attalias Sync="TRUE">OBJECTID</attalias>
<attrtype Sync="TRUE">OID</attrtype>
<attwidth Sync="TRUE">4</attwidth>
<atprecis Sync="TRUE">0</atprecis>
<attscale Sync="TRUE">0</attscale>
<attrdef Sync="TRUE">Internal feature number.</attrdef>
<attrdefs Sync="TRUE">Esri</attrdefs>
<attrdomv>
<udom Sync="TRUE">Sequential unique whole numbers that are automatically generated.</udom>
</attrdomv>
</attr>
<attr>
<attrlabl Sync="TRUE">Value</attrlabl>
<attalias Sync="TRUE">Value</attalias>
<attrtype Sync="TRUE">Integer</attrtype>
<attwidth Sync="TRUE">4</attwidth>
<atprecis Sync="TRUE">0</atprecis>
<attscale Sync="TRUE">0</attscale>
</attr>
<attr>
<attrlabl Sync="TRUE">Count</attrlabl>
<attalias Sync="TRUE">Count</attalias>
<attrtype Sync="TRUE">Double</attrtype>
<attwidth Sync="TRUE">8</attwidth>
<atprecis Sync="TRUE">0</atprecis>
<attscale Sync="TRUE">0</attscale>
</attr>
</detailed>
</eainfo>
<mdDateSt Sync="TRUE">20240212</mdDateSt>
</metadata>
