<?xml version="1.0" encoding="UTF-8" standalone="no"?>
<metadata xml:lang="fr">
<Esri>
<CreaDate>20251002</CreaDate>
<CreaTime>16271100</CreaTime>
<ArcGISFormat>1.0</ArcGISFormat>
<SyncOnce>FALSE</SyncOnce>
<DataProperties>
<lineage>
<Process Date="20251002" Time="162711" ToolSource="c:\program files\arcgis\pro\Resources\ArcToolbox\Toolboxes\Data Management Tools.tbx\Rename">Rename "S:\UO7278\04_Volets_thematiques\01_AGGLO\Observation territoriale\H-Geomatique\PreparationPublication\2025_PA5_AGGLOMERATION_LIVRAISON_SITG\AGGLO_VISION_PACA_PA5_V2.tif" "S:\UO7278\04_Volets_thematiques\01_AGGLO\Observation territoriale\H-Geomatique\PreparationPublication\2025_PA5_AGGLOMERATION_LIVRAISON_SITG\AGGLO_VISION_PACA_PA5.tif" RasterDataset</Process>
<Process Date="20251217" Time="152749" ToolSource="c:\program files\arcgis\pro\Resources\ArcToolbox\toolboxes\Data Management Tools.tbx\CopyRaster">CopyRaster V:\Donnees_Applicatives\GEOMATIQUE\GEOMATIQUE-EXPLOITATION\zTEMP\GRAND_GENEVE\2025_PA5_AGGLOMERATION_LIVRAISON_SITG\2025_PA5_AGGLOMERATION_LIVRAISON_SITG\AGGLO_VISION_PACA_PA5.tif V:\Donnees_Applicatives\GEOMATIQUE\INTRANET\DONNEES\AGGLO_VISION_PACA_PA5\GDB\AGGLO_VISION_PACA_PA5.gdb\AGGLO_VISION_PACA_PA5 # # # NONE NONE # NONE NONE "Format Esri Grid" NONE CURRENT_SLICE NO_TRANSPOSE</Process>
</lineage>
<itemProps>
<itemName Sync="TRUE">AGGLO_VISION_PACA_PA5</itemName>
<imsContentType Sync="TRUE">002</imsContentType>
<nativeExtBox>
<westBL Sync="TRUE">0.000000</westBL>
<eastBL Sync="TRUE">19.684000</eastBL>
<southBL Sync="TRUE">-0.000000</southBL>
<northBL Sync="TRUE">15.748000</northBL>
<exTypeCode Sync="TRUE">1</exTypeCode>
</nativeExtBox>
<itemLocation>
<linkage Sync="TRUE">file://\\nasadm01.ge-admin.ad.etat-ge.ch\usr$\SAYAAN\Donnees_Applicatives\GEOMATIQUE\INTRANET\DONNEES\AGGLO_VISION_PACA_PA5\GDB\AGGLO_VISION_PACA_PA5.gdb</linkage>
<protocol Sync="TRUE">Local Area Network</protocol>
</itemLocation>
</itemProps>
</DataProperties>
<SyncDate>20251217</SyncDate>
<SyncTime>15271900</SyncTime>
<ModDate>20251217</ModDate>
<ModTime>15271900</ModTime>
</Esri>
<dataIdInfo>
<envirDesc Sync="TRUE">Microsoft Windows 10 Version 10.0 (Build 22631) ; Esri ArcGIS 13.3.0.52636</envirDesc>
<dataLang>
<languageCode Sync="TRUE" value="fra"/>
<countryCode Sync="TRUE" value="CHE"/>
</dataLang>
<idCitation>
<resTitle Sync="TRUE">Agglo - Vision d'ensemble à l'échelle des PACA</resTitle>
<presForm>
<PresFormCd Sync="TRUE" value="011"/>
</presForm>
</idCitation>
<spatRpType>
<SpatRepTypCd Sync="TRUE" value="002"/>
</spatRpType>
<idAbs>Agglo - Vision d'ensemble à l'échelle des PACA</idAbs>
<searchKeys>
<keyword>Environnement</keyword>
<keyword>Cadastre</keyword>
<keyword>/</keyword>
<keyword>aménagement</keyword>
<keyword>Transport</keyword>
<keyword>190_PUBLISHVECTORS_PUBLISHING</keyword>
<keyword>190_PUBLISHVECTORS_d794be03176e4608b270faf37f26c880</keyword>
</searchKeys>
<idPurp>Agglo - Vision d'ensemble à l'échelle des PACA</idPurp>
<idCredit/>
<resConst>
<Consts>
<useLimit/>
</Consts>
</resConst>
</dataIdInfo>
<mdLang>
<languageCode Sync="TRUE" value="fra"/>
<countryCode Sync="TRUE" value="CHE"/>
</mdLang>
<distInfo>
<distFormat>
<formatName Sync="TRUE">Jeu de données raster de géodatabase fichier</formatName>
</distFormat>
</distInfo>
<mdHrLv>
<ScopeCd Sync="TRUE" value="005"/>
</mdHrLv>
<mdHrLvName Sync="TRUE">dataset</mdHrLvName>
<spdoinfo>
<rastinfo>
<rasttype Sync="TRUE">Pixel</rasttype>
<rowcount Sync="TRUE">7874</rowcount>
<colcount Sync="TRUE">9842</colcount>
<rastxsz Sync="TRUE">0.002000</rastxsz>
<rastysz Sync="TRUE">0.002000</rastysz>
<rastbpp Sync="TRUE">8</rastbpp>
<vrtcount Sync="TRUE">1</vrtcount>
<rastorig Sync="TRUE">Upper Left</rastorig>
<rastcmap Sync="TRUE">FALSE</rastcmap>
<rastcomp Sync="TRUE">LZ77</rastcomp>
<rastband Sync="TRUE">4</rastband>
<rastdtyp Sync="TRUE">pixel codes</rastdtyp>
<rastifor Sync="TRUE">FGDBR</rastifor>
<rastplyr Sync="TRUE">TRUE</rastplyr>
</rastinfo>
</spdoinfo>
<spref>
<horizsys>
<planar>
<planci>
<plance Sync="TRUE">row and column</plance>
<coordrep>
<absres Sync="TRUE">0.002000</absres>
<ordres Sync="TRUE">0.002000</ordres>
</coordrep>
</planci>
</planar>
</horizsys>
</spref>
<mdDateSt Sync="TRUE">20251217</mdDateSt>
</metadata>
