{
 "currentVersion": 11.3,
 "serviceDescription": "HISTO_ATLAS_MAYER_1828_1831",
 "name": "HISTO_ATLAS_MAYER_1828_1831",
 "description": "",
 "extent": {
  "xmin": 2482109.178221859,
  "ymin": 1106516.5217754587,
  "xmax": 2514755.343021859,
  "ymax": 1137441.1989754587,
  "spatialReference": {
   "wkid": 2056,
   "latestWkid": 2056
  }
 },
 "initialExtent": {
  "xmin": 2482109.178221859,
  "ymin": 1106516.5217754587,
  "xmax": 2514755.343021859,
  "ymax": 1137441.1989754587,
  "spatialReference": {
   "wkid": 2056,
   "latestWkid": 2056
  }
 },
 "fullExtent": {
  "xmin": 2482109.178221859,
  "ymin": 1106516.5217754587,
  "xmax": 2514755.343021859,
  "ymax": 1137441.1989754587,
  "spatialReference": {
   "wkid": 2056,
   "latestWkid": 2056
  }
 },
 "sortableFields": "",
 "bandCount": 3,
 "pixelType": "U8",
 "minValues": [
  37,
  40,
  35
 ],
 "maxValues": [
  255,
  255,
  255
 ],
 "meanValues": [
  218.5563245428842,
  212.6864146298732,
  196.23437994635322
 ],
 "stdvValues": [
  23.768178627724772,
  26.712568326913,
  27.92960372269215
 ],
 "hasMultidimensions": false,
 "pixelSizeX": 0.20187718241576072,
 "pixelSizeY": 0.20187665452456513,
 "meanPixelSize": 0.20187691847016292,
 "datasetFormat": "FGDBR",
 "uncompressedSize": 74316502854,
 "blockWidth": 128,
 "blockHeight": 128,
 "compressionType": "LZ77",
 "bandNames": [
  "Band_1",
  "Band_2",
  "Band_3"
 ],
 "allowCopy": true,
 "allowAnalysis": true,
 "itemAccess": false,
 "inspectionCapabilities": "",
 "minPixelSize": 0,
 "maxPixelSize": 0,
 "copyrightText": "",
 "serviceDataType": "esriImageServiceDataTypeRGB",
 "serviceSourceType": "esriImageServiceSourceTypeDataset",
 "objectIdField": "",
 "fields": [],
 "capabilities": "Mensuration,Image,Metadata",
 "defaultMosaicMethod": "Center",
 "allowedMosaicMethods": "",
 "sortField": "",
 "sortValue": null,
 "sortAscending": true,
 "mosaicOperator": "First",
 "defaultCompressionQuality": 75,
 "defaultResamplingMethod": "Bilinear",
 "maxImageHeight": 4100,
 "maxImageWidth": 15000,
 "allowRasterFunction": true,
 "rasterFunctionInfos": [
  {
   "name": "None",
   "description": "",
   "help": ""
  }
 ],
 "rasterTypeInfos": [
  {
   "name": "Raster Dataset",
   "description": "Supports all ArcGIS Raster Datasets",
   "help": ""
  }
 ],
 "mensurationCapabilities": "Basic",
 "hasHistograms": true,
 "hasColormap": false,
 "hasRasterAttributeTable": false,
 "minScale": 0,
 "maxScale": 0,
 "exportTilesAllowed": false,
 "supportsStatistics": false,
 "supportsAdvancedQueries": false,
 "editFieldsInfo": null,
 "ownershipBasedAccessControlForRasters": null,
 "allowComputeTiePoints": false,
 "useStandardizedQueries": true,
 "advancedQueryCapabilities": {
  "useStandardizedQueries": true,
  "supportsStatistics": false,
  "supportsOrderBy": false,
  "supportsDistinct": false,
  "supportsPagination": false
 },
 "spatialReference": {
  "wkid": 2056,
  "latestWkid": 2056
 },
 "resampling": false
}
