{
 "currentVersion": 11.3,
 "serviceDescription": "HISTO_ATLAS_TERRITOIRE_1800",
 "name": "HISTO_ATLAS_TERRITOIRE_1800",
 "description": "",
 "extent": {
  "xmin": 2484441.443379931,
  "ymin": 1108787.2853686027,
  "xmax": 2513396.7141007995,
  "ymax": 1135750.4308491088,
  "spatialReference": {
   "wkid": 2056,
   "latestWkid": 2056
  }
 },
 "initialExtent": {
  "xmin": 2484441.443379931,
  "ymin": 1108787.2853686027,
  "xmax": 2513396.7141007995,
  "ymax": 1135750.4308491088,
  "spatialReference": {
   "wkid": 2056,
   "latestWkid": 2056
  }
 },
 "fullExtent": {
  "xmin": 2484441.443379931,
  "ymin": 1108787.2853686027,
  "xmax": 2513396.7141007995,
  "ymax": 1135750.4308491088,
  "spatialReference": {
   "wkid": 2056,
   "latestWkid": 2056
  }
 },
 "sortableFields": "",
 "bandCount": 3,
 "pixelType": "U8",
 "minValues": [
  0,
  0,
  0
 ],
 "maxValues": [
  255,
  255,
  255
 ],
 "meanValues": [
  215.70378073345123,
  219.12299831145788,
  216.02402263639186
 ],
 "stdvValues": [
  50.43425949471437,
  44.651489577602035,
  48.96051521265507
 ],
 "hasMultidimensions": false,
 "pixelSizeX": 1.6342290733078435,
 "pixelSizeY": 1.6342290733078442,
 "meanPixelSize": 1.6342290733078437,
 "datasetFormat": "FGDBR",
 "uncompressedSize": 876987846,
 "blockWidth": 128,
 "blockHeight": 128,
 "compressionType": "LZ77",
 "bandNames": [
  "Band_1",
  "Band_2",
  "Band_3"
 ],
 "allowCopy": true,
 "allowAnalysis": true,
 "itemAccess": false,
 "inspectionCapabilities": "",
 "minPixelSize": 0,
 "maxPixelSize": 0,
 "copyrightText": "",
 "serviceDataType": "esriImageServiceDataTypeRGB",
 "serviceSourceType": "esriImageServiceSourceTypeDataset",
 "objectIdField": "",
 "fields": [],
 "capabilities": "Mensuration,Image,Metadata",
 "defaultMosaicMethod": "Center",
 "allowedMosaicMethods": "",
 "sortField": "",
 "sortValue": null,
 "sortAscending": true,
 "mosaicOperator": "First",
 "defaultCompressionQuality": 75,
 "defaultResamplingMethod": "Bilinear",
 "maxImageHeight": 4100,
 "maxImageWidth": 15000,
 "allowRasterFunction": true,
 "rasterFunctionInfos": [
  {
   "name": "None",
   "description": "",
   "help": ""
  }
 ],
 "rasterTypeInfos": [
  {
   "name": "Raster Dataset",
   "description": "Supports all ArcGIS Raster Datasets",
   "help": ""
  }
 ],
 "mensurationCapabilities": "Basic",
 "hasHistograms": true,
 "hasColormap": false,
 "hasRasterAttributeTable": false,
 "minScale": 0,
 "maxScale": 0,
 "exportTilesAllowed": false,
 "supportsStatistics": false,
 "supportsAdvancedQueries": false,
 "editFieldsInfo": null,
 "ownershipBasedAccessControlForRasters": null,
 "allowComputeTiePoints": false,
 "useStandardizedQueries": true,
 "advancedQueryCapabilities": {
  "useStandardizedQueries": true,
  "supportsStatistics": false,
  "supportsOrderBy": false,
  "supportsDistinct": false,
  "supportsPagination": false
 },
 "spatialReference": {
  "wkid": 2056,
  "latestWkid": 2056
 },
 "resampling": false
}
