{
 "currentVersion": 11.3,
 "serviceDescription": "HISTO_CARTE_ALFANI_FORNAREZIS_1589",
 "name": "HISTO_CARTE_ALFANI_FORNAREZIS_1589",
 "description": "",
 "extent": {
  "xmin": 2456743.807595794,
  "ymin": 1070970.30601076,
  "xmax": 2583473.5003610635,
  "ymax": 1194371.1543116882,
  "spatialReference": {
   "wkid": 2056,
   "latestWkid": 2056
  }
 },
 "initialExtent": {
  "xmin": 2456743.807595794,
  "ymin": 1070970.30601076,
  "xmax": 2583473.5003610635,
  "ymax": 1194371.1543116882,
  "spatialReference": {
   "wkid": 2056,
   "latestWkid": 2056
  }
 },
 "fullExtent": {
  "xmin": 2456743.807595794,
  "ymin": 1070970.30601076,
  "xmax": 2583473.5003610635,
  "ymax": 1194371.1543116882,
  "spatialReference": {
   "wkid": 2056,
   "latestWkid": 2056
  }
 },
 "sortableFields": "",
 "bandCount": 3,
 "pixelType": "U8",
 "minValues": [
  10,
  5,
  0
 ],
 "maxValues": [
  236,
  226,
  212
 ],
 "meanValues": [
  165.6034936845073,
  153.70513325510527,
  133.5640843430826
 ],
 "stdvValues": [
  53.770794039649445,
  51.903768800552335,
  50.93802711267332
 ],
 "hasMultidimensions": false,
 "pixelSizeX": 19.466926692053676,
 "pixelSizeY": 19.466926692053676,
 "meanPixelSize": 19.466926692053676,
 "datasetFormat": "FGDBR",
 "uncompressedSize": 123800670,
 "blockWidth": 128,
 "blockHeight": 128,
 "compressionType": "LZ77",
 "bandNames": [
  "Band_1",
  "Band_2",
  "Band_3"
 ],
 "allowCopy": true,
 "allowAnalysis": true,
 "itemAccess": false,
 "inspectionCapabilities": "",
 "minPixelSize": 0,
 "maxPixelSize": 0,
 "copyrightText": "",
 "serviceDataType": "esriImageServiceDataTypeRGB",
 "serviceSourceType": "esriImageServiceSourceTypeDataset",
 "objectIdField": "",
 "fields": [],
 "capabilities": "Image,Metadata,Mensuration",
 "defaultMosaicMethod": "Center",
 "allowedMosaicMethods": "",
 "sortField": "",
 "sortValue": null,
 "sortAscending": true,
 "mosaicOperator": "First",
 "defaultCompressionQuality": 75,
 "defaultResamplingMethod": "Bilinear",
 "maxImageHeight": 4100,
 "maxImageWidth": 15000,
 "allowRasterFunction": true,
 "rasterFunctionInfos": [
  {
   "name": "None",
   "description": "",
   "help": ""
  }
 ],
 "rasterTypeInfos": [
  {
   "name": "Raster Dataset",
   "description": "Supports all ArcGIS Raster Datasets",
   "help": ""
  }
 ],
 "mensurationCapabilities": "Basic",
 "hasHistograms": true,
 "hasColormap": false,
 "hasRasterAttributeTable": false,
 "minScale": 0,
 "maxScale": 0,
 "exportTilesAllowed": false,
 "supportsStatistics": false,
 "supportsAdvancedQueries": false,
 "editFieldsInfo": null,
 "ownershipBasedAccessControlForRasters": null,
 "allowComputeTiePoints": false,
 "useStandardizedQueries": true,
 "advancedQueryCapabilities": {
  "useStandardizedQueries": true,
  "supportsStatistics": false,
  "supportsOrderBy": false,
  "supportsDistinct": false,
  "supportsPagination": false
 },
 "spatialReference": {
  "wkid": 2056,
  "latestWkid": 2056
 }
}
