<?xml version="1.0" encoding="UTF-8" standalone="no"?>
<metadata xml:lang="fr">
<Esri>
<CreaDate>20250116</CreaDate>
<CreaTime>08580900</CreaTime>
<ArcGISFormat>1.0</ArcGISFormat>
<SyncOnce>FALSE</SyncOnce>
<DataProperties>
<itemProps>
<itemName Sync="TRUE">HISTO_CARTE_BATIMENTS_CONSTRUITS_1919_1975</itemName>
<imsContentType Sync="TRUE">002</imsContentType>
<nativeExtBox>
<westBL Sync="TRUE">2486531.738494</westBL>
<eastBL Sync="TRUE">2507650.682659</eastBL>
<southBL Sync="TRUE">1111850.564721</southBL>
<northBL Sync="TRUE">1126972.323910</northBL>
<exTypeCode Sync="TRUE">1</exTypeCode>
</nativeExtBox>
<itemLocation>
<linkage Sync="TRUE">file://\\interzoneadm01\INTERZONE$\APP\GEOMATIQUE\INTRANET\DONNEES\HISTO_CARTE_BATIMENTS_CONSTRUITS_1919_1975\GDB\New File Geodatabase.gdb</linkage>
<protocol Sync="TRUE">Local Area Network</protocol>
</itemLocation>
</itemProps>
<lineage>
<Process Date="20250116" Time="085816" ToolSource="c:\program files\arcgis\pro\Resources\ArcToolbox\toolboxes\Data Management Tools.tbx\CopyRaster">CopyRaster \\interzoneadm01\INTERZONE$\APP\GEOMATIQUE\INTRANET\DONNEES\HISTO_CARTE_BATIMENTS_CONSTRUITS_1919_1975\TIFF\HISTO_CARTE_BATIMENTS_CONSTRUITS_1919_1975.tif "\\interzoneadm01\INTERZONE$\APP\GEOMATIQUE\INTRANET\DONNEES\HISTO_CARTE_BATIMENTS_CONSTRUITS_1919_1975\GDB\New File Geodatabase.gdb\HISTO_CARTE_BATIMENTS_CONSTRUITS_1919_1975" # # # NONE NONE # NONE NONE "Esri Grid format" NONE CURRENT_SLICE NO_TRANSPOSE</Process>
</lineage>
</DataProperties>
<SyncDate>20250116</SyncDate>
<SyncTime>08580900</SyncTime>
<ModDate>20250116</ModDate>
<ModTime>08580900</ModTime>
</Esri>
<dataIdInfo>
<envirDesc Sync="TRUE">Microsoft Windows 10 Version 10.0 (Build 22631) ; Esri ArcGIS 13.3.0.52636</envirDesc>
<dataLang>
<languageCode Sync="TRUE" value="fra"/>
<countryCode Sync="TRUE" value="CHE"/>
</dataLang>
<idCitation>
<resTitle Sync="TRUE">HISTO_CARTE_BATIMENTS_CONSTRUITS_1919_1975</resTitle>
<presForm>
<PresFormCd Sync="TRUE" value="011"/>
</presForm>
</idCitation>
<spatRpType>
<SpatRepTypCd Sync="TRUE" value="002"/>
</spatRpType>
<idAbs/>
<idPurp/>
<idCredit/>
<resConst>
<Consts>
<useLimit/>
</Consts>
</resConst>
</dataIdInfo>
<mdLang>
<languageCode Sync="TRUE" value="fra"/>
<countryCode Sync="TRUE" value="CHE"/>
</mdLang>
<distInfo>
<distFormat>
<formatName Sync="TRUE">File Geodatabase Raster Dataset</formatName>
</distFormat>
</distInfo>
<mdHrLv>
<ScopeCd Sync="TRUE" value="005"/>
</mdHrLv>
<mdHrLvName Sync="TRUE">dataset</mdHrLvName>
<spdoinfo>
<rastinfo>
<rasttype Sync="TRUE">Pixel</rasttype>
<rowcount Sync="TRUE">5961</rowcount>
<colcount Sync="TRUE">8313</colcount>
<rastxsz Sync="TRUE">2.540472</rastxsz>
<rastysz Sync="TRUE">2.536782</rastysz>
<rastbpp Sync="TRUE">8</rastbpp>
<vrtcount Sync="TRUE">1</vrtcount>
<rastorig Sync="TRUE">Upper Left</rastorig>
<rastcmap Sync="TRUE">FALSE</rastcmap>
<rastcomp Sync="TRUE">LZ77</rastcomp>
<rastband Sync="TRUE">3</rastband>
<rastdtyp Sync="TRUE">pixel codes</rastdtyp>
<rastifor Sync="TRUE">FGDBR</rastifor>
<rastplyr Sync="TRUE">TRUE</rastplyr>
</rastinfo>
</spdoinfo>
<spref>
<horizsys>
<planar>
<planci>
<plance Sync="TRUE">row and column</plance>
<coordrep>
<absres Sync="TRUE">2.540472</absres>
<ordres Sync="TRUE">2.536782</ordres>
</coordrep>
</planci>
</planar>
</horizsys>
</spref>
<mdDateSt Sync="TRUE">20250116</mdDateSt>
</metadata>
