{
 "currentVersion": 11.3,
 "serviceDescription": "HISTO_CARTE_DUFOUR_1842",
 "name": "HISTO_CARTE_DUFOUR_1842",
 "description": "",
 "extent": {
  "xmin": 2469342.000467128,
  "ymin": 1105927.779936903,
  "xmax": 2527501.604690549,
  "ymax": 1138456.3221564312,
  "spatialReference": {
   "wkid": 2056,
   "latestWkid": 2056
  }
 },
 "initialExtent": {
  "xmin": 2469342.000467128,
  "ymin": 1105927.779936903,
  "xmax": 2527501.604690549,
  "ymax": 1138456.3221564312,
  "spatialReference": {
   "wkid": 2056,
   "latestWkid": 2056
  }
 },
 "fullExtent": {
  "xmin": 2469342.000467128,
  "ymin": 1105927.779936903,
  "xmax": 2527501.604690549,
  "ymax": 1138456.3221564312,
  "spatialReference": {
   "wkid": 2056,
   "latestWkid": 2056
  }
 },
 "sortableFields": "",
 "bandCount": 3,
 "pixelType": "U8",
 "minValues": [
  68,
  59,
  40
 ],
 "maxValues": [
  253,
  246,
  226
 ],
 "meanValues": [
  227.49130148487487,
  218.93234434577923,
  193.14994310616922
 ],
 "stdvValues": [
  16.510627311766598,
  16.91725805439585,
  15.864452814653406
 ],
 "hasMultidimensions": false,
 "pixelSizeX": 2.1268825826813256,
 "pixelSizeY": 2.126882582681328,
 "meanPixelSize": 2.1268825826813265,
 "datasetFormat": "FGDBR",
 "uncompressedSize": 1254597408,
 "blockWidth": 128,
 "blockHeight": 128,
 "compressionType": "NONE",
 "bandNames": [
  "Band_1",
  "Band_2",
  "Band_3"
 ],
 "allowCopy": true,
 "allowAnalysis": true,
 "itemAccess": false,
 "inspectionCapabilities": "",
 "minPixelSize": 0,
 "maxPixelSize": 0,
 "copyrightText": "",
 "serviceDataType": "esriImageServiceDataTypeRGB",
 "serviceSourceType": "esriImageServiceSourceTypeDataset",
 "objectIdField": "",
 "fields": [],
 "capabilities": "Mensuration,Image,Metadata",
 "defaultMosaicMethod": "Center",
 "allowedMosaicMethods": "",
 "sortField": "",
 "sortValue": null,
 "sortAscending": true,
 "mosaicOperator": "First",
 "defaultCompressionQuality": 75,
 "defaultResamplingMethod": "Bilinear",
 "maxImageHeight": 4100,
 "maxImageWidth": 15000,
 "allowRasterFunction": true,
 "rasterFunctionInfos": [
  {
   "name": "None",
   "description": "",
   "help": ""
  }
 ],
 "rasterTypeInfos": [
  {
   "name": "Raster Dataset",
   "description": "Supports all ArcGIS Raster Datasets",
   "help": ""
  }
 ],
 "mensurationCapabilities": "Basic",
 "hasHistograms": true,
 "hasColormap": false,
 "hasRasterAttributeTable": false,
 "minScale": 0,
 "maxScale": 0,
 "exportTilesAllowed": false,
 "supportsStatistics": false,
 "supportsAdvancedQueries": false,
 "editFieldsInfo": null,
 "ownershipBasedAccessControlForRasters": null,
 "allowComputeTiePoints": false,
 "useStandardizedQueries": true,
 "advancedQueryCapabilities": {
  "useStandardizedQueries": true,
  "supportsStatistics": false,
  "supportsOrderBy": false,
  "supportsDistinct": false,
  "supportsPagination": false
 },
 "spatialReference": {
  "wkid": 2056,
  "latestWkid": 2056
 },
 "resampling": false
}
