{
 "currentVersion": 11.3,
 "serviceDescription": "HISTO_CARTE_ETAT_MAJOR_DUFOUR_ASSEMBLAGE",
 "name": "HISTO_CARTE_ETAT_MAJOR_DUFOUR_ASSEMBLAGE",
 "description": "",
 "extent": {
  "xmin": 2461949.2595659606,
  "ymin": 1093448.046094386,
  "xmax": 2558648.5940995016,
  "ymax": 1160592.7567239187,
  "spatialReference": {
   "wkid": 2056,
   "latestWkid": 2056
  }
 },
 "initialExtent": {
  "xmin": 2461949.2595659606,
  "ymin": 1093448.046094386,
  "xmax": 2558648.5940995016,
  "ymax": 1160592.7567239187,
  "spatialReference": {
   "wkid": 2056,
   "latestWkid": 2056
  }
 },
 "fullExtent": {
  "xmin": 2461949.2595659606,
  "ymin": 1093448.046094386,
  "xmax": 2558648.5940995016,
  "ymax": 1160592.7567239187,
  "spatialReference": {
   "wkid": 2056,
   "latestWkid": 2056
  }
 },
 "sortableFields": "",
 "bandCount": 3,
 "pixelType": "U8",
 "minValues": [
  0,
  0,
  0
 ],
 "maxValues": [
  255,
  250,
  237
 ],
 "meanValues": [
  100.9244265405675,
  90.80604274200682,
  73.88454299179816
 ],
 "stdvValues": [
  76.00043621307952,
  68.53871944652036,
  56.79526644669325
 ],
 "hasMultidimensions": false,
 "pixelSizeX": 1.711129220936102,
 "pixelSizeY": 1.7111292209361064,
 "meanPixelSize": 1.7111292209361042,
 "datasetFormat": "FGDBR",
 "uncompressedSize": 6652592640,
 "blockWidth": 128,
 "blockHeight": 128,
 "compressionType": "LZ77",
 "bandNames": [
  "Band_1",
  "Band_2",
  "Band_3"
 ],
 "allowCopy": true,
 "allowAnalysis": true,
 "itemAccess": false,
 "inspectionCapabilities": "",
 "minPixelSize": 0,
 "maxPixelSize": 0,
 "copyrightText": "",
 "serviceDataType": "esriImageServiceDataTypeRGB",
 "serviceSourceType": "esriImageServiceSourceTypeDataset",
 "objectIdField": "",
 "fields": [],
 "capabilities": "Mensuration,Image,Metadata",
 "defaultMosaicMethod": "Center",
 "allowedMosaicMethods": "",
 "sortField": "",
 "sortValue": null,
 "sortAscending": true,
 "mosaicOperator": "First",
 "defaultCompressionQuality": 75,
 "defaultResamplingMethod": "Bilinear",
 "maxImageHeight": 4100,
 "maxImageWidth": 15000,
 "allowRasterFunction": true,
 "rasterFunctionInfos": [
  {
   "name": "None",
   "description": "",
   "help": ""
  }
 ],
 "rasterTypeInfos": [
  {
   "name": "Raster Dataset",
   "description": "Supports all ArcGIS Raster Datasets",
   "help": ""
  }
 ],
 "mensurationCapabilities": "Basic",
 "hasHistograms": true,
 "hasColormap": false,
 "hasRasterAttributeTable": false,
 "minScale": 0,
 "maxScale": 0,
 "exportTilesAllowed": false,
 "supportsStatistics": false,
 "supportsAdvancedQueries": false,
 "editFieldsInfo": null,
 "ownershipBasedAccessControlForRasters": null,
 "allowComputeTiePoints": false,
 "useStandardizedQueries": true,
 "advancedQueryCapabilities": {
  "useStandardizedQueries": true,
  "supportsStatistics": false,
  "supportsOrderBy": false,
  "supportsDistinct": false,
  "supportsPagination": false
 },
 "spatialReference": {
  "wkid": 2056,
  "latestWkid": 2056
 },
 "resampling": false
}
