{
 "currentVersion": 11.3,
 "serviceDescription": "HISTO_CARTE_GOULART_1606",
 "name": "HISTO_CARTE_GOULART_1606",
 "description": "",
 "extent": {
  "xmin": 2448202.7709739744,
  "ymin": 1073439.4071267066,
  "xmax": 2578255.634066791,
  "ymax": 1196699.9547891761,
  "spatialReference": {
   "wkid": 2056,
   "latestWkid": 2056
  }
 },
 "initialExtent": {
  "xmin": 2448202.7709739744,
  "ymin": 1073439.4071267066,
  "xmax": 2578255.634066791,
  "ymax": 1196699.9547891761,
  "spatialReference": {
   "wkid": 2056,
   "latestWkid": 2056
  }
 },
 "fullExtent": {
  "xmin": 2448202.7709739744,
  "ymin": 1073439.4071267066,
  "xmax": 2578255.634066791,
  "ymax": 1196699.9547891761,
  "spatialReference": {
   "wkid": 2056,
   "latestWkid": 2056
  }
 },
 "sortableFields": "",
 "bandCount": 3,
 "pixelType": "U8",
 "minValues": [
  0,
  0,
  0
 ],
 "maxValues": [
  232,
  219,
  208
 ],
 "meanValues": [
  147.06897176597653,
  122.99326870328704,
  88.78445564389142
 ],
 "stdvValues": [
  42.76646765878907,
  38.74351927703569,
  35.78619411064591
 ],
 "hasMultidimensions": false,
 "pixelSizeX": 19.977398324549377,
 "pixelSizeY": 19.977398324549362,
 "meanPixelSize": 19.97739832454937,
 "datasetFormat": "FGDBR",
 "uncompressedSize": 120500100,
 "blockWidth": 128,
 "blockHeight": 128,
 "compressionType": "LZ77",
 "bandNames": [
  "Band_1",
  "Band_2",
  "Band_3"
 ],
 "allowCopy": true,
 "allowAnalysis": true,
 "itemAccess": false,
 "inspectionCapabilities": "",
 "minPixelSize": 0,
 "maxPixelSize": 0,
 "copyrightText": "",
 "serviceDataType": "esriImageServiceDataTypeRGB",
 "serviceSourceType": "esriImageServiceSourceTypeDataset",
 "objectIdField": "",
 "fields": [],
 "capabilities": "Mensuration,Image,Metadata",
 "defaultMosaicMethod": "Center",
 "allowedMosaicMethods": "",
 "sortField": "",
 "sortValue": null,
 "sortAscending": true,
 "mosaicOperator": "First",
 "defaultCompressionQuality": 75,
 "defaultResamplingMethod": "Bilinear",
 "maxImageHeight": 4100,
 "maxImageWidth": 15000,
 "allowRasterFunction": true,
 "rasterFunctionInfos": [
  {
   "name": "None",
   "description": "",
   "help": ""
  }
 ],
 "rasterTypeInfos": [
  {
   "name": "Raster Dataset",
   "description": "Supports all ArcGIS Raster Datasets",
   "help": ""
  }
 ],
 "mensurationCapabilities": "Basic",
 "hasHistograms": true,
 "hasColormap": false,
 "hasRasterAttributeTable": false,
 "minScale": 0,
 "maxScale": 0,
 "exportTilesAllowed": false,
 "supportsStatistics": false,
 "supportsAdvancedQueries": false,
 "editFieldsInfo": null,
 "ownershipBasedAccessControlForRasters": null,
 "allowComputeTiePoints": false,
 "useStandardizedQueries": true,
 "advancedQueryCapabilities": {
  "useStandardizedQueries": true,
  "supportsStatistics": false,
  "supportsOrderBy": false,
  "supportsDistinct": false,
  "supportsPagination": false
 },
 "spatialReference": {
  "wkid": 2056,
  "latestWkid": 2056
 },
 "resampling": false
}
