{
 "currentVersion": 11.3,
 "serviceDescription": "HISTO_CARTE_MICHELI_DU_CREST_1718",
 "name": "HISTO_CARTE_MICHELI_DU_CREST_1718",
 "description": "",
 "extent": {
  "xmin": 2498991.3999999985,
  "ymin": 1116360.1999999995,
  "xmax": 2501612.999999998,
  "ymax": 1118911.3999999992,
  "spatialReference": {
   "wkid": 2056,
   "latestWkid": 2056
  }
 },
 "initialExtent": {
  "xmin": 2498991.3999999985,
  "ymin": 1116360.1999999995,
  "xmax": 2501612.999999998,
  "ymax": 1118911.3999999992,
  "spatialReference": {
   "wkid": 2056,
   "latestWkid": 2056
  }
 },
 "fullExtent": {
  "xmin": 2498991.3999999985,
  "ymin": 1116360.1999999995,
  "xmax": 2501612.999999998,
  "ymax": 1118911.3999999992,
  "spatialReference": {
   "wkid": 2056,
   "latestWkid": 2056
  }
 },
 "sortableFields": "",
 "bandCount": 3,
 "pixelType": "U8",
 "minValues": [
  49,
  38,
  14
 ],
 "maxValues": [
  255,
  255,
  254
 ],
 "meanValues": [
  191.49320578110155,
  179.53423169579204,
  171.13549032158144
 ],
 "stdvValues": [
  23.450290194043188,
  25.769419834872195,
  29.05327252128443
 ],
 "hasMultidimensions": false,
 "pixelSizeX": 0.1999999999999716,
 "pixelSizeY": 0.19999999999997808,
 "meanPixelSize": 0.19999999999997484,
 "datasetFormat": "FGDBR",
 "uncompressedSize": 501616944,
 "blockWidth": 128,
 "blockHeight": 128,
 "compressionType": "LZ77",
 "bandNames": [
  "Band_1",
  "Band_2",
  "Band_3"
 ],
 "allowCopy": true,
 "allowAnalysis": true,
 "itemAccess": false,
 "inspectionCapabilities": "",
 "minPixelSize": 0,
 "maxPixelSize": 0,
 "copyrightText": "",
 "serviceDataType": "esriImageServiceDataTypeRGB",
 "serviceSourceType": "esriImageServiceSourceTypeDataset",
 "objectIdField": "",
 "fields": [],
 "capabilities": "Mensuration,Image,Metadata",
 "defaultMosaicMethod": "Center",
 "allowedMosaicMethods": "",
 "sortField": "",
 "sortValue": null,
 "sortAscending": true,
 "mosaicOperator": "First",
 "defaultCompressionQuality": 75,
 "defaultResamplingMethod": "Bilinear",
 "maxImageHeight": 4100,
 "maxImageWidth": 15000,
 "allowRasterFunction": true,
 "rasterFunctionInfos": [
  {
   "name": "None",
   "description": "",
   "help": ""
  }
 ],
 "rasterTypeInfos": [
  {
   "name": "Raster Dataset",
   "description": "Supports all ArcGIS Raster Datasets",
   "help": ""
  }
 ],
 "mensurationCapabilities": "Basic",
 "hasHistograms": true,
 "hasColormap": false,
 "hasRasterAttributeTable": false,
 "minScale": 0,
 "maxScale": 0,
 "exportTilesAllowed": false,
 "supportsStatistics": false,
 "supportsAdvancedQueries": false,
 "editFieldsInfo": null,
 "ownershipBasedAccessControlForRasters": null,
 "allowComputeTiePoints": false,
 "useStandardizedQueries": true,
 "advancedQueryCapabilities": {
  "useStandardizedQueries": true,
  "supportsStatistics": false,
  "supportsOrderBy": false,
  "supportsDistinct": false,
  "supportsPagination": false
 },
 "spatialReference": {
  "wkid": 2056,
  "latestWkid": 2056
 },
 "resampling": false
}
