{
 "currentVersion": 11.3,
 "serviceDescription": "HISTO_CARTE_MICHELI_DU_CREST_1730",
 "name": "HISTO_CARTE_MICHELI_DU_CREST_1730",
 "description": "",
 "extent": {
  "xmin": 2493673.849555243,
  "ymin": 1110616.1764080522,
  "xmax": 2507463.591593643,
  "ymax": 1123389.9117062911,
  "spatialReference": {
   "wkid": 2056,
   "latestWkid": 2056
  }
 },
 "initialExtent": {
  "xmin": 2493673.849555243,
  "ymin": 1110616.1764080522,
  "xmax": 2507463.591593643,
  "ymax": 1123389.9117062911,
  "spatialReference": {
   "wkid": 2056,
   "latestWkid": 2056
  }
 },
 "fullExtent": {
  "xmin": 2493673.849555243,
  "ymin": 1110616.1764080522,
  "xmax": 2507463.591593643,
  "ymax": 1123389.9117062911,
  "spatialReference": {
   "wkid": 2056,
   "latestWkid": 2056
  }
 },
 "sortableFields": "",
 "bandCount": 3,
 "pixelType": "U8",
 "minValues": [
  29,
  22,
  11
 ],
 "maxValues": [
  251,
  241,
  226
 ],
 "meanValues": [
  177.58775397735445,
  162.6425275410126,
  129.65025727030047
 ],
 "stdvValues": [
  26.14481970003379,
  23.30201573202567,
  22.33807296961865
 ],
 "hasMultidimensions": false,
 "pixelSizeX": 1.8884883646124868,
 "pixelSizeY": 1.8884883646124966,
 "meanPixelSize": 1.8884883646124917,
 "datasetFormat": "FGDBR",
 "uncompressedSize": 148172184,
 "blockWidth": 128,
 "blockHeight": 128,
 "compressionType": "LZ77",
 "bandNames": [
  "Band_1",
  "Band_2",
  "Band_3"
 ],
 "allowCopy": true,
 "allowAnalysis": true,
 "itemAccess": false,
 "inspectionCapabilities": "",
 "minPixelSize": 0,
 "maxPixelSize": 0,
 "copyrightText": "",
 "serviceDataType": "esriImageServiceDataTypeRGB",
 "serviceSourceType": "esriImageServiceSourceTypeDataset",
 "objectIdField": "",
 "fields": [],
 "capabilities": "Mensuration,Image,Metadata",
 "defaultMosaicMethod": "Center",
 "allowedMosaicMethods": "",
 "sortField": "",
 "sortValue": null,
 "sortAscending": true,
 "mosaicOperator": "First",
 "defaultCompressionQuality": 75,
 "defaultResamplingMethod": "Bilinear",
 "maxImageHeight": 4100,
 "maxImageWidth": 15000,
 "allowRasterFunction": true,
 "rasterFunctionInfos": [
  {
   "name": "None",
   "description": "",
   "help": ""
  }
 ],
 "rasterTypeInfos": [
  {
   "name": "Raster Dataset",
   "description": "Supports all ArcGIS Raster Datasets",
   "help": ""
  }
 ],
 "mensurationCapabilities": "Basic",
 "hasHistograms": true,
 "hasColormap": false,
 "hasRasterAttributeTable": false,
 "minScale": 0,
 "maxScale": 0,
 "exportTilesAllowed": false,
 "supportsStatistics": false,
 "supportsAdvancedQueries": false,
 "editFieldsInfo": null,
 "ownershipBasedAccessControlForRasters": null,
 "allowComputeTiePoints": false,
 "useStandardizedQueries": true,
 "advancedQueryCapabilities": {
  "useStandardizedQueries": true,
  "supportsStatistics": false,
  "supportsOrderBy": false,
  "supportsDistinct": false,
  "supportsPagination": false
 },
 "spatialReference": {
  "wkid": 2056,
  "latestWkid": 2056
 },
 "resampling": false
}
