{
 "currentVersion": 11.3,
 "serviceDescription": "HISTO_CARTE_TRAITE_TURIN_PARIS_ANNEXE_01_1749",
 "name": "HISTO_CARTE_TRAITE_TURIN_PARIS_ANNEXE_01_1749",
 "description": "",
 "extent": {
  "xmin": 2484204.073955151,
  "ymin": 1113473.3491534942,
  "xmax": 2502704.268155906,
  "ymax": 1127325.5403468644,
  "spatialReference": {
   "wkid": 2056,
   "latestWkid": 2056
  }
 },
 "initialExtent": {
  "xmin": 2484204.073955151,
  "ymin": 1113473.3491534942,
  "xmax": 2502704.268155906,
  "ymax": 1127325.5403468644,
  "spatialReference": {
   "wkid": 2056,
   "latestWkid": 2056
  }
 },
 "fullExtent": {
  "xmin": 2484204.073955151,
  "ymin": 1113473.3491534942,
  "xmax": 2502704.268155906,
  "ymax": 1127325.5403468644,
  "spatialReference": {
   "wkid": 2056,
   "latestWkid": 2056
  }
 },
 "sortableFields": "",
 "bandCount": 3,
 "pixelType": "U8",
 "minValues": [
  34,
  21,
  14
 ],
 "maxValues": [
  255,
  255,
  255
 ],
 "meanValues": [
  223.64619973975132,
  214.0523102932015,
  189.606864844402
 ],
 "stdvValues": [
  19.696571544193485,
  19.03396676824845,
  19.256538023254436
 ],
 "hasMultidimensions": false,
 "pixelSizeX": 0.4393197549513214,
 "pixelSizeY": 0.43931975495132247,
 "meanPixelSize": 0.4393197549513219,
 "datasetFormat": "FGDBR",
 "uncompressedSize": 3983405823,
 "blockWidth": 128,
 "blockHeight": 128,
 "compressionType": "LZ77",
 "bandNames": [
  "Band_1",
  "Band_2",
  "Band_3"
 ],
 "allowCopy": true,
 "allowAnalysis": true,
 "itemAccess": false,
 "inspectionCapabilities": "",
 "minPixelSize": 0,
 "maxPixelSize": 0,
 "copyrightText": "",
 "serviceDataType": "esriImageServiceDataTypeRGB",
 "serviceSourceType": "esriImageServiceSourceTypeDataset",
 "objectIdField": "",
 "fields": [],
 "capabilities": "Mensuration,Image,Metadata",
 "defaultMosaicMethod": "Center",
 "allowedMosaicMethods": "",
 "sortField": "",
 "sortValue": null,
 "sortAscending": true,
 "mosaicOperator": "First",
 "defaultCompressionQuality": 75,
 "defaultResamplingMethod": "Bilinear",
 "maxImageHeight": 4100,
 "maxImageWidth": 15000,
 "allowRasterFunction": true,
 "rasterFunctionInfos": [
  {
   "name": "None",
   "description": "",
   "help": ""
  }
 ],
 "rasterTypeInfos": [
  {
   "name": "Raster Dataset",
   "description": "Supports all ArcGIS Raster Datasets",
   "help": ""
  }
 ],
 "mensurationCapabilities": "Basic",
 "hasHistograms": true,
 "hasColormap": false,
 "hasRasterAttributeTable": false,
 "minScale": 0,
 "maxScale": 0,
 "exportTilesAllowed": false,
 "supportsStatistics": false,
 "supportsAdvancedQueries": false,
 "editFieldsInfo": null,
 "ownershipBasedAccessControlForRasters": null,
 "allowComputeTiePoints": false,
 "useStandardizedQueries": true,
 "advancedQueryCapabilities": {
  "useStandardizedQueries": true,
  "supportsStatistics": false,
  "supportsOrderBy": false,
  "supportsDistinct": false,
  "supportsPagination": false
 },
 "spatialReference": {
  "wkid": 2056,
  "latestWkid": 2056
 },
 "resampling": false
}
