<?xml version="1.0" encoding="UTF-8" standalone="no"?>
<metadata xml:lang="fr">
<Esri>
<CreaDate>20140116</CreaDate>
<CreaTime>12124300</CreaTime>
<ArcGISFormat>1.0</ArcGISFormat>
<SyncOnce>FALSE</SyncOnce>
<DataProperties>
<lineage>
<Process Date="20140116" Time="121243" ToolSource="C:\Program Files (x86)\ArcGIS\Desktop10.0\ArcToolbox\Toolboxes\Data Management Tools.tbx\CreateMosaicDataset">CreateMosaicDataset \\geode\raster_mn95\CARTES_HISTORIQUES\Traite_Turin.gdb Annexe_2_1754 "PROJCS['CH1903+_LV95',GEOGCS['GCS_CH1903+',DATUM['D_CH1903+',SPHEROID['Bessel_1841',6377397.155,299.1528128]],PRIMEM['Greenwich',0.0],UNIT['Degree',0.0174532925199433]],PROJECTION['Hotine_Oblique_Mercator_Azimuth_Center'],PARAMETER['False_Easting',2600000.0],PARAMETER['False_Northing',1200000.0],PARAMETER['Scale_Factor',1.0],PARAMETER['Azimuth',90.0],PARAMETER['Longitude_Of_Center',7.439583333333333],PARAMETER['Latitude_Of_Center',46.95240555555556],UNIT['Meter',1.0]];-27386400 -32067900 140996569.55188;-100000 10000;-100000 10000;0.001;0.001;0.001;IsHighPrecision" # #</Process>
<Process Date="20140116" Time="121356" ToolSource="C:\Program Files (x86)\ArcGIS\Desktop10.0\ArcToolbox\Toolboxes\Data Management Tools.tbx\AddRastersToMosaicDataset">AddRastersToMosaicDataset \\geode\raster_mn95\CARTES_HISTORIQUES\Traite_Turin.gdb\Annexe_2_1754 "Raster Dataset @ \\geode\raster_mn95\CARTES_HISTORIQUES\Traite_Turin.gdb\Annexe_2_1754\RasterType.OBJECTID=1" \\geode\raster_mn95\CARTES_HISTORIQUES\AnnexsTurin\Plans_annexes_des_traites_2_1754\Annexe_2_1754.tif UPDATE_CELL_SIZES UPDATE_BOUNDARY NO_OVERVIEWS # 0 1500 # # SUBFOLDERS ALLOW_DUPLICATES NO_PYRAMIDS NO_STATISTICS NO_THUMBNAILS #</Process>
<Process Date="20140116" Time="121515" ToolSource="C:\Program Files (x86)\ArcGIS\Desktop10.0\ArcToolbox\Toolboxes\Data Management Tools.tbx\ImportMosaicDatasetGeometry">ImportMosaicDatasetGeometry \\geode\raster_mn95\CARTES_HISTORIQUES\Traite_Turin.gdb\Annexe_2_1754 FOOTPRINT Name \\geode\raster_mn95\CARTES_HISTORIQUES\Traite_Turin.gdb\Annexe_2 Texte</Process>
<Process Date="20140116" Time="121706" ToolSource="C:\Program Files (x86)\ArcGIS\Desktop10.0\ArcToolbox\Toolboxes\Data Management Tools.tbx\BuildOverviews">BuildOverviews \\geode\raster_mn95\CARTES_HISTORIQUES\Traite_Turin.gdb\Annexe_2_1754 # DEFINE_MISSING_TILES GENERATE_OVERVIEWS GENERATE_MISSING_IMAGES REGENERATE_STALE_IMAGES</Process>
<Process Date="20160614" Time="112249" ToolSource="c:\program files (x86)\arcgis\desktop10.3\ArcToolbox\Toolboxes\Data Management Tools.tbx\CopyRaster">CopyRaster \\geode\RASTER_MN95\CARTES_HISTORIQUES\Traite_Turin.gdb\Annexe_02_1754_Turin \\sitgsrv01\INTRANET\DONNEES_RASTER\PLANS\PLANS_HISTORIQUES\ANNEXES_TRAITES_TURIN_PARIS_1749_1933\ANNEXES_TRAITES_TURIN_PARIS_1749_1933.gdb\ANNEXE_02_1754_TURIN_1 # # 256 NONE NONE # NONE NONE</Process>
<Process Date="20250114" Time="133817" ToolSource="c:\program files\arcgis\pro\Resources\ArcToolbox\toolboxes\Data Management Tools.tbx\CopyMultiple">CopyMultiple "\\interzoneadm01\INTERZONE$\APP\GEOMATIQUE\INTRANET\DONNEES\HISTO_CARTE_TRAITE_TURIN_PARIS_ANNEXES\GDB\HISTO_CARTE_TRAITE_TURIN_PARIS_ANNEXES.gdb\ANNEXE_02_1754_TURIN RasterDataset" "\\interzoneadm01\INTERZONE$\APP\GEOMATIQUE\INTRANET\DONNEES\HISTO_CARTE_TRAITE_TURIN_PARIS_ANNEXES\GDB\New File Geodatabase.gdb" ANNEXE_02_1754_TURIN "ANNEXE_02_1754_TURIN RasterDataset ANNEXE_02_1754_TURIN #"</Process>
<Process Date="20250114" Time="163755" ToolSource="c:\program files\arcgis\pro\Resources\ArcToolbox\toolboxes\Data Management Tools.tbx\Rename">Rename \\interzoneadm01\INTERZONE$\APP\GEOMATIQUE\INTRANET\DONNEES\HISTO_CARTE_TRAITE_TURIN_PARIS_ANNEXES\GDB\HISTO_CARTE_TRAITE_TURIN_PARIS_ANNEXE_02_1754.gdb\ANNEXE_02_1754_TURIN \\interzoneadm01\INTERZONE$\APP\GEOMATIQUE\INTRANET\DONNEES\HISTO_CARTE_TRAITE_TURIN_PARIS_ANNEXES\GDB\HISTO_CARTE_TRAITE_TURIN_PARIS_ANNEXE_02_1754.gdb\HISTO_CARTE_TRAITE_TURIN_PARIS_ANNEXE_02_1754 RasterDataset</Process>
</lineage>
<itemProps>
<itemName Sync="TRUE">ANNEXE_02_1754_TURIN_1</itemName>
<itemLocation>
<linkage Sync="TRUE">file://\\sitgsrv01\INTRANET\DONNEES_RASTER\PLANS\PLANS_HISTORIQUES\ANNEXES_TRAITES_TURIN_PARIS_1749_1933\ANNEXES_TRAITES_TURIN_PARIS_1749_1933.gdb</linkage>
<protocol Sync="TRUE">Local Area Network</protocol>
</itemLocation>
<nativeExtBox>
<westBL Sync="TRUE">2480824.070497</westBL>
<eastBL Sync="TRUE">2518758.751760</eastBL>
<southBL Sync="TRUE">1099818.011774</southBL>
<northBL Sync="TRUE">1126654.949584</northBL>
<exTypeCode Sync="TRUE">1</exTypeCode>
</nativeExtBox>
<imsContentType Sync="TRUE">002</imsContentType>
</itemProps>
<coordRef>
<type Sync="TRUE">Projected</type>
<geogcsn Sync="TRUE">GCS_CH1903+</geogcsn>
<projcsn Sync="TRUE">CH1903+_LV95</projcsn>
<peXml Sync="TRUE">&lt;ProjectedCoordinateSystem xsi:type='typens:ProjectedCoordinateSystem' xmlns:xsi='http://www.w3.org/2001/XMLSchema-instance' xmlns:xs='http://www.w3.org/2001/XMLSchema' xmlns:typens='http://www.esri.com/schemas/ArcGIS/10.3'&gt;&lt;WKT&gt;PROJCS[&amp;quot;CH1903+_LV95&amp;quot;,GEOGCS[&amp;quot;GCS_CH1903+&amp;quot;,DATUM[&amp;quot;D_CH1903+&amp;quot;,SPHEROID[&amp;quot;Bessel_1841&amp;quot;,6377397.155,299.1528128]],PRIMEM[&amp;quot;Greenwich&amp;quot;,0.0],UNIT[&amp;quot;Degree&amp;quot;,0.0174532925199433]],PROJECTION[&amp;quot;Hotine_Oblique_Mercator_Azimuth_Center&amp;quot;],PARAMETER[&amp;quot;False_Easting&amp;quot;,2600000.0],PARAMETER[&amp;quot;False_Northing&amp;quot;,1200000.0],PARAMETER[&amp;quot;Scale_Factor&amp;quot;,1.0],PARAMETER[&amp;quot;Azimuth&amp;quot;,90.0],PARAMETER[&amp;quot;Longitude_Of_Center&amp;quot;,7.439583333333333],PARAMETER[&amp;quot;Latitude_Of_Center&amp;quot;,46.95240555555556],UNIT[&amp;quot;Meter&amp;quot;,1.0],AUTHORITY[&amp;quot;EPSG&amp;quot;,2056]]&lt;/WKT&gt;&lt;XOrigin&gt;-27386400&lt;/XOrigin&gt;&lt;YOrigin&gt;-32067900&lt;/YOrigin&gt;&lt;XYScale&gt;140996569.55187955&lt;/XYScale&gt;&lt;ZOrigin&gt;-100000&lt;/ZOrigin&gt;&lt;ZScale&gt;10000&lt;/ZScale&gt;&lt;MOrigin&gt;-100000&lt;/MOrigin&gt;&lt;MScale&gt;10000&lt;/MScale&gt;&lt;XYTolerance&gt;0.001&lt;/XYTolerance&gt;&lt;ZTolerance&gt;0.001&lt;/ZTolerance&gt;&lt;MTolerance&gt;0.001&lt;/MTolerance&gt;&lt;HighPrecision&gt;true&lt;/HighPrecision&gt;&lt;WKID&gt;2056&lt;/WKID&gt;&lt;LatestWKID&gt;2056&lt;/LatestWKID&gt;&lt;/ProjectedCoordinateSystem&gt;</peXml>
<csUnits Sync="TRUE">Linear Unit: Meter (1.000000)</csUnits>
</coordRef>
<RasterProperties>
<General>
<PixelDepth Sync="TRUE">8</PixelDepth>
<HasColormap Sync="TRUE">FALSE</HasColormap>
<CompressionType Sync="TRUE">None</CompressionType>
<NumBands Sync="TRUE">3</NumBands>
<Format Sync="TRUE">AMD</Format>
<HasPyramids Sync="TRUE">TRUE</HasPyramids>
<SourceType Sync="TRUE">continuous</SourceType>
<PixelType Sync="TRUE">unsigned integer</PixelType>
<NoDataValue Sync="TRUE">256</NoDataValue>
</General>
<Properties>
<MaxImageHeight Sync="TRUE">30000</MaxImageHeight>
<MaxImageWidth Sync="TRUE">30000</MaxImageWidth>
<MaxRecordCount Sync="TRUE">1000</MaxRecordCount>
<MaxDownloadImageCount Sync="TRUE">20</MaxDownloadImageCount>
<MaxMosaicImageCount Sync="TRUE">20</MaxMosaicImageCount>
<DefaultCompressionQuality Sync="TRUE">75</DefaultCompressionQuality>
<ViewpointSpacingX Sync="TRUE">600</ViewpointSpacingX>
<ViewpointSpacingY Sync="TRUE">300</ViewpointSpacingY>
<AllowedItemMetadata Sync="TRUE">Full</AllowedItemMetadata>
<DefaultResamplingMethod Sync="TRUE">1</DefaultResamplingMethod>
<AllowedMosaicMethods Sync="TRUE">Center,NorthWest,LockRaster,ByAttribute,Nadir,Viewpoint,Seamline,None</AllowedMosaicMethods>
<AllowedCompressions Sync="TRUE">JPEG,None,LZ77</AllowedCompressions>
<AvailableMosaicMethods Sync="TRUE">Center,NorthWest,LockRaster,ByAttribute,Nadir,Viewpoint,Seamline,None</AvailableMosaicMethods>
<AvailableCompressionMethods Sync="TRUE">None,JPEG,LZ77</AvailableCompressionMethods>
<AvailableItemMetadataLevels Sync="TRUE">None,Basic,Full</AvailableItemMetadataLevels>
<ConfigKeyword Sync="TRUE"/>
<AllowedFields Sync="TRUE">Name,MinPS,MaxPS,LowPS,HighPS,Tag,GroupName,ProductName,CenterX,CenterY,ZOrder,SOrder,StereoID,Shape_Length,Shape_Area</AllowedFields>
<ClipToFootprint Sync="TRUE">-1</ClipToFootprint>
<ApplyColorCorrection Sync="TRUE">0</ApplyColorCorrection>
<TimeValueFormat Sync="TRUE"/>
<EndTimeFieldName Sync="TRUE"/>
<StartTimeFieldName Sync="TRUE"/>
<MosaicOperator Sync="TRUE">1</MosaicOperator>
<UseTime Sync="TRUE">0</UseTime>
<SortAscending Sync="TRUE">-1</SortAscending>
<IsPreprocessedData Sync="TRUE">0</IsPreprocessedData>
<SortField Sync="TRUE">Name</SortField>
<SortValue Sync="TRUE">0</SortValue>
</Properties>
<Functions Sync="TRUE">
<Function Description="Effectue une mosaïque à la volée sur un catalogue d’images." Name="Fonction Mosaïque"/>
</Functions>
</RasterProperties>
</DataProperties>
<SyncDate>20160614</SyncDate>
<SyncTime>11222900</SyncTime>
<ModDate>20160614</ModDate>
<ModTime>11222900</ModTime>
<Service Sync="TRUE">Annexe_2_1754</Service>
<ServiceType Sync="TRUE">image</ServiceType>
</Esri>
<dataIdInfo>
<envirDesc Sync="TRUE">Microsoft Windows 7 Version 6.1 (Build 7601) Service Pack 1; Esri ArcGIS 10.3.1.4959</envirDesc>
<dataLang>
<languageCode country="CHE" value="fra"/>
<countryCode Sync="TRUE" value="CHE"/>
</dataLang>
<idCitation>
<resTitle Sync="TRUE">HISTO_CARTE_TRAITE_TURIN_PARIS_ANNEXE_02_1754</resTitle>
<presForm>
<PresFormCd value="005"/>
</presForm>
</idCitation>
<spatRpType>
<SpatRepTypCd value="002"/>
</spatRpType>
<dataExt>
<geoEle>
<GeoBndBox esriExtentType="search">
<westBL Sync="TRUE">5.893044</westBL>
<eastBL Sync="TRUE">6.389910</eastBL>
<northBL Sync="TRUE">46.287637</northBL>
<southBL Sync="TRUE">46.040580</southBL>
<exTypeCode Sync="TRUE">1</exTypeCode>
</GeoBndBox>
</geoEle>
</dataExt>
<idAbs/>
<idPurp/>
<idCredit/>
<resConst>
<Consts>
<useLimit/>
</Consts>
</resConst>
</dataIdInfo>
<mdLang>
<languageCode value="fra"/>
<countryCode Sync="TRUE" value="CHE"/>
</mdLang>
<refSysInfo>
<RefSystem>
<refSysID>
<identCode code="2056"/>
<idCodeSpace Sync="TRUE">EPSG</idCodeSpace>
<idVersion Sync="TRUE">8.6.2</idVersion>
</refSysID>
</RefSystem>
</refSysInfo>
<spatRepInfo>
<Georect>
<cellGeo>
<CellGeoCd Sync="TRUE" value="002"/>
</cellGeo>
<numDims Sync="TRUE">2</numDims>
<tranParaAv Sync="TRUE">1</tranParaAv>
<chkPtAv Sync="TRUE">0</chkPtAv>
<cornerPts>
<pos Sync="TRUE">2480824.070497 1099818.011774</pos>
</cornerPts>
<cornerPts>
<pos Sync="TRUE">2480824.070497 1126654.949584</pos>
</cornerPts>
<cornerPts>
<pos Sync="TRUE">2518758.751760 1126654.949584</pos>
</cornerPts>
<cornerPts>
<pos Sync="TRUE">2518758.751760 1099818.011774</pos>
</cornerPts>
<centerPt>
<pos Sync="TRUE">2499791.411128 1113236.480679</pos>
</centerPt>
<axisDimension type="002">
<dimSize Sync="TRUE">14360</dimSize>
<dimResol>
<value Sync="TRUE" uom="Meter">2.641691</value>
</dimResol>
</axisDimension>
<axisDimension type="001">
<dimSize Sync="TRUE">10159</dimSize>
<dimResol>
<value Sync="TRUE" uom="Meter">2.641691</value>
</dimResol>
</axisDimension>
<ptInPixel>
<PixOrientCd Sync="TRUE" value="001"/>
</ptInPixel>
</Georect>
</spatRepInfo>
<contInfo>
<ImgDesc>
<contentTyp>
<ContentTypCd Sync="TRUE" value="001"/>
</contentTyp>
<covDim>
<Band>
<dimDescrp Sync="TRUE">Band_1</dimDescrp>
<bitsPerVal Sync="TRUE">8</bitsPerVal>
<valUnit>
<UOM type="length">
<unitSymbol Sync="TRUE">Meter</unitSymbol>
</UOM>
</valUnit>
</Band>
<Band>
<dimDescrp Sync="TRUE">Band_2</dimDescrp>
<bitsPerVal Sync="TRUE">8</bitsPerVal>
<valUnit>
<UOM type="length">
<unitSymbol Sync="TRUE">Meter</unitSymbol>
</UOM>
</valUnit>
</Band>
<Band>
<dimDescrp Sync="TRUE">Band_3</dimDescrp>
<bitsPerVal Sync="TRUE">8</bitsPerVal>
<valUnit>
<UOM type="length">
<unitSymbol Sync="TRUE">Meter</unitSymbol>
</UOM>
</valUnit>
</Band>
</covDim>
</ImgDesc>
</contInfo>
<mdDateSt Sync="TRUE">20160614</mdDateSt>
<idinfo>
<citation>
<citeinfo>
<origin/>
</citeinfo>
</citation>
<descript>
<abstract>Annexe_2_1754</abstract>
</descript>
</idinfo>
<eainfo>
<detailed Name="AMD_Annexe_2_1754_CAT">
<enttyp>
<enttypl Sync="TRUE">AMD_Annexe_2_1754_CAT</enttypl>
<enttypt Sync="TRUE">Feature Class</enttypt>
<enttypc Sync="TRUE">3</enttypc>
</enttyp>
<attr>
<attrlabl Sync="TRUE">OBJECTID</attrlabl>
<attalias Sync="TRUE">OBJECTID</attalias>
<attrtype Sync="TRUE">OID</attrtype>
<attwidth Sync="TRUE">4</attwidth>
<atprecis Sync="TRUE">0</atprecis>
<attscale Sync="TRUE">0</attscale>
<attrdef Sync="TRUE">Internal feature number.</attrdef>
<attrdefs Sync="TRUE">ESRI</attrdefs>
<attrdomv>
<udom Sync="TRUE">Sequential unique whole numbers that are automatically generated.</udom>
</attrdomv>
</attr>
<attr>
<attrlabl Sync="TRUE">Shape</attrlabl>
<attalias Sync="TRUE">Shape</attalias>
<attrtype Sync="TRUE">Geometry</attrtype>
<attwidth Sync="TRUE">0</attwidth>
<atprecis Sync="TRUE">0</atprecis>
<attscale Sync="TRUE">0</attscale>
<attrdef Sync="TRUE">Feature geometry.</attrdef>
<attrdefs Sync="TRUE">ESRI</attrdefs>
<attrdomv>
<udom Sync="TRUE">Coordinates defining the features.</udom>
</attrdomv>
</attr>
<attr>
<attrlabl Sync="TRUE">Raster</attrlabl>
<attalias Sync="TRUE">Raster</attalias>
<attrtype Sync="TRUE">Raster</attrtype>
<attwidth Sync="TRUE">0</attwidth>
<atprecis Sync="TRUE">0</atprecis>
<attscale Sync="TRUE">0</attscale>
</attr>
<attr>
<attrlabl Sync="TRUE">Name</attrlabl>
<attalias Sync="TRUE">Name</attalias>
<attrtype Sync="TRUE">String</attrtype>
<attwidth Sync="TRUE">50</attwidth>
<atprecis Sync="TRUE">0</atprecis>
<attscale Sync="TRUE">0</attscale>
</attr>
<attr>
<attrlabl Sync="TRUE">MinPS</attrlabl>
<attalias Sync="TRUE">MinPS</attalias>
<attrtype Sync="TRUE">Double</attrtype>
<attwidth Sync="TRUE">8</attwidth>
<atprecis Sync="TRUE">0</atprecis>
<attscale Sync="TRUE">0</attscale>
</attr>
<attr>
<attrlabl Sync="TRUE">MaxPS</attrlabl>
<attalias Sync="TRUE">MaxPS</attalias>
<attrtype Sync="TRUE">Double</attrtype>
<attwidth Sync="TRUE">8</attwidth>
<atprecis Sync="TRUE">0</atprecis>
<attscale Sync="TRUE">0</attscale>
</attr>
<attr>
<attrlabl Sync="TRUE">LowPS</attrlabl>
<attalias Sync="TRUE">LowPS</attalias>
<attrtype Sync="TRUE">Double</attrtype>
<attwidth Sync="TRUE">8</attwidth>
<atprecis Sync="TRUE">0</atprecis>
<attscale Sync="TRUE">0</attscale>
</attr>
<attr>
<attrlabl Sync="TRUE">HighPS</attrlabl>
<attalias Sync="TRUE">HighPS</attalias>
<attrtype Sync="TRUE">Double</attrtype>
<attwidth Sync="TRUE">8</attwidth>
<atprecis Sync="TRUE">0</atprecis>
<attscale Sync="TRUE">0</attscale>
</attr>
<attr>
<attrlabl Sync="TRUE">Category</attrlabl>
<attalias Sync="TRUE">Category</attalias>
<attrtype Sync="TRUE">Integer</attrtype>
<attwidth Sync="TRUE">4</attwidth>
<atprecis Sync="TRUE">0</atprecis>
<attscale Sync="TRUE">0</attscale>
</attr>
<attr>
<attrlabl Sync="TRUE">Tag</attrlabl>
<attalias Sync="TRUE">Tag</attalias>
<attrtype Sync="TRUE">String</attrtype>
<attwidth Sync="TRUE">20</attwidth>
<atprecis Sync="TRUE">0</atprecis>
<attscale Sync="TRUE">0</attscale>
</attr>
<attr>
<attrlabl Sync="TRUE">GroupName</attrlabl>
<attalias Sync="TRUE">GroupName</attalias>
<attrtype Sync="TRUE">String</attrtype>
<attwidth Sync="TRUE">50</attwidth>
<atprecis Sync="TRUE">0</atprecis>
<attscale Sync="TRUE">0</attscale>
</attr>
<attr>
<attrlabl Sync="TRUE">ProductName</attrlabl>
<attalias Sync="TRUE">ProductName</attalias>
<attrtype Sync="TRUE">String</attrtype>
<attwidth Sync="TRUE">50</attwidth>
<atprecis Sync="TRUE">0</atprecis>
<attscale Sync="TRUE">0</attscale>
</attr>
<attr>
<attrlabl Sync="TRUE">CenterX</attrlabl>
<attalias Sync="TRUE">CenterX</attalias>
<attrtype Sync="TRUE">Double</attrtype>
<attwidth Sync="TRUE">8</attwidth>
<atprecis Sync="TRUE">0</atprecis>
<attscale Sync="TRUE">0</attscale>
</attr>
<attr>
<attrlabl Sync="TRUE">CenterY</attrlabl>
<attalias Sync="TRUE">CenterY</attalias>
<attrtype Sync="TRUE">Double</attrtype>
<attwidth Sync="TRUE">8</attwidth>
<atprecis Sync="TRUE">0</atprecis>
<attscale Sync="TRUE">0</attscale>
</attr>
<attr>
<attrlabl Sync="TRUE">ZOrder</attrlabl>
<attalias Sync="TRUE">ZOrder</attalias>
<attrtype Sync="TRUE">Integer</attrtype>
<attwidth Sync="TRUE">4</attwidth>
<atprecis Sync="TRUE">0</atprecis>
<attscale Sync="TRUE">0</attscale>
</attr>
<attr>
<attrlabl Sync="TRUE">SOrder</attrlabl>
<attalias Sync="TRUE">SOrder</attalias>
<attrtype Sync="TRUE">Integer</attrtype>
<attwidth Sync="TRUE">4</attwidth>
<atprecis Sync="TRUE">0</atprecis>
<attscale Sync="TRUE">0</attscale>
</attr>
<attr>
<attrlabl Sync="TRUE">TypeID</attrlabl>
<attalias Sync="TRUE">Raster Type ID</attalias>
<attrtype Sync="TRUE">Integer</attrtype>
<attwidth Sync="TRUE">4</attwidth>
<atprecis Sync="TRUE">0</atprecis>
<attscale Sync="TRUE">0</attscale>
</attr>
<attr>
<attrlabl Sync="TRUE">StereoID</attrlabl>
<attalias Sync="TRUE">StereoID</attalias>
<attrtype Sync="TRUE">String</attrtype>
<attwidth Sync="TRUE">50</attwidth>
<atprecis Sync="TRUE">0</atprecis>
<attscale Sync="TRUE">0</attscale>
</attr>
<attr>
<attrlabl Sync="TRUE">ItemTS</attrlabl>
<attalias Sync="TRUE">ItemTS</attalias>
<attrtype Sync="TRUE">Double</attrtype>
<attwidth Sync="TRUE">8</attwidth>
<atprecis Sync="TRUE">0</atprecis>
<attscale Sync="TRUE">0</attscale>
</attr>
<attr>
<attrlabl Sync="TRUE">UriHash</attrlabl>
<attalias Sync="TRUE">UriHash</attalias>
<attrtype Sync="TRUE">String</attrtype>
<attwidth Sync="TRUE">50</attwidth>
<atprecis Sync="TRUE">0</atprecis>
<attscale Sync="TRUE">0</attscale>
</attr>
<attr>
<attrlabl Sync="TRUE">Uri</attrlabl>
<attalias Sync="TRUE">Uri</attalias>
<attrtype Sync="TRUE">Blob</attrtype>
<attwidth Sync="TRUE">0</attwidth>
<atprecis Sync="TRUE">0</atprecis>
<attscale Sync="TRUE">0</attscale>
</attr>
<attr>
<attrlabl Sync="TRUE">Shape_Length</attrlabl>
<attalias Sync="TRUE">Shape_Length</attalias>
<attrtype Sync="TRUE">Double</attrtype>
<attwidth Sync="TRUE">8</attwidth>
<atprecis Sync="TRUE">0</atprecis>
<attscale Sync="TRUE">0</attscale>
<attrdef Sync="TRUE">Length of feature in internal units.</attrdef>
<attrdefs Sync="TRUE">ESRI</attrdefs>
<attrdomv>
<udom Sync="TRUE">Positive real numbers that are automatically generated.</udom>
</attrdomv>
</attr>
<attr>
<attrlabl Sync="TRUE">Shape_Area</attrlabl>
<attalias Sync="TRUE">Shape_Area</attalias>
<attrtype Sync="TRUE">Double</attrtype>
<attwidth Sync="TRUE">8</attwidth>
<atprecis Sync="TRUE">0</atprecis>
<attscale Sync="TRUE">0</attscale>
<attrdef Sync="TRUE">Area of feature in internal units squared.</attrdef>
<attrdefs Sync="TRUE">ESRI</attrdefs>
<attrdomv>
<udom Sync="TRUE">Positive real numbers that are automatically generated.</udom>
</attrdomv>
</attr>
</detailed>
</eainfo>
<distInfo>
<distFormat>
<formatName Sync="TRUE">File Geodatabase Raster Dataset</formatName>
</distFormat>
</distInfo>
<mdHrLv>
<ScopeCd Sync="TRUE" value="005"/>
</mdHrLv>
<mdHrLvName Sync="TRUE">dataset</mdHrLvName>
<spdoinfo>
<rastinfo>
<rasttype Sync="TRUE">Pixel</rasttype>
<rowcount Sync="TRUE">10159</rowcount>
<colcount Sync="TRUE">14360</colcount>
<rastxsz Sync="TRUE">2.641691</rastxsz>
<rastysz Sync="TRUE">2.641691</rastysz>
<rastbpp Sync="TRUE">8</rastbpp>
<vrtcount Sync="TRUE">1</vrtcount>
<rastorig Sync="TRUE">Upper Left</rastorig>
<rastcmap Sync="TRUE">FALSE</rastcmap>
<rastcomp Sync="TRUE">LZ77</rastcomp>
<rastband Sync="TRUE">3</rastband>
<rastdtyp Sync="TRUE">pixel codes</rastdtyp>
<rastifor Sync="TRUE">FGDBR</rastifor>
<rastplyr Sync="TRUE">TRUE</rastplyr>
</rastinfo>
</spdoinfo>
<spref>
<horizsys>
<planar>
<planci>
<plance Sync="TRUE">row and column</plance>
<coordrep>
<absres Sync="TRUE">2.641691</absres>
<ordres Sync="TRUE">2.641691</ordres>
</coordrep>
</planci>
</planar>
</horizsys>
</spref>
</metadata>
