{
 "currentVersion": 11.3,
 "serviceDescription": "HISTO_CARTE_TRAITE_TURIN_PARIS_ANNEXE_02_1754",
 "name": "HISTO_CARTE_TRAITE_TURIN_PARIS_ANNEXE_02_1754",
 "description": "",
 "extent": {
  "xmin": 2480824.070496775,
  "ymin": 1099818.0117737534,
  "xmax": 2518758.7517596195,
  "ymax": 1126654.9495835886,
  "spatialReference": {
   "wkid": 2056,
   "latestWkid": 2056
  }
 },
 "initialExtent": {
  "xmin": 2480824.070496775,
  "ymin": 1099818.0117737534,
  "xmax": 2518758.7517596195,
  "ymax": 1126654.9495835886,
  "spatialReference": {
   "wkid": 2056,
   "latestWkid": 2056
  }
 },
 "fullExtent": {
  "xmin": 2480824.070496775,
  "ymin": 1099818.0117737534,
  "xmax": 2518758.7517596195,
  "ymax": 1126654.9495835886,
  "spatialReference": {
   "wkid": 2056,
   "latestWkid": 2056
  }
 },
 "sortableFields": "",
 "bandCount": 3,
 "pixelType": "U8",
 "minValues": [
  61,
  55,
  48
 ],
 "maxValues": [
  248,
  241,
  231
 ],
 "meanValues": [
  219.72658575370997,
  208.1906358018152,
  183.49326405612305
 ],
 "stdvValues": [
  21.80079639447531,
  21.662517198602067,
  19.232076797473777
 ],
 "hasMultidimensions": false,
 "pixelSizeX": 2.6416908957412426,
 "pixelSizeY": 2.6416908957412333,
 "meanPixelSize": 2.641690895741238,
 "datasetFormat": "FGDBR",
 "uncompressedSize": 437649720,
 "blockWidth": 128,
 "blockHeight": 128,
 "compressionType": "LZ77",
 "bandNames": [
  "Band_1",
  "Band_2",
  "Band_3"
 ],
 "allowCopy": true,
 "allowAnalysis": true,
 "itemAccess": false,
 "inspectionCapabilities": "",
 "minPixelSize": 0,
 "maxPixelSize": 0,
 "copyrightText": "",
 "serviceDataType": "esriImageServiceDataTypeRGB",
 "serviceSourceType": "esriImageServiceSourceTypeDataset",
 "objectIdField": "",
 "fields": [],
 "capabilities": "Mensuration,Image,Metadata",
 "defaultMosaicMethod": "Center",
 "allowedMosaicMethods": "",
 "sortField": "",
 "sortValue": null,
 "sortAscending": true,
 "mosaicOperator": "First",
 "defaultCompressionQuality": 75,
 "defaultResamplingMethod": "Bilinear",
 "maxImageHeight": 4100,
 "maxImageWidth": 15000,
 "allowRasterFunction": true,
 "rasterFunctionInfos": [
  {
   "name": "None",
   "description": "",
   "help": ""
  }
 ],
 "rasterTypeInfos": [
  {
   "name": "Raster Dataset",
   "description": "Supports all ArcGIS Raster Datasets",
   "help": ""
  }
 ],
 "mensurationCapabilities": "Basic",
 "hasHistograms": true,
 "hasColormap": false,
 "hasRasterAttributeTable": false,
 "minScale": 0,
 "maxScale": 0,
 "exportTilesAllowed": false,
 "supportsStatistics": false,
 "supportsAdvancedQueries": false,
 "editFieldsInfo": null,
 "ownershipBasedAccessControlForRasters": null,
 "allowComputeTiePoints": false,
 "useStandardizedQueries": true,
 "advancedQueryCapabilities": {
  "useStandardizedQueries": true,
  "supportsStatistics": false,
  "supportsOrderBy": false,
  "supportsDistinct": false,
  "supportsPagination": false
 },
 "spatialReference": {
  "wkid": 2056,
  "latestWkid": 2056
 },
 "resampling": false
}
