{
 "currentVersion": 11.3,
 "serviceDescription": "HISTO_CARTE_TRAITE_TURIN_PARIS_ANNEXE_04_1756",
 "name": "HISTO_CARTE_TRAITE_TURIN_PARIS_ANNEXE_04_1756",
 "description": "",
 "extent": {
  "xmin": 2481513.3838,
  "ymin": 1103120.7759255199,
  "xmax": 2517621.036297487,
  "ymax": 1129250.5411000003,
  "spatialReference": {
   "wkid": 2056,
   "latestWkid": 2056
  }
 },
 "initialExtent": {
  "xmin": 2481513.3838,
  "ymin": 1103120.7759255199,
  "xmax": 2517621.036297487,
  "ymax": 1129250.5411000003,
  "spatialReference": {
   "wkid": 2056,
   "latestWkid": 2056
  }
 },
 "fullExtent": {
  "xmin": 2481513.3838,
  "ymin": 1103120.7759255199,
  "xmax": 2517621.036297487,
  "ymax": 1129250.5411000003,
  "spatialReference": {
   "wkid": 2056,
   "latestWkid": 2056
  }
 },
 "sortableFields": "",
 "bandCount": 3,
 "pixelType": "U8",
 "minValues": [
  3,
  3,
  3
 ],
 "maxValues": [
  254,
  255,
  255
 ],
 "meanValues": [
  182.37575286439613,
  169.19234295878857,
  146.4917243981855
 ],
 "stdvValues": [
  50.772658520200785,
  48.40763597776078,
  40.704577430877514
 ],
 "hasMultidimensions": false,
 "pixelSizeX": 1.7274735670025425,
 "pixelSizeY": 1.7274735670025378,
 "meanPixelSize": 1.7274735670025403,
 "datasetFormat": "FGDBR",
 "uncompressedSize": 948490956,
 "blockWidth": 128,
 "blockHeight": 128,
 "compressionType": "LZ77",
 "bandNames": [
  "Band_1",
  "Band_2",
  "Band_3"
 ],
 "allowCopy": true,
 "allowAnalysis": true,
 "itemAccess": false,
 "inspectionCapabilities": "",
 "minPixelSize": 0,
 "maxPixelSize": 0,
 "copyrightText": "",
 "serviceDataType": "esriImageServiceDataTypeRGB",
 "serviceSourceType": "esriImageServiceSourceTypeDataset",
 "objectIdField": "",
 "fields": [],
 "capabilities": "Mensuration,Image,Metadata",
 "defaultMosaicMethod": "Center",
 "allowedMosaicMethods": "",
 "sortField": "",
 "sortValue": null,
 "sortAscending": true,
 "mosaicOperator": "First",
 "defaultCompressionQuality": 75,
 "defaultResamplingMethod": "Bilinear",
 "maxImageHeight": 4100,
 "maxImageWidth": 15000,
 "allowRasterFunction": true,
 "rasterFunctionInfos": [
  {
   "name": "None",
   "description": "",
   "help": ""
  }
 ],
 "rasterTypeInfos": [
  {
   "name": "Raster Dataset",
   "description": "Supports all ArcGIS Raster Datasets",
   "help": ""
  }
 ],
 "mensurationCapabilities": "Basic",
 "hasHistograms": true,
 "hasColormap": false,
 "hasRasterAttributeTable": false,
 "minScale": 0,
 "maxScale": 0,
 "exportTilesAllowed": false,
 "supportsStatistics": false,
 "supportsAdvancedQueries": false,
 "editFieldsInfo": null,
 "ownershipBasedAccessControlForRasters": null,
 "allowComputeTiePoints": false,
 "useStandardizedQueries": true,
 "advancedQueryCapabilities": {
  "useStandardizedQueries": true,
  "supportsStatistics": false,
  "supportsOrderBy": false,
  "supportsDistinct": false,
  "supportsPagination": false
 },
 "spatialReference": {
  "wkid": 2056,
  "latestWkid": 2056
 },
 "resampling": false
}
