<?xml version="1.0" encoding="UTF-8" standalone="no"?>
<metadata xml:lang="fr">
<Esri>
<CreaDate>20140925</CreaDate>
<CreaTime>17041700</CreaTime>
<ArcGISFormat>1.0</ArcGISFormat>
<SyncOnce>FALSE</SyncOnce>
<DataProperties>
<lineage>
<Process Date="20140925" Time="170417" ToolSource="D:\Program Files (x86)\ArcGIS\Desktop10.0\ArcToolbox\Toolboxes\Data Management Tools.tbx\CreateRasterDataset">CreateRasterDataset \\geode\raster_mn95\CARTES_HISTORIQUES\Traite_Turin_Rasterdataset.gdb Annexe_7_1819 # 8_BIT_UNSIGNED # 3 # "PYRAMIDS -1 NEAREST DEFAULT 75" "128 128" LZ77 #</Process>
<Process Date="20140926" Time="112739" ToolSource="D:\Program Files (x86)\ArcGIS\Desktop10.0\ArcToolbox\Toolboxes\Data Management Tools.tbx\Mosaic">Mosaic \\geode\raster_mn95\CARTES_HISTORIQUES\Traite_Turin.gdb\Annexe_7_1819 \\geode\raster_mn95\CARTES_HISTORIQUES\Traite_Turin_Rasterdataset.gdb\Annexe_7_1819 LAST FIRST # # NONE 0 NONE</Process>
<Process Date="20160608" Time="161431" ToolSource="c:\program files (x86)\arcgis\desktop10.3\ArcToolbox\Toolboxes\Data Management Tools.tbx\BuildPyramids">BuildPyramids \\sitgservfile01\geodata\RASTER\CARTES_HISTORIQUES\Traites_Turin_Paris_1749_1828\Traite_Turin_Rasterdataset.gdb\Annexe_07_1819_Turin -1 NONE NEAREST DEFAULT 75 OVERWRITE</Process>
<Process Date="20250114" Time="152807" ToolSource="c:\program files\arcgis\pro\Resources\ArcToolbox\Toolboxes\Data Management Tools.tbx\CopyMultiple">CopyMultiple "\\interzoneadm01\INTERZONE$\APP\GEOMATIQUE\INTRANET\DONNEES\HISTO_CARTE_TRAITE_TURIN_PARIS_ANNEXES\GDB\HISTO_CARTE_TRAITE_TURIN_PARIS_ANNEXES.gdb\ANNEXE_07_1819_TURIN RasterDataset" \\interzoneadm01\INTERZONE$\APP\GEOMATIQUE\INTRANET\DONNEES\HISTO_CARTE_TRAITE_TURIN_PARIS_ANNEXES\GDB\ANNEXE_07_1819_TURIN.gdb ANNEXE_07_1819_TURIN "ANNEXE_07_1819_TURIN RasterDataset ANNEXE_07_1819_TURIN #"</Process>
<Process Date="20250114" Time="164129" ToolSource="c:\program files\arcgis\pro\Resources\ArcToolbox\toolboxes\Data Management Tools.tbx\Rename">Rename \\interzoneadm01\INTERZONE$\APP\GEOMATIQUE\INTRANET\DONNEES\HISTO_CARTE_TRAITE_TURIN_PARIS_ANNEXES\GDB\HISTO_CARTE_TRAITE_TURIN_PARIS_ANNEXE_07_1819.gdb\ANNEXE_07_1819_TURIN \\interzoneadm01\INTERZONE$\APP\GEOMATIQUE\INTRANET\DONNEES\HISTO_CARTE_TRAITE_TURIN_PARIS_ANNEXES\GDB\HISTO_CARTE_TRAITE_TURIN_PARIS_ANNEXE_07_1819.gdb\HISTO_CARTE_TRAITE_TURIN_PARIS_ANNEXE_07_1819 RasterDataset</Process>
</lineage>
<itemProps>
<itemName Sync="TRUE">Annexe_7_1819</itemName>
<imsContentType Sync="TRUE">002</imsContentType>
<nativeExtBox>
<westBL Sync="TRUE">2484951.815136</westBL>
<eastBL Sync="TRUE">2513498.607563</eastBL>
<southBL Sync="TRUE">1109109.502855</southBL>
<northBL Sync="TRUE">1129097.729796</northBL>
<exTypeCode Sync="TRUE">1</exTypeCode>
</nativeExtBox>
<itemLocation>
<linkage Sync="TRUE">file://\\geode\raster_mn95\CARTES_HISTORIQUES\Traite_Turin_Rasterdataset.gdb</linkage>
<protocol Sync="TRUE">Local Area Network</protocol>
</itemLocation>
</itemProps>
<coordRef>
<type Sync="TRUE">Projected</type>
<geogcsn Sync="TRUE">GCS_CH1903+</geogcsn>
<projcsn Sync="TRUE">CH1903+_LV95</projcsn>
<peXml Sync="TRUE">&lt;ProjectedCoordinateSystem xsi:type='typens:ProjectedCoordinateSystem' xmlns:xsi='http://www.w3.org/2001/XMLSchema-instance' xmlns:xs='http://www.w3.org/2001/XMLSchema' xmlns:typens='http://www.esri.com/schemas/ArcGIS/10.0'&gt;&lt;WKT&gt;PROJCS[&amp;quot;CH1903+_LV95&amp;quot;,GEOGCS[&amp;quot;GCS_CH1903+&amp;quot;,DATUM[&amp;quot;D_CH1903+&amp;quot;,SPHEROID[&amp;quot;Bessel_1841&amp;quot;,6377397.155,299.1528128]],PRIMEM[&amp;quot;Greenwich&amp;quot;,0.0],UNIT[&amp;quot;Degree&amp;quot;,0.0174532925199433]],PROJECTION[&amp;quot;Hotine_Oblique_Mercator_Azimuth_Center&amp;quot;],PARAMETER[&amp;quot;False_Easting&amp;quot;,2600000.0],PARAMETER[&amp;quot;False_Northing&amp;quot;,1200000.0],PARAMETER[&amp;quot;Scale_Factor&amp;quot;,1.0],PARAMETER[&amp;quot;Azimuth&amp;quot;,90.0],PARAMETER[&amp;quot;Longitude_Of_Center&amp;quot;,7.439583333333333],PARAMETER[&amp;quot;Latitude_Of_Center&amp;quot;,46.95240555555556],UNIT[&amp;quot;Meter&amp;quot;,1.0],AUTHORITY[&amp;quot;EPSG&amp;quot;,2056]]&lt;/WKT&gt;&lt;XOrigin&gt;-27386400&lt;/XOrigin&gt;&lt;YOrigin&gt;-32067900&lt;/YOrigin&gt;&lt;XYScale&gt;140996569.55187955&lt;/XYScale&gt;&lt;ZOrigin&gt;-100000&lt;/ZOrigin&gt;&lt;ZScale&gt;10000&lt;/ZScale&gt;&lt;MOrigin&gt;-100000&lt;/MOrigin&gt;&lt;MScale&gt;10000&lt;/MScale&gt;&lt;XYTolerance&gt;0.001&lt;/XYTolerance&gt;&lt;ZTolerance&gt;0.001&lt;/ZTolerance&gt;&lt;MTolerance&gt;0.001&lt;/MTolerance&gt;&lt;HighPrecision&gt;true&lt;/HighPrecision&gt;&lt;WKID&gt;2056&lt;/WKID&gt;&lt;/ProjectedCoordinateSystem&gt;</peXml>
</coordRef>
</DataProperties>
<SyncDate>20141022</SyncDate>
<SyncTime>11460400</SyncTime>
<ModDate>20141022</ModDate>
<ModTime>11460400</ModTime>
<Service Sync="TRUE">Annexe_7_1819</Service>
<ServiceType Sync="TRUE">image</ServiceType>
</Esri>
<dataIdInfo>
<envirDesc Sync="TRUE">Microsoft Windows Server 2008 Version 6.0 (Build 6002) Service Pack 2; ESRI ArcGIS 10.0.2.3200</envirDesc>
<dataLang>
<languageCode country="CHE" value="fra"/>
</dataLang>
<idCitation>
<resTitle Sync="TRUE">HISTO_CARTE_TRAITE_TURIN_PARIS_ANNEXE_07_1819</resTitle>
</idCitation>
<descKeys>
<thesaName uuidref="723f6998-058e-11dc-8314-0800200c9a66"/>
<keyword Sync="TRUE">002</keyword>
</descKeys>
<spatRpType>
<SpatRepTypCd value="002"/>
</spatRpType>
<dataExt>
<geoEle>
<GeoBndBox esriExtentType="search">
<westBL Sync="TRUE">5.945992</westBL>
<eastBL Sync="TRUE">6.320242</eastBL>
<northBL Sync="TRUE">46.308955</northBL>
<southBL Sync="TRUE">46.124874</southBL>
<exTypeCode Sync="TRUE">1</exTypeCode>
</GeoBndBox>
</geoEle>
</dataExt>
<idAbs/>
<idPurp/>
<idCredit/>
<resConst>
<Consts>
<useLimit/>
</Consts>
</resConst>
</dataIdInfo>
<mdLang>
<languageCode value="fra"/>
</mdLang>
<distInfo>
<distFormat>
<formatName Sync="TRUE">File Geodatabase Raster Dataset</formatName>
</distFormat>
</distInfo>
<mdHrLv>
<ScopeCd value="005"/>
</mdHrLv>
<mdHrLvName Sync="TRUE">dataset</mdHrLvName>
<refSysInfo>
<RefSystem>
<refSysID>
<identCode code="2056"/>
<idCodeSpace Sync="TRUE">EPSG</idCodeSpace>
<idVersion Sync="TRUE">7.4.1</idVersion>
</refSysID>
</RefSystem>
</refSysInfo>
<spdoinfo>
<rastinfo>
<rasttype Sync="TRUE">Pixel</rasttype>
<rowcount Sync="TRUE">266723</rowcount>
<colcount Sync="TRUE">380929</colcount>
<rastxsz Sync="TRUE">0.074940</rastxsz>
<rastysz Sync="TRUE">0.074940</rastysz>
<rastbpp Sync="TRUE">8</rastbpp>
<vrtcount Sync="TRUE">1</vrtcount>
<rastorig Sync="TRUE">Upper Left</rastorig>
<rastcmap Sync="TRUE">FALSE</rastcmap>
<rastcomp Sync="TRUE">LZ77</rastcomp>
<rastband Sync="TRUE">3</rastband>
<rastdtyp Sync="TRUE">pixel codes</rastdtyp>
<rastifor Sync="TRUE">FGDBR</rastifor>
<rastplyr Sync="TRUE">TRUE</rastplyr>
</rastinfo>
</spdoinfo>
<spref>
<horizsys>
<planar>
<planci>
<plance Sync="TRUE">row and column</plance>
<coordrep>
<absres Sync="TRUE">0.074940</absres>
<ordres Sync="TRUE">0.074940</ordres>
</coordrep>
</planci>
</planar>
</horizsys>
</spref>
<mdDateSt Sync="TRUE">20141022</mdDateSt>
<idinfo>
<citation>
<citeinfo>
<origin/>
</citeinfo>
</citation>
<descript>
<abstract>Annexe_7_1819</abstract>
</descript>
</idinfo>
</metadata>
