{
 "currentVersion": 11.3,
 "serviceDescription": "HISTO_CARTE_TRAITE_TURIN_PARIS_ANNEXE_08_1825",
 "name": "HISTO_CARTE_TRAITE_TURIN_PARIS_ANNEXE_08_1825",
 "description": "",
 "extent": {
  "xmin": 2477860.7708497415,
  "ymin": 1098191.500085387,
  "xmax": 2505594.5112142465,
  "ymax": 1135196.396648668,
  "spatialReference": {
   "wkid": 2056,
   "latestWkid": 2056
  }
 },
 "initialExtent": {
  "xmin": 2477860.7708497415,
  "ymin": 1098191.500085387,
  "xmax": 2505594.5112142465,
  "ymax": 1135196.396648668,
  "spatialReference": {
   "wkid": 2056,
   "latestWkid": 2056
  }
 },
 "fullExtent": {
  "xmin": 2477860.7708497415,
  "ymin": 1098191.500085387,
  "xmax": 2505594.5112142465,
  "ymax": 1135196.396648668,
  "spatialReference": {
   "wkid": 2056,
   "latestWkid": 2056
  }
 },
 "sortableFields": "",
 "bandCount": 3,
 "pixelType": "U8",
 "minValues": [
  50,
  36,
  18
 ],
 "maxValues": [
  255,
  254,
  233
 ],
 "meanValues": [
  223.5231117381532,
  213.80832947318166,
  186.16118545916729
 ],
 "stdvValues": [
  18.6390169701446,
  19.264535508225936,
  18.051479225488627
 ],
 "hasMultidimensions": false,
 "pixelSizeX": 0.6873123433001656,
 "pixelSizeY": 0.6873123433001685,
 "meanPixelSize": 0.6873123433001671,
 "datasetFormat": "FGDBR",
 "uncompressedSize": 6517493520,
 "blockWidth": 128,
 "blockHeight": 128,
 "compressionType": "LZ77",
 "bandNames": [
  "Band_1",
  "Band_2",
  "Band_3"
 ],
 "allowCopy": true,
 "allowAnalysis": true,
 "itemAccess": false,
 "inspectionCapabilities": "",
 "minPixelSize": 0,
 "maxPixelSize": 0,
 "copyrightText": "",
 "serviceDataType": "esriImageServiceDataTypeRGB",
 "serviceSourceType": "esriImageServiceSourceTypeDataset",
 "objectIdField": "",
 "fields": [],
 "capabilities": "Mensuration,Image,Metadata",
 "defaultMosaicMethod": "Center",
 "allowedMosaicMethods": "",
 "sortField": "",
 "sortValue": null,
 "sortAscending": true,
 "mosaicOperator": "First",
 "defaultCompressionQuality": 75,
 "defaultResamplingMethod": "Bilinear",
 "maxImageHeight": 4100,
 "maxImageWidth": 15000,
 "allowRasterFunction": true,
 "rasterFunctionInfos": [
  {
   "name": "None",
   "description": "",
   "help": ""
  }
 ],
 "rasterTypeInfos": [
  {
   "name": "Raster Dataset",
   "description": "Supports all ArcGIS Raster Datasets",
   "help": ""
  }
 ],
 "mensurationCapabilities": "Basic",
 "hasHistograms": true,
 "hasColormap": false,
 "hasRasterAttributeTable": false,
 "minScale": 0,
 "maxScale": 0,
 "exportTilesAllowed": false,
 "supportsStatistics": false,
 "supportsAdvancedQueries": false,
 "editFieldsInfo": null,
 "ownershipBasedAccessControlForRasters": null,
 "allowComputeTiePoints": false,
 "useStandardizedQueries": true,
 "advancedQueryCapabilities": {
  "useStandardizedQueries": true,
  "supportsStatistics": false,
  "supportsOrderBy": false,
  "supportsDistinct": false,
  "supportsPagination": false
 },
 "spatialReference": {
  "wkid": 2056,
  "latestWkid": 2056
 },
 "resampling": false
}
