{
 "currentVersion": 11.3,
 "serviceDescription": "HISTO_CARTE_TRAITE_TURIN_PARIS_ANNEXE_14_1933",
 "name": "HISTO_CARTE_TRAITE_TURIN_PARIS_ANNEXE_14_1933",
 "description": "",
 "extent": {
  "xmin": 2479907.7503999993,
  "ymin": 1102379.2305000015,
  "xmax": 2511371.3355999994,
  "ymax": 1121157.7467000014,
  "spatialReference": {
   "wkid": 2056,
   "latestWkid": 2056
  }
 },
 "initialExtent": {
  "xmin": 2479907.7503999993,
  "ymin": 1102379.2305000015,
  "xmax": 2511371.3355999994,
  "ymax": 1121157.7467000014,
  "spatialReference": {
   "wkid": 2056,
   "latestWkid": 2056
  }
 },
 "fullExtent": {
  "xmin": 2479907.7503999993,
  "ymin": 1102379.2305000015,
  "xmax": 2511371.3355999994,
  "ymax": 1121157.7467000014,
  "spatialReference": {
   "wkid": 2056,
   "latestWkid": 2056
  }
 },
 "sortableFields": "",
 "bandCount": 3,
 "pixelType": "U8",
 "minValues": [
  31,
  25,
  0
 ],
 "maxValues": [
  255,
  255,
  251
 ],
 "meanValues": [
  225.05062574258403,
  210.83390088036617,
  179.21873733928828
 ],
 "stdvValues": [
  23.769530557657397,
  23.86740489378073,
  21.609586883031742
 ],
 "hasMultidimensions": false,
 "pixelSizeX": 0.6679457637193522,
 "pixelSizeY": 0.6679418154656027,
 "meanPixelSize": 0.6679437895924775,
 "datasetFormat": "FGDBR",
 "uncompressedSize": 3972929910,
 "blockWidth": 128,
 "blockHeight": 128,
 "compressionType": "LZ77",
 "bandNames": [
  "Band_1",
  "Band_2",
  "Band_3"
 ],
 "allowCopy": true,
 "allowAnalysis": true,
 "itemAccess": false,
 "inspectionCapabilities": "",
 "minPixelSize": 0,
 "maxPixelSize": 0,
 "copyrightText": "",
 "serviceDataType": "esriImageServiceDataTypeRGB",
 "serviceSourceType": "esriImageServiceSourceTypeDataset",
 "objectIdField": "",
 "fields": [],
 "capabilities": "Mensuration,Image,Metadata",
 "defaultMosaicMethod": "Center",
 "allowedMosaicMethods": "",
 "sortField": "",
 "sortValue": null,
 "sortAscending": true,
 "mosaicOperator": "First",
 "defaultCompressionQuality": 75,
 "defaultResamplingMethod": "Bilinear",
 "maxImageHeight": 4100,
 "maxImageWidth": 15000,
 "allowRasterFunction": true,
 "rasterFunctionInfos": [
  {
   "name": "None",
   "description": "",
   "help": ""
  }
 ],
 "rasterTypeInfos": [
  {
   "name": "Raster Dataset",
   "description": "Supports all ArcGIS Raster Datasets",
   "help": ""
  }
 ],
 "mensurationCapabilities": "Basic",
 "hasHistograms": true,
 "hasColormap": false,
 "hasRasterAttributeTable": false,
 "minScale": 0,
 "maxScale": 0,
 "exportTilesAllowed": false,
 "supportsStatistics": false,
 "supportsAdvancedQueries": false,
 "editFieldsInfo": null,
 "ownershipBasedAccessControlForRasters": null,
 "allowComputeTiePoints": false,
 "useStandardizedQueries": true,
 "advancedQueryCapabilities": {
  "useStandardizedQueries": true,
  "supportsStatistics": false,
  "supportsOrderBy": false,
  "supportsDistinct": false,
  "supportsPagination": false
 },
 "spatialReference": {
  "wkid": 2056,
  "latestWkid": 2056
 },
 "resampling": false
}
