<?xml version="1.0" encoding="UTF-8" standalone="no"?>
<metadata xml:lang="fr">
<Esri>
<CreaDate>20230810</CreaDate>
<CreaTime>10193500</CreaTime>
<ArcGISFormat>1.0</ArcGISFormat>
<SyncOnce>FALSE</SyncOnce>
<DataProperties>
<lineage>
<Process Date="20230810" Time="101824" ToolSource="c:\program files\arcgis\pro\Resources\ArcToolbox\Toolboxes\Data Management Tools.tbx\Rename">Rename \\interzoneadm01.ge-admin.ad.etat-ge.ch\INTERZONE$\APP\GEOMATIQUE\INTRANET\DONNEES_RASTER\PLANS\PLANS_HISTORIQUES\PLAN_DUFOUR\Communes\Image12cm.tif \\interzoneadm01.ge-admin.ad.etat-ge.ch\INTERZONE$\APP\GEOMATIQUE\INTRANET\DONNEES_RASTER\PLANS\PLANS_HISTORIQUES\PLAN_DUFOUR\Communes\Assemblage_Dufour_MAJ_12cm.tif RasterDataset</Process>
<Process Date="20230810" Time="101935" ToolSource="c:\program files\arcgis\pro\Resources\ArcToolbox\Toolboxes\Data Management Tools.tbx\Copy">Copy \\interzoneadm01.ge-admin.ad.etat-ge.ch\INTERZONE$\APP\GEOMATIQUE\INTRANET\DONNEES_RASTER\PLANS\PLANS_HISTORIQUES\PLAN_DUFOUR\Communes\Assemblage_Dufour_MAJ_12cm.tif "\\interzoneadm01.ge-admin.ad.etat-ge.ch\INTERZONE$\APP\GEOMATIQUE\INTRANET\DONNEES_RASTER\PLANS\PLANS_HISTORIQUES\PLAN_DUFOUR\Mosaïque plans Dufour\Assemblage_Dufour_MAJ_12cm.tif" "Jeu de données Raster" #</Process>
<Process Date="20250115" Time="145049" ToolSource="c:\program files\arcgis\pro\Resources\ArcToolbox\toolboxes\Data Management Tools.tbx\CopyRaster">CopyRaster D:\Temp\TIFF\HISTO_PLAN_DUFOUR.tif "D:\Temp\TIFF\New File Geodatabase.gdb\HISTO_PLAN_DUFOUR" # # # NONE NONE # NONE NONE "Esri Grid format" NONE CURRENT_SLICE NO_TRANSPOSE</Process>
</lineage>
<itemProps>
<itemLocation>
<linkage Sync="TRUE">file://\\MW-459197\D$\Temp\TIFF\New File Geodatabase.gdb</linkage>
<protocol Sync="TRUE">Local Area Network</protocol>
</itemLocation>
<itemName>Assemblage_Dufour_MAJ_12cm.tif</itemName>
<imsContentType Sync="TRUE">002</imsContentType>
<nativeExtBox>
<westBL Sync="TRUE">2478848.343962</westBL>
<eastBL Sync="TRUE">2523631.478118</eastBL>
<southBL Sync="TRUE">1106133.906530</southBL>
<northBL Sync="TRUE">1138871.921844</northBL>
<exTypeCode Sync="TRUE">1</exTypeCode>
</nativeExtBox>
</itemProps>
<copyHistory>
<copy date="20230810" dest="\\interzoneadm01.ge-admin.ad.etat-ge.ch\INTERZONE$\APP\GEOMATIQUE\INTRANET\DONNEES_RASTER\PLANS\PLANS_HISTORIQUES\PLAN_DUFOUR\Mosaïque plans Dufour\Assemblage_Dufour_MAJ_12cm.tif" source="\\interzoneadm01.ge-admin.ad.etat-ge.ch\INTERZONE$\APP\GEOMATIQUE\INTRANET\DONNEES_RASTER\PLANS\PLANS_HISTORIQUES\PLAN_DUFOUR\Communes\Assemblage_Dufour_MAJ_12cm.tif" time="10193500"/>
</copyHistory>
<coordRef>
<type Sync="TRUE">Projected</type>
<geogcsn Sync="TRUE">GCS_CH1903+</geogcsn>
<csUnits Sync="TRUE">Linear Unit: Meter (1.000000)</csUnits>
<projcsn Sync="TRUE">CH1903+_LV95</projcsn>
<peXml Sync="TRUE">&lt;ProjectedCoordinateSystem xsi:type='typens:ProjectedCoordinateSystem' xmlns:xsi='http://www.w3.org/2001/XMLSchema-instance' xmlns:xs='http://www.w3.org/2001/XMLSchema' xmlns:typens='http://www.esri.com/schemas/ArcGIS/3.3.0'&gt;&lt;WKT&gt;PROJCS[&amp;quot;CH1903+_LV95&amp;quot;,GEOGCS[&amp;quot;GCS_CH1903+&amp;quot;,DATUM[&amp;quot;D_CH1903+&amp;quot;,SPHEROID[&amp;quot;Bessel_1841&amp;quot;,6377397.155,299.1528128]],PRIMEM[&amp;quot;Greenwich&amp;quot;,0.0],UNIT[&amp;quot;Degree&amp;quot;,0.0174532925199433]],PROJECTION[&amp;quot;Hotine_Oblique_Mercator_Azimuth_Center&amp;quot;],PARAMETER[&amp;quot;False_Easting&amp;quot;,2600000.0],PARAMETER[&amp;quot;False_Northing&amp;quot;,1200000.0],PARAMETER[&amp;quot;Scale_Factor&amp;quot;,1.0],PARAMETER[&amp;quot;Azimuth&amp;quot;,90.0],PARAMETER[&amp;quot;Longitude_Of_Center&amp;quot;,7.439583333333333],PARAMETER[&amp;quot;Latitude_Of_Center&amp;quot;,46.95240555555556],UNIT[&amp;quot;Meter&amp;quot;,1.0],AUTHORITY[&amp;quot;EPSG&amp;quot;,2056]]&lt;/WKT&gt;&lt;XOrigin&gt;-27386400&lt;/XOrigin&gt;&lt;YOrigin&gt;-32067900&lt;/YOrigin&gt;&lt;XYScale&gt;140996569.55187955&lt;/XYScale&gt;&lt;ZOrigin&gt;-100000&lt;/ZOrigin&gt;&lt;ZScale&gt;10000&lt;/ZScale&gt;&lt;MOrigin&gt;-100000&lt;/MOrigin&gt;&lt;MScale&gt;10000&lt;/MScale&gt;&lt;XYTolerance&gt;0.001&lt;/XYTolerance&gt;&lt;ZTolerance&gt;0.001&lt;/ZTolerance&gt;&lt;MTolerance&gt;0.001&lt;/MTolerance&gt;&lt;HighPrecision&gt;true&lt;/HighPrecision&gt;&lt;WKID&gt;2056&lt;/WKID&gt;&lt;LatestWKID&gt;2056&lt;/LatestWKID&gt;&lt;/ProjectedCoordinateSystem&gt;</peXml>
</coordRef>
</DataProperties>
<MetaID>6f4b0da7-e750-4374-a531-dc4428ae558e</MetaID>
<SyncDate>20250115</SyncDate>
<SyncTime>14450200</SyncTime>
<ModDate>20250115</ModDate>
<ModTime>14450200</ModTime>
</Esri>
<dataIdInfo>
<envirDesc Sync="TRUE">Microsoft Windows 10 Version 10.0 (Build 22631) ; Esri ArcGIS 13.3.0.52636</envirDesc>
<dataLang>
<languageCode Sync="TRUE" value="fra"/>
<countryCode Sync="TRUE" value="CHE"/>
</dataLang>
<idCitation>
<resTitle Sync="TRUE">HISTO_PLAN_DUFOUR</resTitle>
<presForm>
<PresFormCd Sync="TRUE" value="011"/>
</presForm>
</idCitation>
<spatRpType>
<SpatRepTypCd Sync="TRUE" value="002"/>
</spatRpType>
<dataExt>
<geoEle>
<GeoBndBox esriExtentType="search">
<exTypeCode Sync="TRUE">1</exTypeCode>
<westBL Sync="TRUE">5.864226</westBL>
<eastBL Sync="TRUE">6.451833</eastBL>
<northBL Sync="TRUE">46.398113</northBL>
<southBL Sync="TRUE">46.097039</southBL>
</GeoBndBox>
</geoEle>
</dataExt>
<idAbs/>
<idPurp/>
<idCredit/>
<resConst>
<Consts>
<useLimit/>
</Consts>
</resConst>
</dataIdInfo>
<mdLang>
<languageCode Sync="TRUE" value="fra"/>
<countryCode Sync="TRUE" value="CHE"/>
</mdLang>
<distInfo>
<distFormat>
<formatName Sync="TRUE">File Geodatabase Raster Dataset</formatName>
</distFormat>
</distInfo>
<mdHrLv>
<ScopeCd Sync="TRUE" value="005"/>
</mdHrLv>
<mdHrLvName Sync="TRUE">dataset</mdHrLvName>
<refSysInfo>
<RefSystem>
<refSysID>
<identCode Sync="TRUE" code="2056"/>
<idCodeSpace Sync="TRUE">EPSG</idCodeSpace>
<idVersion Sync="TRUE">4.5(8.1.0)</idVersion>
</refSysID>
</RefSystem>
</refSysInfo>
<spdoinfo>
<rastinfo>
<rasttype Sync="TRUE">Pixel</rasttype>
<rowcount Sync="TRUE">272817</rowcount>
<colcount Sync="TRUE">373193</colcount>
<rastxsz Sync="TRUE">0.120000</rastxsz>
<rastysz Sync="TRUE">0.120000</rastysz>
<rastbpp Sync="TRUE">8</rastbpp>
<vrtcount Sync="TRUE">1</vrtcount>
<rastorig Sync="TRUE">Upper Left</rastorig>
<rastcmap Sync="TRUE">FALSE</rastcmap>
<rastcomp Sync="TRUE">LZ77</rastcomp>
<rastband Sync="TRUE">3</rastband>
<rastdtyp Sync="TRUE">pixel codes</rastdtyp>
<rastifor Sync="TRUE">FGDBR</rastifor>
<rastplyr Sync="TRUE">TRUE</rastplyr>
</rastinfo>
</spdoinfo>
<spref>
<horizsys>
<planar>
<planci>
<plance Sync="TRUE">row and column</plance>
<coordrep>
<absres Sync="TRUE">0.120000</absres>
<ordres Sync="TRUE">0.120000</ordres>
</coordrep>
</planci>
</planar>
</horizsys>
</spref>
<mdDateSt Sync="TRUE">20250115</mdDateSt>
</metadata>
