<?xml version="1.0" encoding="UTF-8" standalone="no"?>
<metadata xml:lang="fr">
<Esri>
<CreaDate>20151201</CreaDate>
<CreaTime>15365600</CreaTime>
<ArcGISFormat>1.0</ArcGISFormat>
<SyncOnce>FALSE</SyncOnce>
<DataProperties>
<lineage>
<Process Date="20151201" Time="153656" ToolSource="c:\program files (x86)\arcgis\desktop10.3\ArcToolbox\Toolboxes\Data Management Tools.tbx\AddRastersToMosaicDataset">AddRastersToMosaicDataset \\sitgservfile01\geodata\RASTER\ORTHOPHOTOS_COLLECTION.gdb\Ortho_1968 "Raster Dataset" \\sitgservfile01\geodata\RASTER\ORTHOPHOTOS_1968.gdb\jpg UPDATE_CELL_SIZES UPDATE_BOUNDARY NO_OVERVIEWS # 0 1500 # # SUBFOLDERS ALLOW_DUPLICATES NO_PYRAMIDS NO_STATISTICS NO_THUMBNAILS # NO_FORCE_SPATIAL_REFERENCE</Process>
<Process Date="20200210" Time="105002" ToolSource="c:\program files (x86)\arcgis\desktop10.2\ArcToolbox\Toolboxes\Data Management Tools.tbx\BuildFootprints">BuildFootprints \\sitgservfile01\geodata\RASTER\ORTHOPHOTOS_COLLECTION.gdb\Ortho_1968 # RADIOMETRY 1 255 -1 0 NO_MAINTAIN_EDGES SKIP_DERIVED_IMAGES UPDATE_BOUNDARY 2000 100 NONE # 20 0.05</Process>
<Process Date="20200210" Time="111124" ToolSource="c:\program files (x86)\arcgis\desktop10.2\ArcToolbox\Toolboxes\Data Management Tools.tbx\CopyRaster">CopyRaster \\sitgservfile01\geodata\RASTER\ORTHOPHOTOS_COLLECTION.gdb\Ortho_1968 \\sitgservfile01\geodata\RASTER\ORTHOPHOTOS_1968.gdb\Ortho_1968 # # 256 NONE NONE # NONE NONE</Process>
<Process Date="20250117" Time="113515" ToolSource="c:\program files\arcgis\pro\Resources\ArcToolbox\Toolboxes\Data Management Tools.tbx\Rename">Rename \\interzoneadm01\INTERZONE$\APP\GEOMATIQUE\INTRANET\DONNEES\IMAGE_AERIENNE_ORTHO_1968\GDB\IMAGE_AERIENNE_ORTHO_1968.gdb\ORTHOPHOTOS_1968_50CM \\interzoneadm01\INTERZONE$\APP\GEOMATIQUE\INTRANET\DONNEES\IMAGE_AERIENNE_ORTHO_1968\GDB\IMAGE_AERIENNE_ORTHO_1968.gdb\IMAGE_AERIENNE_ORTHO_1968 RasterDataset</Process>
</lineage>
<itemProps>
<itemName Sync="TRUE">Ortho_1968</itemName>
<imsContentType Sync="TRUE">002</imsContentType>
<nativeExtBox>
<westBL Sync="TRUE">2493441.995123</westBL>
<eastBL Sync="TRUE">2506496.995123</eastBL>
<southBL Sync="TRUE">1112597.033159</southBL>
<northBL Sync="TRUE">1123805.033159</northBL>
<exTypeCode Sync="TRUE">1</exTypeCode>
</nativeExtBox>
<itemLocation>
<linkage Sync="TRUE">file://\\sitgservfile01\geodata\RASTER\ORTHOPHOTOS_1968.gdb</linkage>
<protocol Sync="TRUE">Local Area Network</protocol>
</itemLocation>
</itemProps>
<coordRef>
<type Sync="TRUE">Projected</type>
<geogcsn Sync="TRUE">GCS_CH1903+</geogcsn>
<csUnits Sync="TRUE">Linear Unit: Meter (1.000000)</csUnits>
<projcsn Sync="TRUE">CH1903+_LV95</projcsn>
<peXml Sync="TRUE">&lt;ProjectedCoordinateSystem xsi:type='typens:ProjectedCoordinateSystem' xmlns:xsi='http://www.w3.org/2001/XMLSchema-instance' xmlns:xs='http://www.w3.org/2001/XMLSchema' xmlns:typens='http://www.esri.com/schemas/ArcGIS/10.1'&gt;&lt;WKT&gt;PROJCS[&amp;quot;CH1903+_LV95&amp;quot;,GEOGCS[&amp;quot;GCS_CH1903+&amp;quot;,DATUM[&amp;quot;D_CH1903+&amp;quot;,SPHEROID[&amp;quot;Bessel_1841&amp;quot;,6377397.155,299.1528128]],PRIMEM[&amp;quot;Greenwich&amp;quot;,0.0],UNIT[&amp;quot;Degree&amp;quot;,0.0174532925199433]],PROJECTION[&amp;quot;Hotine_Oblique_Mercator_Azimuth_Center&amp;quot;],PARAMETER[&amp;quot;False_Easting&amp;quot;,2600000.0],PARAMETER[&amp;quot;False_Northing&amp;quot;,1200000.0],PARAMETER[&amp;quot;Scale_Factor&amp;quot;,1.0],PARAMETER[&amp;quot;Azimuth&amp;quot;,90.0],PARAMETER[&amp;quot;Longitude_Of_Center&amp;quot;,7.439583333333333],PARAMETER[&amp;quot;Latitude_Of_Center&amp;quot;,46.95240555555556],UNIT[&amp;quot;Meter&amp;quot;,1.0],AUTHORITY[&amp;quot;EPSG&amp;quot;,2056]]&lt;/WKT&gt;&lt;XOrigin&gt;-27386400&lt;/XOrigin&gt;&lt;YOrigin&gt;-32067900&lt;/YOrigin&gt;&lt;XYScale&gt;140996569.55187955&lt;/XYScale&gt;&lt;ZOrigin&gt;-100000&lt;/ZOrigin&gt;&lt;ZScale&gt;10000&lt;/ZScale&gt;&lt;MOrigin&gt;-100000&lt;/MOrigin&gt;&lt;MScale&gt;10000&lt;/MScale&gt;&lt;XYTolerance&gt;0.001&lt;/XYTolerance&gt;&lt;ZTolerance&gt;0.001&lt;/ZTolerance&gt;&lt;MTolerance&gt;0.001&lt;/MTolerance&gt;&lt;HighPrecision&gt;true&lt;/HighPrecision&gt;&lt;WKID&gt;2056&lt;/WKID&gt;&lt;LatestWKID&gt;2056&lt;/LatestWKID&gt;&lt;/ProjectedCoordinateSystem&gt;</peXml>
</coordRef>
</DataProperties>
<SyncDate>20200210</SyncDate>
<SyncTime>11112300</SyncTime>
<ModDate>20200210</ModDate>
<ModTime>11112300</ModTime>
</Esri>
<dataIdInfo>
<envirDesc Sync="TRUE"> Version 6.2 (Build 9200) ; Esri ArcGIS 10.2.1.3497</envirDesc>
<dataLang>
<languageCode Sync="TRUE" value="fra"/>
<countryCode Sync="TRUE" value="CHE"/>
</dataLang>
<idCitation>
<resTitle Sync="TRUE">IMAGE_AERIENNE_ORTHO_1968</resTitle>
<presForm>
<PresFormCd Sync="TRUE" value="011"/>
</presForm>
</idCitation>
<spatRpType>
<SpatRepTypCd Sync="TRUE" value="002"/>
</spatRpType>
<dataExt>
<geoEle>
<GeoBndBox esriExtentType="search">
<exTypeCode Sync="TRUE">1</exTypeCode>
<westBL Sync="TRUE">6.057402</westBL>
<eastBL Sync="TRUE">6.228957</eastBL>
<northBL Sync="TRUE">46.260405</northBL>
<southBL Sync="TRUE">46.157642</southBL>
</GeoBndBox>
</geoEle>
</dataExt>
<idAbs/>
<idPurp/>
<idCredit/>
<resConst>
<Consts>
<useLimit/>
</Consts>
</resConst>
</dataIdInfo>
<mdLang>
<languageCode Sync="TRUE" value="fra"/>
<countryCode Sync="TRUE" value="CHE"/>
</mdLang>
<distInfo>
<distFormat>
<formatName Sync="TRUE">Jeu de données raster de géodatabase fichier</formatName>
</distFormat>
</distInfo>
<mdHrLv>
<ScopeCd Sync="TRUE" value="005"/>
</mdHrLv>
<mdHrLvName Sync="TRUE">dataset</mdHrLvName>
<refSysInfo>
<RefSystem>
<refSysID>
<identCode Sync="TRUE" code="2056"/>
<idCodeSpace Sync="TRUE">EPSG</idCodeSpace>
<idVersion Sync="TRUE">8.2.6</idVersion>
</refSysID>
</RefSystem>
</refSysInfo>
<spdoinfo>
<rastinfo>
<rasttype Sync="TRUE">Pixel</rasttype>
<rowcount Sync="TRUE">22416</rowcount>
<colcount Sync="TRUE">26110</colcount>
<rastxsz Sync="TRUE">0.500000</rastxsz>
<rastysz Sync="TRUE">0.500000</rastysz>
<rastbpp Sync="TRUE">8</rastbpp>
<vrtcount Sync="TRUE">1</vrtcount>
<rastorig Sync="TRUE">Upper Left</rastorig>
<rastcmap Sync="TRUE">FALSE</rastcmap>
<rastcomp Sync="TRUE">LZ77</rastcomp>
<rastband Sync="TRUE">3</rastband>
<rastdtyp Sync="TRUE">pixel codes</rastdtyp>
<rastifor Sync="TRUE">FGDBR</rastifor>
<rastplyr Sync="TRUE">TRUE</rastplyr>
</rastinfo>
</spdoinfo>
<spref>
<horizsys>
<planar>
<planci>
<plance Sync="TRUE">row and column</plance>
<coordrep>
<absres Sync="TRUE">0.500000</absres>
<ordres Sync="TRUE">0.500000</ordres>
</coordrep>
</planci>
</planar>
</horizsys>
</spref>
<mdDateSt Sync="TRUE">20200210</mdDateSt>
</metadata>
