{
 "currentVersion": 11.3,
 "serviceDescription": "IMAGE_AERIENNE_ORTHO_2011_03",
 "name": "IMAGE_AERIENNE_ORTHO_2011_03",
 "description": "",
 "extent": {
  "xmin": 2485000,
  "ymin": 1109000,
  "xmax": 2514000,
  "ymax": 1136000,
  "spatialReference": {
   "wkt2": "PROJCRS[\"CH1903+_Hotine_Oblique_Mercator_Azimuth_Center\",BASEGEOGCRS[\"GCS_CH1903+\",DATUM[\"D_CH1903+\",ELLIPSOID[\"Bessel_1841\",6377397.155,299.1528128,LENGTHUNIT[\"Meter\",1.0]]],PRIMEM[\"Greenwich\",0.0,ANGLEUNIT[\"Degree\",0.0174532925199433]],CS[ellipsoidal,2],ANGLEUNIT[\"Degree\",0.0174532925199433]],CONVERSION[\"Hotine_Oblique_Mercator_Azimuth_Center\",METHOD[\"Hotine_Oblique_Mercator_Azimuth_Center\"],PARAMETER[\"false_easting\",2600000.0,LENGTHUNIT[\"Meter\",1.0]],PARAMETER[\"false_northing\",1200000.0,LENGTHUNIT[\"Meter\",1.0]],PARAMETER[\"scale_factor\",1.0,SCALEUNIT[\"Unity\",1.0]],PARAMETER[\"azimuth\",90.0,ANGLEUNIT[\"Degree\",0.0174532925199433]],PARAMETER[\"longitude_of_center\",7.439583333333334,ANGLEUNIT[\"Degree\",0.0174532925199433]],PARAMETER[\"latitude_of_center\",46.95240555555557,ANGLEUNIT[\"Degree\",0.0174532925199433]]],CS[Cartesian,2],AXIS[\"Easting (X)\",east,ORDER[1]],AXIS[\"Northing (Y)\",north,ORDER[2]],LENGTHUNIT[\"Meter\",1.0]]",
   "wkt": "PROJCS[\"CH1903+_Hotine_Oblique_Mercator_Azimuth_Center\",GEOGCS[\"GCS_CH1903+\",DATUM[\"D_CH1903+\",SPHEROID[\"Bessel_1841\",6377397.155,299.1528128]],PRIMEM[\"Greenwich\",0.0],UNIT[\"Degree\",0.0174532925199433]],PROJECTION[\"Hotine_Oblique_Mercator_Azimuth_Center\"],PARAMETER[\"false_easting\",2600000.0],PARAMETER[\"false_northing\",1200000.0],PARAMETER[\"scale_factor\",1.0],PARAMETER[\"azimuth\",90.0],PARAMETER[\"longitude_of_center\",7.439583333333334],PARAMETER[\"latitude_of_center\",46.95240555555557],UNIT[\"Meter\",1.0]]"
  }
 },
 "initialExtent": {
  "xmin": 2485000,
  "ymin": 1109000,
  "xmax": 2514000,
  "ymax": 1136000,
  "spatialReference": {
   "wkt2": "PROJCRS[\"CH1903+_Hotine_Oblique_Mercator_Azimuth_Center\",BASEGEOGCRS[\"GCS_CH1903+\",DATUM[\"D_CH1903+\",ELLIPSOID[\"Bessel_1841\",6377397.155,299.1528128,LENGTHUNIT[\"Meter\",1.0]]],PRIMEM[\"Greenwich\",0.0,ANGLEUNIT[\"Degree\",0.0174532925199433]],CS[ellipsoidal,2],ANGLEUNIT[\"Degree\",0.0174532925199433]],CONVERSION[\"Hotine_Oblique_Mercator_Azimuth_Center\",METHOD[\"Hotine_Oblique_Mercator_Azimuth_Center\"],PARAMETER[\"false_easting\",2600000.0,LENGTHUNIT[\"Meter\",1.0]],PARAMETER[\"false_northing\",1200000.0,LENGTHUNIT[\"Meter\",1.0]],PARAMETER[\"scale_factor\",1.0,SCALEUNIT[\"Unity\",1.0]],PARAMETER[\"azimuth\",90.0,ANGLEUNIT[\"Degree\",0.0174532925199433]],PARAMETER[\"longitude_of_center\",7.439583333333334,ANGLEUNIT[\"Degree\",0.0174532925199433]],PARAMETER[\"latitude_of_center\",46.95240555555557,ANGLEUNIT[\"Degree\",0.0174532925199433]]],CS[Cartesian,2],AXIS[\"Easting (X)\",east,ORDER[1]],AXIS[\"Northing (Y)\",north,ORDER[2]],LENGTHUNIT[\"Meter\",1.0]]",
   "wkt": "PROJCS[\"CH1903+_Hotine_Oblique_Mercator_Azimuth_Center\",GEOGCS[\"GCS_CH1903+\",DATUM[\"D_CH1903+\",SPHEROID[\"Bessel_1841\",6377397.155,299.1528128]],PRIMEM[\"Greenwich\",0.0],UNIT[\"Degree\",0.0174532925199433]],PROJECTION[\"Hotine_Oblique_Mercator_Azimuth_Center\"],PARAMETER[\"false_easting\",2600000.0],PARAMETER[\"false_northing\",1200000.0],PARAMETER[\"scale_factor\",1.0],PARAMETER[\"azimuth\",90.0],PARAMETER[\"longitude_of_center\",7.439583333333334],PARAMETER[\"latitude_of_center\",46.95240555555557],UNIT[\"Meter\",1.0]]"
  }
 },
 "fullExtent": {
  "xmin": 2485000,
  "ymin": 1109000,
  "xmax": 2514000,
  "ymax": 1136000,
  "spatialReference": {
   "wkt2": "PROJCRS[\"CH1903+_Hotine_Oblique_Mercator_Azimuth_Center\",BASEGEOGCRS[\"GCS_CH1903+\",DATUM[\"D_CH1903+\",ELLIPSOID[\"Bessel_1841\",6377397.155,299.1528128,LENGTHUNIT[\"Meter\",1.0]]],PRIMEM[\"Greenwich\",0.0,ANGLEUNIT[\"Degree\",0.0174532925199433]],CS[ellipsoidal,2],ANGLEUNIT[\"Degree\",0.0174532925199433]],CONVERSION[\"Hotine_Oblique_Mercator_Azimuth_Center\",METHOD[\"Hotine_Oblique_Mercator_Azimuth_Center\"],PARAMETER[\"false_easting\",2600000.0,LENGTHUNIT[\"Meter\",1.0]],PARAMETER[\"false_northing\",1200000.0,LENGTHUNIT[\"Meter\",1.0]],PARAMETER[\"scale_factor\",1.0,SCALEUNIT[\"Unity\",1.0]],PARAMETER[\"azimuth\",90.0,ANGLEUNIT[\"Degree\",0.0174532925199433]],PARAMETER[\"longitude_of_center\",7.439583333333334,ANGLEUNIT[\"Degree\",0.0174532925199433]],PARAMETER[\"latitude_of_center\",46.95240555555557,ANGLEUNIT[\"Degree\",0.0174532925199433]]],CS[Cartesian,2],AXIS[\"Easting (X)\",east,ORDER[1]],AXIS[\"Northing (Y)\",north,ORDER[2]],LENGTHUNIT[\"Meter\",1.0]]",
   "wkt": "PROJCS[\"CH1903+_Hotine_Oblique_Mercator_Azimuth_Center\",GEOGCS[\"GCS_CH1903+\",DATUM[\"D_CH1903+\",SPHEROID[\"Bessel_1841\",6377397.155,299.1528128]],PRIMEM[\"Greenwich\",0.0],UNIT[\"Degree\",0.0174532925199433]],PROJECTION[\"Hotine_Oblique_Mercator_Azimuth_Center\"],PARAMETER[\"false_easting\",2600000.0],PARAMETER[\"false_northing\",1200000.0],PARAMETER[\"scale_factor\",1.0],PARAMETER[\"azimuth\",90.0],PARAMETER[\"longitude_of_center\",7.439583333333334],PARAMETER[\"latitude_of_center\",46.95240555555557],UNIT[\"Meter\",1.0]]"
  }
 },
 "sortableFields": "",
 "bandCount": 3,
 "pixelType": "U8",
 "minValues": [
  0,
  0,
  0
 ],
 "maxValues": [
  255,
  255,
  255
 ],
 "meanValues": [
  94.46708752670631,
  88.33093840563896,
  79.40898827353134
 ],
 "stdvValues": [
  63.75161062423141,
  58.90653370700248,
  54.775141141256185
 ],
 "hasMultidimensions": false,
 "pixelSizeX": 0.05,
 "pixelSizeY": 0.05,
 "meanPixelSize": 0.05,
 "datasetFormat": "FGDBR",
 "uncompressedSize": 939600000000,
 "blockWidth": 128,
 "blockHeight": 128,
 "compressionType": "LZ77",
 "bandNames": [
  "Band_1",
  "Band_2",
  "Band_3"
 ],
 "allowCopy": true,
 "allowAnalysis": true,
 "itemAccess": false,
 "inspectionCapabilities": "",
 "minPixelSize": 0,
 "maxPixelSize": 0,
 "copyrightText": "",
 "serviceDataType": "esriImageServiceDataTypeRGB",
 "serviceSourceType": "esriImageServiceSourceTypeDataset",
 "objectIdField": "",
 "fields": [],
 "capabilities": "Mensuration,Image,Metadata",
 "defaultMosaicMethod": "Center",
 "allowedMosaicMethods": "",
 "sortField": "",
 "sortValue": null,
 "sortAscending": true,
 "mosaicOperator": "First",
 "defaultCompressionQuality": 75,
 "defaultResamplingMethod": "Bilinear",
 "maxImageHeight": 4100,
 "maxImageWidth": 15000,
 "allowRasterFunction": true,
 "rasterFunctionInfos": [
  {
   "name": "None",
   "description": "",
   "help": ""
  }
 ],
 "rasterTypeInfos": [
  {
   "name": "Raster Dataset",
   "description": "Supports all ArcGIS Raster Datasets",
   "help": ""
  }
 ],
 "mensurationCapabilities": "Basic",
 "hasHistograms": true,
 "hasColormap": false,
 "hasRasterAttributeTable": false,
 "minScale": 0,
 "maxScale": 0,
 "exportTilesAllowed": false,
 "supportsStatistics": false,
 "supportsAdvancedQueries": false,
 "editFieldsInfo": null,
 "ownershipBasedAccessControlForRasters": null,
 "allowComputeTiePoints": false,
 "useStandardizedQueries": true,
 "advancedQueryCapabilities": {
  "useStandardizedQueries": true,
  "supportsStatistics": false,
  "supportsOrderBy": false,
  "supportsDistinct": false,
  "supportsPagination": false
 },
 "spatialReference": {
  "wkt2": "PROJCRS[\"CH1903+_Hotine_Oblique_Mercator_Azimuth_Center\",BASEGEOGCRS[\"GCS_CH1903+\",DATUM[\"D_CH1903+\",ELLIPSOID[\"Bessel_1841\",6377397.155,299.1528128,LENGTHUNIT[\"Meter\",1.0]]],PRIMEM[\"Greenwich\",0.0,ANGLEUNIT[\"Degree\",0.0174532925199433]],CS[ellipsoidal,2],ANGLEUNIT[\"Degree\",0.0174532925199433]],CONVERSION[\"Hotine_Oblique_Mercator_Azimuth_Center\",METHOD[\"Hotine_Oblique_Mercator_Azimuth_Center\"],PARAMETER[\"false_easting\",2600000.0,LENGTHUNIT[\"Meter\",1.0]],PARAMETER[\"false_northing\",1200000.0,LENGTHUNIT[\"Meter\",1.0]],PARAMETER[\"scale_factor\",1.0,SCALEUNIT[\"Unity\",1.0]],PARAMETER[\"azimuth\",90.0,ANGLEUNIT[\"Degree\",0.0174532925199433]],PARAMETER[\"longitude_of_center\",7.439583333333334,ANGLEUNIT[\"Degree\",0.0174532925199433]],PARAMETER[\"latitude_of_center\",46.95240555555557,ANGLEUNIT[\"Degree\",0.0174532925199433]]],CS[Cartesian,2],AXIS[\"Easting (X)\",east,ORDER[1]],AXIS[\"Northing (Y)\",north,ORDER[2]],LENGTHUNIT[\"Meter\",1.0]]",
  "wkt": "PROJCS[\"CH1903+_Hotine_Oblique_Mercator_Azimuth_Center\",GEOGCS[\"GCS_CH1903+\",DATUM[\"D_CH1903+\",SPHEROID[\"Bessel_1841\",6377397.155,299.1528128]],PRIMEM[\"Greenwich\",0.0],UNIT[\"Degree\",0.0174532925199433]],PROJECTION[\"Hotine_Oblique_Mercator_Azimuth_Center\"],PARAMETER[\"false_easting\",2600000.0],PARAMETER[\"false_northing\",1200000.0],PARAMETER[\"scale_factor\",1.0],PARAMETER[\"azimuth\",90.0],PARAMETER[\"longitude_of_center\",7.439583333333334],PARAMETER[\"latitude_of_center\",46.95240555555557],UNIT[\"Meter\",1.0]]"
 },
 "resampling": false
}
