<?xml version="1.0" encoding="UTF-8" standalone="no"?>
<metadata xml:lang="fr">
<Esri>
<CreaDate>20170309</CreaDate>
<CreaTime>07495500</CreaTime>
<ArcGISFormat>1.0</ArcGISFormat>
<SyncOnce>FALSE</SyncOnce>
<DataProperties>
<lineage>
<Process Date="20170309" Time="074955" ToolSource="c:\program files (x86)\arcgis\desktop10.2\ArcToolbox\Toolboxes\Data Management Tools.tbx\BuildPyramids">BuildPyramids D:\OrthoAgglo_2015.gdb\OrthoAgglo_2015_decoup 29 NONE NEAREST DEFAULT 75 SKIP_EXISTING</Process>
<Process Date="20170309" Time="075134" ToolSource="c:\program files (x86)\arcgis\desktop10.2\ArcToolbox\Toolboxes\Data Management Tools.tbx\BuildPyramids">BuildPyramids D:\OrthoAgglo_2015.gdb\OrthoAgglo_2015_decoup 29 NONE NEAREST DEFAULT 75 OVERWRITE</Process>
<Process Date="20170309" Time="092759" ToolSource="c:\program files (x86)\arcgis\desktop10.2\ArcToolbox\Toolboxes\Data Management Tools.tbx\BuildPyramids">BuildPyramids D:\OrthoAgglo_2015.gdb\OrthoAgglo_2015_decoup 0 NONE NEAREST DEFAULT 75 OVERWRITE</Process>
<Process Date="20170309" Time="174556" ToolSource="c:\program files (x86)\arcgis\desktop10.2\ArcToolbox\Toolboxes\Data Management Tools.tbx\BuildPyramids">BuildPyramids D:\OrthoAgglo_2015.gdb\OrthoAgglo_2015_decoup 29 NONE NEAREST DEFAULT 75 OVERWRITE</Process>
<Process Date="20170629" Time="080500" ToolSource="c:\program files (x86)\arcgis\desktop10.2\ArcToolbox\Toolboxes\Data Management Tools.tbx\Mosaic">Mosaic \\sitgsrv01\intranet\DONNEES_RASTER\ORTHOPHOTOS\2015\COMPL_20170628\RVB_20_extrait\GENEVE-2015-2496-1108-EPSG_2056-0M20-RVB-E1001.tif;\\sitgsrv01\intranet\DONNEES_RASTER\ORTHOPHOTOS\2015\COMPL_20170628\RVB_20_extrait\GENEVE-2015-2496-1107-EPSG_2056-0M20-RVB-E1002.jp2;\\sitgsrv01\intranet\DONNEES_RASTER\ORTHOPHOTOS\2015\COMPL_20170628\RVB_20_extrait\GENEVE-2015-2495-1108-EPSG_2056-0M20-RVB-E1001.tif;\\sitgsrv01\intranet\DONNEES_RASTER\ORTHOPHOTOS\2015\COMPL_20170628\RVB_20_extrait\GENEVE-2015-2495-1107-EPSG_2056-0M20-RVB-E1001.jp2 D:\ORTHOPHOTOS_2015_20CM.gdb\OrthoAgglo_2015 LAST FIRST # # NONE 0 NONE</Process>
<Process Date="20170630" Time="084851" ToolSource="c:\program files (x86)\arcgis\desktop10.2\ArcToolbox\Toolboxes\Data Management Tools.tbx\CalculateStatistics">CalculateStatistics D:\ORTHOPHOTOS_2015_20CM.gdb\OrthoAgglo_2015 1 1 # OVERWRITE "Jeu d’entités"</Process>
<Process Date="20250117" Time="115345" ToolSource="d:\programs\arcgis\pro\Resources\ArcToolbox\Toolboxes\Data Management Tools.tbx\Rename">Rename \\interzoneadm01\INTERZONE$\APP\GEOMATIQUE\INTRANET\DONNEES\IMAGE_AERIENNE_ORTHO_2015_07\GDB\IMAGE_AERIENNE_ORTHO_2015_07.gdb\ORTHO_AGGLO_2015_20CM \\interzoneadm01\INTERZONE$\APP\GEOMATIQUE\INTRANET\DONNEES\IMAGE_AERIENNE_ORTHO_2015_07\GDB\IMAGE_AERIENNE_ORTHO_2015_07.gdb\IMAGE_AERIENNE_ORTHO_2015_07 RasterDataset</Process>
<Process Date="20250313" Time="152915" ToolSource="c:\program files\arcgis\pro\Resources\ArcToolbox\Toolboxes\Data Management Tools.tbx\Rename">Rename \\interzoneadm01\INTERZONE$\APP\GEOMATIQUE\INTRANET\DONNEES\IMAGE_AERIENNE_ORTHO_AGGLO_2015_07\GDB\IMAGE_AERIENNE_ORTHO_AGGLO_2015_07.gdb\IMAGE_AERIENNE_ORTHO_2015_07 \\interzoneadm01\INTERZONE$\APP\GEOMATIQUE\INTRANET\DONNEES\IMAGE_AERIENNE_ORTHO_AGGLO_2015_07\GDB\IMAGE_AERIENNE_ORTHO_AGGLO_2015_07.gdb\IMAGE_AERIENNE_ORTHO_AGGLO_2015_07 RasterDataset</Process>
</lineage>
<itemProps>
<itemName Sync="TRUE">OrthoAgglo_2015</itemName>
<imsContentType Sync="TRUE">002</imsContentType>
<nativeExtBox>
<westBL Sync="TRUE">2465459.615000</westBL>
<eastBL Sync="TRUE">2531717.415000</eastBL>
<southBL Sync="TRUE">1088844.535800</southBL>
<northBL Sync="TRUE">1156875.935800</northBL>
<exTypeCode Sync="TRUE">1</exTypeCode>
</nativeExtBox>
<itemLocation>
<linkage Sync="TRUE">file://\\FS-270761\D$\Ortho_Agglo_2015\ORTHO_AGGLO_2015_RVB_20CM.gdb</linkage>
<protocol Sync="TRUE">Local Area Network</protocol>
</itemLocation>
</itemProps>
<coordRef>
<type Sync="TRUE">Projected</type>
<geogcsn Sync="TRUE">GCS_CH1903+</geogcsn>
<csUnits Sync="TRUE">Linear Unit: Meter (1.000000)</csUnits>
<projcsn Sync="TRUE">CH1903+_LV95</projcsn>
<peXml Sync="TRUE">&lt;ProjectedCoordinateSystem xsi:type='typens:ProjectedCoordinateSystem' xmlns:xsi='http://www.w3.org/2001/XMLSchema-instance' xmlns:xs='http://www.w3.org/2001/XMLSchema' xmlns:typens='http://www.esri.com/schemas/ArcGIS/1.4.0'&gt;&lt;WKT&gt;PROJCS[&amp;quot;CH1903+_LV95&amp;quot;,GEOGCS[&amp;quot;GCS_CH1903+&amp;quot;,DATUM[&amp;quot;D_CH1903+&amp;quot;,SPHEROID[&amp;quot;Bessel_1841&amp;quot;,6377397.155,299.1528128]],PRIMEM[&amp;quot;Greenwich&amp;quot;,0.0],UNIT[&amp;quot;Degree&amp;quot;,0.0174532925199433]],PROJECTION[&amp;quot;Hotine_Oblique_Mercator_Azimuth_Center&amp;quot;],PARAMETER[&amp;quot;False_Easting&amp;quot;,2600000.0],PARAMETER[&amp;quot;False_Northing&amp;quot;,1200000.0],PARAMETER[&amp;quot;Scale_Factor&amp;quot;,1.0],PARAMETER[&amp;quot;Azimuth&amp;quot;,90.0],PARAMETER[&amp;quot;Longitude_Of_Center&amp;quot;,7.439583333333333],PARAMETER[&amp;quot;Latitude_Of_Center&amp;quot;,46.95240555555556],UNIT[&amp;quot;Meter&amp;quot;,1.0],AUTHORITY[&amp;quot;EPSG&amp;quot;,2056]]&lt;/WKT&gt;&lt;XOrigin&gt;-27386400&lt;/XOrigin&gt;&lt;YOrigin&gt;-32067900&lt;/YOrigin&gt;&lt;XYScale&gt;140996569.55187955&lt;/XYScale&gt;&lt;ZOrigin&gt;-100000&lt;/ZOrigin&gt;&lt;ZScale&gt;10000&lt;/ZScale&gt;&lt;MOrigin&gt;-100000&lt;/MOrigin&gt;&lt;MScale&gt;10000&lt;/MScale&gt;&lt;XYTolerance&gt;0.001&lt;/XYTolerance&gt;&lt;ZTolerance&gt;0.001&lt;/ZTolerance&gt;&lt;MTolerance&gt;0.001&lt;/MTolerance&gt;&lt;HighPrecision&gt;true&lt;/HighPrecision&gt;&lt;WKID&gt;2056&lt;/WKID&gt;&lt;LatestWKID&gt;2056&lt;/LatestWKID&gt;&lt;/ProjectedCoordinateSystem&gt;</peXml>
</coordRef>
</DataProperties>
<SyncDate>20170831</SyncDate>
<SyncTime>07494900</SyncTime>
<ModDate>20170831</ModDate>
<ModTime>07494900</ModTime>
</Esri>
<dataIdInfo>
<envirDesc Sync="TRUE">Microsoft Windows 7 Version 6.1 (Build 7601) Service Pack 1; Esri ArcGIS 11.4.0.7198</envirDesc>
<dataLang>
<languageCode Sync="TRUE" value="fra"/>
<countryCode Sync="TRUE" value="CHE"/>
</dataLang>
<idCitation>
<resTitle Sync="TRUE">IMAGE_AERIENNE_ORTHO_2015_07</resTitle>
<presForm>
<PresFormCd Sync="TRUE" value="011"/>
</presForm>
</idCitation>
<spatRpType>
<SpatRepTypCd Sync="TRUE" value="002"/>
</spatRpType>
<dataExt>
<geoEle>
<GeoBndBox esriExtentType="search">
<exTypeCode Sync="TRUE">1</exTypeCode>
<westBL Sync="TRUE">5.684947</westBL>
<eastBL Sync="TRUE">6.558919</eastBL>
<northBL Sync="TRUE">46.560951</northBL>
<southBL Sync="TRUE">45.938992</southBL>
</GeoBndBox>
</geoEle>
</dataExt>
<idAbs/>
<idPurp/>
<idCredit/>
<resConst>
<Consts>
<useLimit/>
</Consts>
</resConst>
</dataIdInfo>
<mdLang>
<languageCode Sync="TRUE" value="fra"/>
<countryCode Sync="TRUE" value="CHE"/>
</mdLang>
<distInfo>
<distFormat>
<formatName Sync="TRUE">Jeu de données raster de géodatabase fichier</formatName>
</distFormat>
</distInfo>
<mdHrLv>
<ScopeCd Sync="TRUE" value="005"/>
</mdHrLv>
<mdHrLvName Sync="TRUE">dataset</mdHrLvName>
<refSysInfo>
<RefSystem>
<refSysID>
<identCode Sync="TRUE" code="2056"/>
<idCodeSpace Sync="TRUE">EPSG</idCodeSpace>
<idVersion Sync="TRUE">8.8(8.1.0)</idVersion>
</refSysID>
</RefSystem>
</refSysInfo>
<spdoinfo>
<rastinfo>
<rasttype Sync="TRUE">Pixel</rasttype>
<rowcount Sync="TRUE">340157</rowcount>
<colcount Sync="TRUE">331289</colcount>
<rastxsz Sync="TRUE">0.200000</rastxsz>
<rastysz Sync="TRUE">0.200000</rastysz>
<rastbpp Sync="TRUE">8</rastbpp>
<vrtcount Sync="TRUE">1</vrtcount>
<rastorig Sync="TRUE">Upper Left</rastorig>
<rastcmap Sync="TRUE">FALSE</rastcmap>
<rastcomp Sync="TRUE">LZ77</rastcomp>
<rastband Sync="TRUE">3</rastband>
<rastdtyp Sync="TRUE">pixel codes</rastdtyp>
<rastifor Sync="TRUE">FGDBR</rastifor>
<rastplyr Sync="TRUE">TRUE</rastplyr>
</rastinfo>
</spdoinfo>
<spref>
<horizsys>
<planar>
<planci>
<plance Sync="TRUE">row and column</plance>
<coordrep>
<absres Sync="TRUE">0.200000</absres>
<ordres Sync="TRUE">0.200000</ordres>
</coordrep>
</planci>
</planar>
</horizsys>
</spref>
<mdDateSt Sync="TRUE">20170831</mdDateSt>
</metadata>
