{
 "currentVersion": 11.3,
 "serviceDescription": "IMAGE_AERIENNE_ORTHO_NOCTURNE_2013_04",
 "name": "IMAGE_AERIENNE_ORTHO_NOCTURNE_2013_04",
 "description": "",
 "extent": {
  "xmin": 2482168.1414812305,
  "ymin": 1108756.5936990576,
  "xmax": 2516202.8110177326,
  "ymax": 1138787.1844665594,
  "spatialReference": {
   "wkid": 2056,
   "latestWkid": 2056
  }
 },
 "initialExtent": {
  "xmin": 2482168.1414812305,
  "ymin": 1108756.5936990576,
  "xmax": 2516202.8110177326,
  "ymax": 1138787.1844665594,
  "spatialReference": {
   "wkid": 2056,
   "latestWkid": 2056
  }
 },
 "fullExtent": {
  "xmin": 2482168.1414812305,
  "ymin": 1108756.5936990576,
  "xmax": 2516202.8110177326,
  "ymax": 1138787.1844665594,
  "spatialReference": {
   "wkid": 2056,
   "latestWkid": 2056
  }
 },
 "sortableFields": "",
 "bandCount": 3,
 "pixelType": "U8",
 "minValues": [
  0,
  0,
  0
 ],
 "maxValues": [
  252,
  252,
  252
 ],
 "meanValues": [
  26.742816549333334,
  27.651061249333335,
  33.56915339755555
 ],
 "stdvValues": [
  73.7733534608167,
  73.15785518328819,
  71.30064737907756
 ],
 "hasMultidimensions": false,
 "pixelSizeX": 0.4004078769000247,
 "pixelSizeY": 0.4004078769000247,
 "meanPixelSize": 0.4004078769000247,
 "datasetFormat": "FGDBR",
 "uncompressedSize": 19125000000,
 "blockWidth": 128,
 "blockHeight": 128,
 "compressionType": "NONE",
 "bandNames": [
  "Band_1",
  "Band_2",
  "Band_3"
 ],
 "allowCopy": true,
 "allowAnalysis": true,
 "itemAccess": false,
 "inspectionCapabilities": "",
 "minPixelSize": 0,
 "maxPixelSize": 0,
 "copyrightText": "",
 "serviceDataType": "esriImageServiceDataTypeRGB",
 "serviceSourceType": "esriImageServiceSourceTypeDataset",
 "objectIdField": "",
 "fields": [],
 "capabilities": "Mensuration,Image,Metadata",
 "defaultMosaicMethod": "Center",
 "allowedMosaicMethods": "",
 "sortField": "",
 "sortValue": null,
 "sortAscending": true,
 "mosaicOperator": "First",
 "defaultCompressionQuality": 75,
 "defaultResamplingMethod": "Bilinear",
 "maxImageHeight": 4100,
 "maxImageWidth": 15000,
 "allowRasterFunction": true,
 "rasterFunctionInfos": [
  {
   "name": "None",
   "description": "",
   "help": ""
  }
 ],
 "rasterTypeInfos": [
  {
   "name": "Raster Dataset",
   "description": "Supports all ArcGIS Raster Datasets",
   "help": ""
  }
 ],
 "mensurationCapabilities": "Basic",
 "hasHistograms": true,
 "hasColormap": false,
 "hasRasterAttributeTable": false,
 "minScale": 0,
 "maxScale": 0,
 "exportTilesAllowed": false,
 "supportsStatistics": false,
 "supportsAdvancedQueries": false,
 "editFieldsInfo": null,
 "ownershipBasedAccessControlForRasters": null,
 "allowComputeTiePoints": false,
 "useStandardizedQueries": true,
 "advancedQueryCapabilities": {
  "useStandardizedQueries": true,
  "supportsStatistics": false,
  "supportsOrderBy": false,
  "supportsDistinct": false,
  "supportsPagination": false
 },
 "spatialReference": {
  "wkid": 2056,
  "latestWkid": 2056
 },
 "resampling": false
}
