{
 "currentVersion": 11.3,
 "serviceDescription": "Orthophotos Agglo vraie 2025 (pixel 20 cm)",
 "name": "IMAGE_AERIENNE_ORTHO_TRUE_2025_06",
 "description": "",
 "extent": {
  "xmin": 2465000.0839180425,
  "ymin": 1089000.0476094224,
  "xmax": 2532000.083668448,
  "ymax": 1156000.047359828,
  "spatialReference": {
   "wkid": 2056,
   "latestWkid": 2056
  }
 },
 "initialExtent": {
  "xmin": 2465000.0839180425,
  "ymin": 1089000.0476094224,
  "xmax": 2532000.083668448,
  "ymax": 1156000.047359828,
  "spatialReference": {
   "wkid": 2056,
   "latestWkid": 2056
  }
 },
 "fullExtent": {
  "xmin": 2465000.0839180425,
  "ymin": 1089000.0476094224,
  "xmax": 2532000.083668448,
  "ymax": 1156000.047359828,
  "spatialReference": {
   "wkid": 2056,
   "latestWkid": 2056
  }
 },
 "sortableFields": "",
 "bandCount": 3,
 "pixelType": "U8",
 "minValues": [
  0,
  20,
  13
 ],
 "maxValues": [
  255,
  255,
  255
 ],
 "meanValues": [
  86.83302883778018,
  108.45448930816247,
  113.50318434618383
 ],
 "stdvValues": [
  44.08662154053438,
  35.531968733515924,
  27.186673754473883
 ],
 "hasMultidimensions": false,
 "pixelSizeX": 0.19999999925494194,
 "pixelSizeY": 0.19999999925494194,
 "meanPixelSize": 0.19999999925494194,
 "datasetFormat": "FGDBR",
 "uncompressedSize": 336675000000,
 "blockWidth": 128,
 "blockHeight": 128,
 "compressionType": "NONE",
 "bandNames": [
  "Band_1",
  "Band_2",
  "Band_3"
 ],
 "allowCopy": true,
 "allowAnalysis": true,
 "itemAccess": false,
 "inspectionCapabilities": "",
 "minPixelSize": 0,
 "maxPixelSize": 0,
 "copyrightText": "",
 "serviceDataType": "esriImageServiceDataTypeRGB",
 "serviceSourceType": "esriImageServiceSourceTypeDataset",
 "objectIdField": "",
 "fields": [],
 "capabilities": "Image,Metadata,Pixels,Mensuration",
 "defaultMosaicMethod": "Center",
 "allowedMosaicMethods": "",
 "sortField": "",
 "sortValue": null,
 "sortAscending": true,
 "mosaicOperator": "First",
 "defaultCompressionQuality": 75,
 "defaultResamplingMethod": "Nearest",
 "maxImageHeight": 8192,
 "maxImageWidth": 8192,
 "allowRasterFunction": true,
 "rasterFunctionInfos": [
  {
   "name": "None",
   "description": "",
   "help": ""
  }
 ],
 "rasterTypeInfos": [
  {
   "name": "Raster Dataset",
   "description": "Supports all ArcGIS Raster Datasets",
   "help": ""
  }
 ],
 "mensurationCapabilities": "Basic",
 "hasHistograms": true,
 "hasColormap": false,
 "hasRasterAttributeTable": false,
 "minScale": 0,
 "maxScale": 0,
 "exportTilesAllowed": false,
 "supportsStatistics": false,
 "supportsAdvancedQueries": false,
 "editFieldsInfo": null,
 "ownershipBasedAccessControlForRasters": null,
 "allowComputeTiePoints": false,
 "useStandardizedQueries": true,
 "advancedQueryCapabilities": {
  "useStandardizedQueries": true,
  "supportsStatistics": false,
  "supportsOrderBy": false,
  "supportsDistinct": false,
  "supportsPagination": false
 },
 "spatialReference": {
  "wkid": 2056,
  "latestWkid": 2056
 }
}
