{
 "currentVersion": 11.3,
 "serviceDescription": "IMAGE_SATELLITE_ORTHO_2023_11",
 "name": "IMAGE_SATELLITE_ORTHO_2023_11",
 "description": "",
 "extent": {
  "xmin": 2484845.669308141,
  "ymin": 1109482.0568923429,
  "xmax": 2513319.269378856,
  "ymax": 1136110.6569584757,
  "spatialReference": {
   "wkid": 2056,
   "latestWkid": 2056
  }
 },
 "initialExtent": {
  "xmin": 2484845.669308141,
  "ymin": 1109482.0568923429,
  "xmax": 2513319.269378856,
  "ymax": 1136110.6569584757,
  "spatialReference": {
   "wkid": 2056,
   "latestWkid": 2056
  }
 },
 "fullExtent": {
  "xmin": 2484845.669308141,
  "ymin": 1109482.0568923429,
  "xmax": 2513319.269378856,
  "ymax": 1136110.6569584757,
  "spatialReference": {
   "wkid": 2056,
   "latestWkid": 2056
  }
 },
 "sortableFields": "",
 "bandCount": 6,
 "pixelType": "U16",
 "minValues": [
  1,
  1,
  1,
  1,
  1,
  1
 ],
 "maxValues": [
  27015,
  27015,
  27015,
  25885,
  26394,
  25276
 ],
 "meanValues": [
  669.6773365572694,
  759.4526265255338,
  616.6017425771659,
  2467.787479555874,
  1674.208855033233,
  702.1029717914502
 ],
 "stdvValues": [
  572.1917043905652,
  491.12566255194434,
  393.23562840131257,
  1693.635239417747,
  1076.400939451329,
  335.0276651094144
 ],
 "hasMultidimensions": false,
 "pixelSizeX": 0.30000000074505806,
 "pixelSizeY": 0.30000000074505806,
 "meanPixelSize": 0.30000000074505806,
 "datasetFormat": "FGDBR",
 "uncompressedSize": 101094947328,
 "blockWidth": 128,
 "blockHeight": 128,
 "compressionType": "NONE",
 "bandNames": [
  "Band_1",
  "Band_2",
  "Band_3",
  "Band_4",
  "Band_5",
  "Band_6"
 ],
 "allowCopy": true,
 "allowAnalysis": true,
 "itemAccess": false,
 "inspectionCapabilities": "",
 "minPixelSize": 0,
 "maxPixelSize": 0,
 "copyrightText": "",
 "serviceDataType": "esriImageServiceDataTypeGeneric",
 "serviceSourceType": "esriImageServiceSourceTypeDataset",
 "objectIdField": "",
 "fields": [],
 "capabilities": "Image,Metadata,Mensuration",
 "defaultMosaicMethod": "Center",
 "allowedMosaicMethods": "",
 "sortField": "",
 "sortValue": null,
 "sortAscending": true,
 "mosaicOperator": "First",
 "defaultCompressionQuality": 75,
 "defaultResamplingMethod": "Bilinear",
 "maxImageHeight": 4100,
 "maxImageWidth": 15000,
 "allowRasterFunction": true,
 "rasterFunctionInfos": [
  {
   "name": "None",
   "description": "",
   "help": ""
  }
 ],
 "rasterTypeInfos": [
  {
   "name": "Raster Dataset",
   "description": "Supports all ArcGIS Raster Datasets",
   "help": ""
  }
 ],
 "mensurationCapabilities": "Basic",
 "hasHistograms": true,
 "hasColormap": false,
 "hasRasterAttributeTable": false,
 "minScale": 0,
 "maxScale": 0,
 "exportTilesAllowed": false,
 "supportsStatistics": false,
 "supportsAdvancedQueries": false,
 "editFieldsInfo": null,
 "ownershipBasedAccessControlForRasters": null,
 "allowComputeTiePoints": false,
 "useStandardizedQueries": true,
 "advancedQueryCapabilities": {
  "useStandardizedQueries": true,
  "supportsStatistics": false,
  "supportsOrderBy": false,
  "supportsDistinct": false,
  "supportsPagination": false
 },
 "spatialReference": {
  "wkid": 2056,
  "latestWkid": 2056
 }
}
