{
 "currentVersion": 11.3,
 "serviceDescription": "Image Satellite Pléiades Néo Janvier 2026 (Pixel 15 Cm)",
 "name": "IMAGE_SATELLITE_ORTHO_2026_01",
 "description": "",
 "extent": {
  "xmin": 2485235.598376207,
  "ymin": 1109448.6881742328,
  "xmax": 2513735.598093085,
  "ymax": 1136448.687906012,
  "spatialReference": {
   "wkid": 2056,
   "latestWkid": 2056
  }
 },
 "initialExtent": {
  "xmin": 2485235.598376207,
  "ymin": 1109448.6881742328,
  "xmax": 2513735.598093085,
  "ymax": 1136448.687906012,
  "spatialReference": {
   "wkid": 2056,
   "latestWkid": 2056
  }
 },
 "fullExtent": {
  "xmin": 2485235.598376207,
  "ymin": 1109448.6881742328,
  "xmax": 2513735.598093085,
  "ymax": 1136448.687906012,
  "spatialReference": {
   "wkid": 2056,
   "latestWkid": 2056
  }
 },
 "sortableFields": "",
 "bandCount": 4,
 "pixelType": "U8",
 "minValues": [
  0,
  0,
  0,
  0
 ],
 "maxValues": [
  255,
  255,
  255,
  255
 ],
 "meanValues": [
  103.07016145916131,
  111.79975527412338,
  101.90871440672153,
  254.99985464223283
 ],
 "stdvValues": [
  52.816835567074186,
  45.047538208560226,
  34.776851113722756,
  0.15861562578250635
 ],
 "hasMultidimensions": false,
 "pixelSizeX": 0.14999999850988388,
 "pixelSizeY": 0.14999999850988388,
 "meanPixelSize": 0.14999999850988388,
 "datasetFormat": "FGDBR",
 "uncompressedSize": 136800000000,
 "blockWidth": 128,
 "blockHeight": 128,
 "compressionType": "LZ77",
 "bandNames": [
  "Band_1",
  "Band_2",
  "Band_3",
  "Band_4"
 ],
 "allowCopy": true,
 "allowAnalysis": true,
 "itemAccess": false,
 "inspectionCapabilities": "",
 "minPixelSize": 0,
 "maxPixelSize": 0,
 "copyrightText": "",
 "serviceDataType": "esriImageServiceDataTypeGeneric",
 "serviceSourceType": "esriImageServiceSourceTypeDataset",
 "objectIdField": "",
 "fields": [],
 "capabilities": "Image,Metadata,Pixels,Mensuration",
 "defaultMosaicMethod": "Center",
 "allowedMosaicMethods": "",
 "sortField": "",
 "sortValue": null,
 "sortAscending": true,
 "mosaicOperator": "First",
 "defaultCompressionQuality": 75,
 "defaultResamplingMethod": "Nearest",
 "maxImageHeight": 8192,
 "maxImageWidth": 8192,
 "allowRasterFunction": true,
 "rasterFunctionInfos": [
  {
   "name": "None",
   "description": "",
   "help": ""
  }
 ],
 "rasterTypeInfos": [
  {
   "name": "Raster Dataset",
   "description": "Supports all ArcGIS Raster Datasets",
   "help": ""
  }
 ],
 "mensurationCapabilities": "Basic",
 "hasHistograms": true,
 "hasColormap": false,
 "hasRasterAttributeTable": false,
 "minScale": 0,
 "maxScale": 0,
 "exportTilesAllowed": false,
 "supportsStatistics": false,
 "supportsAdvancedQueries": false,
 "editFieldsInfo": null,
 "ownershipBasedAccessControlForRasters": null,
 "allowComputeTiePoints": false,
 "useStandardizedQueries": true,
 "advancedQueryCapabilities": {
  "useStandardizedQueries": true,
  "supportsStatistics": false,
  "supportsOrderBy": false,
  "supportsDistinct": false,
  "supportsPagination": false
 },
 "spatialReference": {
  "wkid": 2056,
  "latestWkid": 2056
 }
}
