{
 "currentVersion": 11.3,
 "serviceDescription": "MNT - Modele Numerique De Terrain 2025 (Pixel 0.2 M)",
 "name": "MNA_TERRAIN_2025_03",
 "description": "",
 "extent": {
  "xmin": 2485250,
  "ymin": 1109500,
  "xmax": 2513102.8,
  "ymax": 1136000,
  "spatialReference": {
   "wkid": 2056,
   "latestWkid": 2056
  }
 },
 "initialExtent": {
  "xmin": 2485250,
  "ymin": 1109500,
  "xmax": 2513102.8,
  "ymax": 1136000,
  "spatialReference": {
   "wkid": 2056,
   "latestWkid": 2056
  }
 },
 "fullExtent": {
  "xmin": 2485250,
  "ymin": 1109500,
  "xmax": 2513102.8,
  "ymax": 1136000,
  "spatialReference": {
   "wkid": 2056,
   "latestWkid": 2056
  }
 },
 "sortableFields": "",
 "bandCount": 1,
 "pixelType": "F32",
 "minValues": [
  0
 ],
 "maxValues": [
  518.8460083007812
 ],
 "meanValues": [
  422.88301659138415
 ],
 "stdvValues": [
  35.42857575821606
 ],
 "hasMultidimensions": false,
 "pixelSizeX": 0.19999999999999865,
 "pixelSizeY": 0.2,
 "meanPixelSize": 0.19999999999999934,
 "datasetFormat": "FGDBR",
 "uncompressedSize": 73809920000,
 "blockWidth": 128,
 "blockHeight": 128,
 "compressionType": "NONE",
 "bandNames": [
  "Band_1"
 ],
 "allowCopy": true,
 "allowAnalysis": true,
 "itemAccess": false,
 "inspectionCapabilities": "",
 "minPixelSize": 0,
 "maxPixelSize": 0,
 "copyrightText": "",
 "serviceDataType": "esriImageServiceDataTypeGeneric",
 "serviceSourceType": "esriImageServiceSourceTypeDataset",
 "objectIdField": "",
 "fields": [],
 "capabilities": "Image,Metadata,Pixels,Mensuration",
 "defaultMosaicMethod": "Center",
 "allowedMosaicMethods": "",
 "sortField": "",
 "sortValue": null,
 "sortAscending": true,
 "mosaicOperator": "First",
 "defaultCompressionQuality": 75,
 "defaultResamplingMethod": "Nearest",
 "maxImageHeight": 8192,
 "maxImageWidth": 8192,
 "allowRasterFunction": true,
 "rasterFunctionInfos": [
  {
   "name": "None",
   "description": "",
   "help": ""
  }
 ],
 "rasterTypeInfos": [
  {
   "name": "Raster Dataset",
   "description": "Supports all ArcGIS Raster Datasets",
   "help": ""
  }
 ],
 "mensurationCapabilities": "Basic",
 "hasHistograms": true,
 "hasColormap": false,
 "hasRasterAttributeTable": false,
 "minScale": 0,
 "maxScale": 0,
 "exportTilesAllowed": false,
 "supportsStatistics": false,
 "supportsAdvancedQueries": false,
 "editFieldsInfo": null,
 "ownershipBasedAccessControlForRasters": null,
 "allowComputeTiePoints": false,
 "useStandardizedQueries": true,
 "advancedQueryCapabilities": {
  "useStandardizedQueries": true,
  "supportsStatistics": false,
  "supportsOrderBy": false,
  "supportsDistinct": false,
  "supportsPagination": false
 },
 "spatialReference": {
  "wkid": 2056,
  "latestWkid": 2056
 }
}
