View In:
ArcGIS JavaScript
ArcGIS Online Map Viewer
ArcGIS Earth
Service Description: ORTHOPHOTOS_COLLECTION
Name: ORTHOPHOTOS_COLLECTION
Description:
Single Fused Map Cache: false
Extent:
XMin: 2463982.0502000004
YMin: 1086982.0254999995
XMax: 2539013.3002000004
YMax: 1158013.0254999995
Spatial Reference: 2056
(2056)
Initial Extent:
XMin: 2463982.0502000004
YMin: 1086982.0254999995
XMax: 2539013.3002000004
YMax: 1158013.0254999995
Spatial Reference: 2056
(2056)
Full Extent:
XMin: 2463982.0502000004
YMin: 1086982.0254999995
XMax: 2539013.3002000004
YMax: 1158013.0254999995
Spatial Reference: 2056
(2056)
Time Info:
Start Time Field: DEBUT
End Time Field: FIN
Time Extent:
[1932/01/01 00:00:00 UTC, 2023/01/01 00:00:00 UTC]
Time Reference:
N/A
Pixel Size X: 0.25
Pixel Size Y: 0.25
Band Count: 3
Pixel Type: U8
RasterFunction Infos: {"rasterFunctionInfos": [{
"name": "None",
"description": "A No-Op Function.",
"help": ""
}]}
Mensuration Capabilities: Basic
Inspection Capabilities:
Has Histograms: false
Has Colormap: false
Has Multi Dimensions : false
Rendering Rule:
Min Scale: 0
Max Scale: 0
Resampling: false
Copyright Text:
Service Data Type: esriImageServiceDataTypeRGB
Min Values: N/A
Max Values: N/A
Mean Values: N/A
Standard Deviation Values: N/A
Object ID Field: OBJECTID
Fields:
-
OBJECTID
(
type: esriFieldTypeOID, alias: OBJECTID
)
-
Shape
(
type: esriFieldTypeGeometry, alias: Shape
)
-
Name
(
type: esriFieldTypeString, alias: Name, length: 200
)
-
Category
(
type: esriFieldTypeInteger, alias: Category
, Coded Values:
[0: Unknown]
, [1: Primary]
, [2: Overview]
, ...6 more...
)
-
CenterX
(
type: esriFieldTypeDouble, alias: CenterX
)
-
CenterY
(
type: esriFieldTypeDouble, alias: CenterY
)
-
DEBUT
(
type: esriFieldTypeSmallInteger, alias: DEBUT
)
-
FIN
(
type: esriFieldTypeSmallInteger, alias: FIN
)
Default Mosaic Method: ByAttribute
Allowed Mosaic Methods: ByAttribute,None
SortField: MinPS
SortValue: 0
Mosaic Operator: Last
Default Compression Quality: 75
Default Resampling Method: Bilinear
Max Record Count: 1000
Max Image Height: 4100
Max Image Width: 15000
Max Download Image Count: 20
Max Mosaic Image Count: 20
Allow Raster Function: true
Allow Copy: true
Allow Analysis: true
Allow Compute TiePoints: false
Supports Statistics: true
Supports Advanced Queries: true
Use StandardizedQueries: true
Raster Type Infos:
Name: Raster Dataset
Description: Supports all ArcGIS Raster Datasets
Help:
Has Raster Attribute Table: false
Edit Fields Info: null
Ownership Based AccessControl For Rasters: null
Child Resources:
Info
Statistics
Key Properties
Legend
Raster Function Infos
Supported Operations:
Export Image
Query
Identify
Measure
Compute Histograms
Compute Statistics Histograms
Get Samples
Compute Class Statistics
Query GPS Info
Find Images
Image to Map
Map to Image
Measure from Image
Image to Map Multiray
Query Boundary
Compute Pixel Location
Compute Angles
Validate
Project