{
 "currentVersion": 10.91,
 "serviceDescription": "ORTHOPHOTOS_COLLECTION",
 "name": "ORTHOPHOTOS_COLLECTION",
 "description": "",
 "extent": {
  "xmin": 2463982.0089000016,
  "ymin": 1086982.0242999985,
  "xmax": 2539013.2589000016,
  "ymax": 1158013.0242999985,
  "spatialReference": {
   "wkid": 2056,
   "latestWkid": 2056
  }
 },
 "initialExtent": {
  "xmin": 2463982.0089000016,
  "ymin": 1086982.0242999985,
  "xmax": 2539013.2589000016,
  "ymax": 1158013.0242999985,
  "spatialReference": {
   "wkid": 2056,
   "latestWkid": 2056
  }
 },
 "fullExtent": {
  "xmin": 2463982.0089000016,
  "ymin": 1086982.0242999985,
  "xmax": 2539013.2589000016,
  "ymax": 1158013.0242999985,
  "spatialReference": {
   "wkid": 2056,
   "latestWkid": 2056
  }
 },
 "hasMultidimensions": false,
 "timeInfo": {
  "startTimeField": "DEBUT",
  "endTimeField": "FIN",
  "timeExtent": [
   -1199232000000,
   1609459200000
  ],
  "timeReference": null
 },
 "pixelSizeX": 0.25,
 "pixelSizeY": 0.25,
 "datasetFormat": "AMD",
 "uncompressedSize": 255818146500,
 "blockWidth": 2048,
 "blockHeight": 256,
 "compressionType": "None",
 "bandNames": [
  "Band_1",
  "Band_2",
  "Band_3"
 ],
 "allowCopy": true,
 "allowAnalysis": true,
 "bandCount": 3,
 "pixelType": "U8",
 "minPixelSize": 0,
 "maxPixelSize": 0,
 "copyrightText": "",
 "serviceDataType": "esriImageServiceDataTypeRGB",
 "serviceSourceType": "esriImageServiceSourceTypeMosaicDataset",
 "minValues": [],
 "maxValues": [],
 "meanValues": [],
 "stdvValues": [],
 "objectIdField": "OBJECTID",
 "fields": [
  {
   "name": "OBJECTID",
   "type": "esriFieldTypeOID",
   "alias": "OBJECTID",
   "domain": null
  },
  {
   "name": "Shape",
   "type": "esriFieldTypeGeometry",
   "alias": "Shape",
   "domain": null
  },
  {
   "name": "Name",
   "type": "esriFieldTypeString",
   "alias": "Name",
   "domain": null,
   "length": 200
  },
  {
   "name": "Category",
   "type": "esriFieldTypeInteger",
   "alias": "Category",
   "domain": {
    "type": "codedValue",
    "name": "MosaicCatalogItemCategoryDomain",
    "description": "Catalog item categories.",
    "codedValues": [
     {
      "name": "Unknown",
      "code": 0
     },
     {
      "name": "Primary",
      "code": 1
     },
     {
      "name": "Overview",
      "code": 2
     },
     {
      "name": "Unprocessed Overview",
      "code": 3
     },
     {
      "name": "Partial Overview",
      "code": 4
     },
     {
      "name": "Inactive",
      "code": 5
     },
     {
      "name": "Uploaded",
      "code": 253
     },
     {
      "name": "Incomplete",
      "code": 254
     },
     {
      "name": "Custom",
      "code": 255
     }
    ],
    "mergePolicy": "esriMPTDefaultValue",
    "splitPolicy": "esriSPTDefaultValue"
   }
  },
  {
   "name": "CenterX",
   "type": "esriFieldTypeDouble",
   "alias": "CenterX",
   "domain": null
  },
  {
   "name": "CenterY",
   "type": "esriFieldTypeDouble",
   "alias": "CenterY",
   "domain": null
  },
  {
   "name": "DEBUT",
   "type": "esriFieldTypeSmallInteger",
   "alias": "DEBUT",
   "domain": null
  },
  {
   "name": "FIN",
   "type": "esriFieldTypeSmallInteger",
   "alias": "FIN",
   "domain": null
  }
 ],
 "capabilities": "Image,Metadata,Mensuration,Catalog",
 "defaultMosaicMethod": "ByAttribute",
 "allowedMosaicMethods": "ByAttribute,None",
 "sortField": "MinPS",
 "sortValue": "0",
 "sortAscending": true,
 "mosaicOperator": "Last",
 "maxDownloadSizeLimit": 2048,
 "defaultCompressionQuality": 75,
 "defaultResamplingMethod": "Bilinear",
 "maxImageHeight": 4100,
 "maxImageWidth": 15000,
 "maxRecordCount": 1000,
 "maxDownloadImageCount": 20,
 "maxMosaicImageCount": 20,
 "allowRasterFunction": true,
 "rasterFunctionInfos": [
  {
   "name": "None",
   "description": "A No-Op Function.",
   "help": ""
  }
 ],
 "rasterTypeInfos": [
  {
   "name": "Raster Dataset",
   "description": "Supports all ArcGIS Raster Datasets",
   "help": ""
  }
 ],
 "mensurationCapabilities": "Basic",
 "hasHistograms": false,
 "hasColormap": false,
 "hasRasterAttributeTable": false,
 "minScale": 0,
 "maxScale": 0,
 "exportTilesAllowed": false,
 "supportsStatistics": true,
 "supportsAdvancedQueries": true,
 "editFieldsInfo": null,
 "ownershipBasedAccessControlForRasters": null,
 "allowComputeTiePoints": false,
 "useStandardizedQueries": true,
 "advancedQueryCapabilities": {
  "useStandardizedQueries": true,
  "supportsStatistics": true,
  "supportsOrderBy": true,
  "supportsDistinct": true,
  "supportsPagination": true
 },
 "spatialReference": {
  "wkid": 2056,
  "latestWkid": 2056
 }
}
