<?xml version="1.0" encoding="UTF-8" standalone="no"?>
<metadata xml:lang="fr">
<Esri>
<CreaDate>20150331</CreaDate>
<CreaTime>15360600</CreaTime>
<ArcGISFormat>1.0</ArcGISFormat>
<SyncOnce>FALSE</SyncOnce>
<DataProperties>
<itemProps>
<itemName Sync="TRUE">PJ_CS_PDQ_PAV</itemName>
<imsContentType Sync="TRUE">002</imsContentType>
<nativeExtBox>
<westBL Sync="TRUE">0.000000</westBL>
<eastBL Sync="TRUE">7.636667</eastBL>
<southBL Sync="TRUE">0.000000</southBL>
<northBL Sync="TRUE">11.690000</northBL>
<exTypeCode Sync="TRUE">1</exTypeCode>
</nativeExtBox>
<itemLocation>
<linkage Sync="TRUE">file://\\geode\DATA_MN95\PAV.gdb</linkage>
<protocol Sync="TRUE">Local Area Network</protocol>
</itemLocation>
</itemProps>
<lineage>
<Process Date="20150331" Time="153614" ToolSource="c:\program files (x86)\arcgis\desktop10.2\ArcToolbox\Toolboxes\Data Management Tools.tbx\CopyRaster">CopyRaster \\sitgsrv01\SI-PAV\GeoPAV\2.Donnees_Metiers\1_Themes-PAV\2_Amenagement-PAV\PJ-CSPDQPAV\PJ-CS_PDQ_PAV.tif \\geode\DATA_MN95\PAV.gdb\PJ_CS_PDQ_PAV # # 256 NONE NONE # NONE NONE</Process>
<Process Date="20241024" Time="165638" ToolSource="c:\program files\arcgis\pro\Resources\ArcToolbox\Toolboxes\Data Management Tools.tbx\Rename">Rename V:\Donnees_Applicatives\GEOMATIQUE\INTRANET\DONNEES\PAV_PJ_CS_PDQ\PAV_PJ_CS_PDQ.gdb\PJ_CS_PDQ_PAV V:\Donnees_Applicatives\GEOMATIQUE\INTRANET\DONNEES\PAV_PJ_CS_PDQ\PAV_PJ_CS_PDQ.gdb\PAV_PJ_CS_PDQ RasterDataset</Process>
</lineage>
</DataProperties>
<SyncDate>20150331</SyncDate>
<SyncTime>15360700</SyncTime>
<ModDate>20150331</ModDate>
<ModTime>15360700</ModTime>
</Esri>
<dataIdInfo>
<envirDesc Sync="TRUE">Microsoft Windows 7 Version 6.1 (Build 7601) Service Pack 1; Esri ArcGIS 10.2.1.3497</envirDesc>
<dataLang>
<languageCode Sync="TRUE" value="fra"/>
<countryCode Sync="TRUE" value="CHE"/>
</dataLang>
<idCitation>
<resTitle Sync="TRUE">PAV_PJ_CS_PDQ</resTitle>
<presForm>
<PresFormCd Sync="TRUE" value="011"/>
</presForm>
</idCitation>
<spatRpType>
<SpatRepTypCd Sync="TRUE" value="002"/>
</spatRpType>
<idAbs/>
<idPurp/>
<idCredit/>
<resConst>
<Consts>
<useLimit/>
</Consts>
</resConst>
</dataIdInfo>
<mdLang>
<languageCode Sync="TRUE" value="fra"/>
<countryCode Sync="TRUE" value="CHE"/>
</mdLang>
<mdChar>
<CharSetCd Sync="TRUE" value="004"/>
</mdChar>
<distInfo>
<distFormat>
<formatName Sync="TRUE">Jeu de données raster de géodatabase fichier</formatName>
</distFormat>
</distInfo>
<mdHrLv>
<ScopeCd Sync="TRUE" value="005"/>
</mdHrLv>
<mdHrLvName Sync="TRUE">dataset</mdHrLvName>
<spdoinfo>
<rastinfo>
<rasttype Sync="TRUE">Pixel</rasttype>
<rowcount Sync="TRUE">3507</rowcount>
<colcount Sync="TRUE">2291</colcount>
<rastxsz Sync="TRUE">0.003333</rastxsz>
<rastysz Sync="TRUE">0.003333</rastysz>
<rastbpp Sync="TRUE">8</rastbpp>
<vrtcount Sync="TRUE">1</vrtcount>
<rastorig Sync="TRUE">Upper Left</rastorig>
<rastcmap Sync="TRUE">FALSE</rastcmap>
<rastcomp Sync="TRUE">LZ77</rastcomp>
<rastband Sync="TRUE">3</rastband>
<rastdtyp Sync="TRUE">pixel codes</rastdtyp>
<rastifor Sync="TRUE">FGDBR</rastifor>
<rastplyr Sync="TRUE">TRUE</rastplyr>
</rastinfo>
</spdoinfo>
<spref>
<horizsys>
<planar>
<planci>
<plance Sync="TRUE">row and column</plance>
<coordrep>
<absres Sync="TRUE">0.003333</absres>
<ordres Sync="TRUE">0.003333</ordres>
</coordrep>
</planci>
</planar>
</horizsys>
</spref>
<mdDateSt Sync="TRUE">20150331</mdDateSt>
</metadata>
