View In:
ArcGIS JavaScript
ArcGIS Online Map Viewer
ArcGIS Earth
Service Description: Agglo - Vision d'ensemble à l'échelle des PACA
Name: AGGLO_VISION_PACA_PA5
Description:
Single Fused Map Cache: false
Extent:
XMin: 2448376.950107304
YMin: 1084716.28143257
XMax: 2541050.7422652445
YMax: 1158859.0816207041
Spatial Reference: 2056
(2056)
LatestVCSWkid(0)
Initial Extent:
XMin: 2448376.950107304
YMin: 1084716.28143257
XMax: 2541050.7422652445
YMax: 1158859.0816207041
Spatial Reference: 2056
(2056)
LatestVCSWkid(0)
Full Extent:
XMin: 2448376.950107304
YMin: 1084716.28143257
XMax: 2541050.7422652445
YMax: 1158859.0816207041
Spatial Reference: 2056
(2056)
LatestVCSWkid(0)
Pixel Size X: 9.41615445620205
Pixel Size Y: 9.416154456201955
Band Count: 4
Pixel Type: U8
RasterFunction Infos: {"rasterFunctionInfos": [{
"name": "None",
"description": "",
"help": ""
}]}
Mensuration Capabilities: Basic
Inspection Capabilities:
Has Histograms: true
Has Colormap: false
Has Multi Dimensions : false
Rendering Rule:
Min Scale: 0
Max Scale: 0
Copyright Text:
Service Data Type: esriImageServiceDataTypeGeneric
Min Values: 0, 1, 1, 255
Max Values: 255, 255, 255, 255
Mean Values: 239.56341630321953, 240.72758036463034, 233.3576250245368, 255
Standard Deviation Values: 37.7873976702671, 40.255496263016376, 41.73866892518919, 0
Object ID Field:
Fields:
None
Default Mosaic Method: Center
Allowed Mosaic Methods:
SortField:
SortValue: null
Mosaic Operator: First
Default Compression Quality: 75
Default Resampling Method: Nearest
Max Record Count: null
Max Image Height: 8192
Max Image Width: 8192
Max Download Image Count: null
Max Mosaic Image Count: null
Allow Raster Function: true
Allow Copy: true
Allow Analysis: true
Allow Compute TiePoints: false
Supports Statistics: false
Supports Advanced Queries: false
Use StandardizedQueries: true
Raster Type Infos:
Name: Raster Dataset
Description: Supports all ArcGIS Raster Datasets
Help:
Has Raster Attribute Table: false
Edit Fields Info: null
Ownership Based AccessControl For Rasters: null
Child Resources:
Info
Histograms
Statistics
Key Properties
Legend
Raster Function Infos
Supported Operations:
Export Image
Identify
Measure
Compute Histograms
Compute Statistics Histograms
Get Samples
Compute Class Statistics
Query Boundary
Compute Pixel Location
Compute Angles
Validate
Project