View In:
ArcGIS JavaScript
ArcGIS Online Map Viewer
ArcGIS Earth
ArcMap
View Footprint In:
ArcGIS Online Map Viewer
Service Description: CARTES_HISTORIQUES_CARTES_SIEGFRIED_1891_1945
Name: CARTES_HISTORIQUES_CARTES_SIEGFRIED_1891_1945
Description:
Single Fused Map Cache: false
Extent:
XMin: 2480000
YMin: 1104000
XMax: 2515000
YMax: 1140000
Spatial Reference: 2056
(2056)
Initial Extent:
XMin: 2480000
YMin: 1104000
XMax: 2515000
YMax: 1140000
Spatial Reference: 2056
(2056)
Full Extent:
XMin: 2480000
YMin: 1104000
XMax: 2515000
YMax: 1140000
Spatial Reference: 2056
(2056)
Time Info:
Start Time Field: DEBUT
End Time Field: FIN
Time Extent:
[1891/01/01 00:00:00 UTC, 1945/01/01 00:00:00 UTC]
Time Reference:
N/A
Pixel Size X: 1.25
Pixel Size Y: 1.25
Band Count: 3
Pixel Type: U8
RasterFunction Infos: {"rasterFunctionInfos": [{
"name": "None",
"description": "",
"help": ""
}]}
Mensuration Capabilities:
Has Histograms: true
Has Colormap: false
Has Multi Dimensions : false
Rendering Rule:
Min Scale: 0
Max Scale: 0
Copyright Text:
Service Data Type: esriImageServiceDataTypeRGB
Min Values: 0, 0, 0
Max Values: 255, 255, 255
Mean Values: 234.89092072420635, 236.6047196904762, 237.22867966865078
Standard Deviation Values: 54.50683252243011, 52.98132738389896, 54.51165367893874
Object ID Field: OBJECTID
Fields:
-
OBJECTID
(
type: esriFieldTypeOID, alias: OBJECTID
)
-
Shape
(
type: esriFieldTypeGeometry, alias: Shape
)
-
Name
(
type: esriFieldTypeString, alias: Name, length: 50
)
-
Category
(
type: esriFieldTypeInteger, alias: Category
)
-
DEBUT
(
type: esriFieldTypeInteger, alias: DEBUT
)
-
FIN
(
type: esriFieldTypeInteger, alias: FIN
)
Default Mosaic Method: ByAttribute
Allowed Mosaic Methods: ByAttribute,None
SortField: DEBUT
SortValue: 0
Mosaic Operator: Last
Default Compression Quality: 75
Default Resampling Method: Bilinear
Max Record Count: 1000
Max Image Height: 15000
Max Image Width: 15000
Max Download Image Count: 20
Max Mosaic Image Count: 20
Allow Raster Function: true
Allow Copy: true
Allow Analysis: true
Allow Compute TiePoints: false
Supports Statistics: true
Supports Advanced Queries: true
Use StandardizedQueries: true
Raster Type Infos:
Name: Raster Dataset
Description: Supports all ArcGIS Raster Datasets
Help:
Has Raster Attribute Table: false
Edit Fields Info: null
Ownership Based AccessControl For Rasters: null
Child Resources:
Info
Histograms
Statistics
Key Properties
Legend
Raster Function Infos
Supported Operations:
Export Image
Query
Identify
Compute Histograms
Compute Statistics Histograms
Get Samples
Compute Class Statistics
Query Boundary
Compute Pixel Location
Compute Angles
Validate
Project