View In:
ArcGIS JavaScript
ArcGIS Online Map Viewer
ArcGIS Earth
Service Description: HISTO_CARTE_BATIMENTS_CONSTRUITS_1919_1975
Name: HISTO_CARTE_BATIMENTS_CONSTRUITS_1919_1975
Description:
Single Fused Map Cache: false
Extent:
XMin: 2486531.738493568
YMin: 1111850.564720579
XMax: 2507650.6826585187
YMax: 1126972.323909542
Spatial Reference: 2056
(2056)
LatestVCSWkid(0)
Initial Extent:
XMin: 2486531.738493568
YMin: 1111850.564720579
XMax: 2507650.6826585187
YMax: 1126972.323909542
Spatial Reference: 2056
(2056)
LatestVCSWkid(0)
Full Extent:
XMin: 2486531.738493568
YMin: 1111850.564720579
XMax: 2507650.6826585187
YMax: 1126972.323909542
Spatial Reference: 2056
(2056)
LatestVCSWkid(0)
Pixel Size X: 2.540472051600008
Pixel Size Y: 2.536782283000017
Band Count: 3
Pixel Type: U8
RasterFunction Infos: {"rasterFunctionInfos": [{
"name": "None",
"description": "",
"help": ""
}]}
Mensuration Capabilities:
Inspection Capabilities:
Has Histograms: true
Has Colormap: false
Has Multi Dimensions : false
Rendering Rule:
Min Scale: 0
Max Scale: 0
Resampling: false
Copyright Text:
Service Data Type: esriImageServiceDataTypeRGB
Min Values: 0, 0, 0
Max Values: 255, 255, 255
Mean Values: 247.3230555328025, 247.52879937969632, 247.72576337395606
Standard Deviation Values: 22.043142762508094, 20.384779381219587, 19.318322703137454
Object ID Field:
Fields:
None
Default Mosaic Method: Center
Allowed Mosaic Methods:
SortField:
SortValue: null
Mosaic Operator: First
Default Compression Quality: 75
Default Resampling Method: Bilinear
Max Record Count: null
Max Image Height: 4100
Max Image Width: 15000
Max Download Image Count: null
Max Mosaic Image Count: null
Allow Raster Function: true
Allow Copy: true
Allow Analysis: true
Allow Compute TiePoints: false
Supports Statistics: false
Supports Advanced Queries: false
Use StandardizedQueries: true
Raster Type Infos:
Name: Raster Dataset
Description: Supports all ArcGIS Raster Datasets
Help:
Has Raster Attribute Table: false
Edit Fields Info: null
Ownership Based AccessControl For Rasters: null
Child Resources:
Info
Histograms
Statistics
Key Properties
Legend
Raster Function Infos
Supported Operations:
Export Image
Identify
Compute Histograms
Compute Statistics Histograms
Get Samples
Compute Class Statistics
Query Boundary
Compute Pixel Location
Compute Angles
Validate
Project