View In:
ArcGIS JavaScript
ArcGIS Online Map Viewer
ArcGIS Earth
Service Description: HISTO_CARTE_DE_HONDT_1630
Name: HISTO_CARTE_DE_HONDT_1630
Description:
Single Fused Map Cache: false
Extent:
XMin: 2451648.0353056844
YMin: 1067347.466342056
XMax: 2593981.962434422
YMax: 1181695.6136359575
Spatial Reference: 2056
(2056)
LatestVCSWkid(0)
Initial Extent:
XMin: 2451648.0353056844
YMin: 1067347.466342056
XMax: 2593981.962434422
YMax: 1181695.6136359575
Spatial Reference: 2056
(2056)
LatestVCSWkid(0)
Full Extent:
XMin: 2451648.0353056844
YMin: 1067347.466342056
XMax: 2593981.962434422
YMax: 1181695.6136359575
Spatial Reference: 2056
(2056)
LatestVCSWkid(0)
Pixel Size X: 21.863890495965865
Pixel Size Y: 21.863890495965876
Band Count: 3
Pixel Type: U8
RasterFunction Infos: {"rasterFunctionInfos": [{
"name": "None",
"description": "",
"help": ""
}]}
Mensuration Capabilities: Basic
Inspection Capabilities:
Has Histograms: true
Has Colormap: false
Has Multi Dimensions : false
Rendering Rule:
Min Scale: 0
Max Scale: 0
Resampling: false
Copyright Text:
Service Data Type: esriImageServiceDataTypeRGB
Min Values: 0, 0, 0
Max Values: 255, 254, 243
Mean Values: 159.49916573046417, 139.49419017140391, 107.54783743646614
Standard Deviation Values: 58.9256787047101, 59.310464947908585, 57.175822194203
Object ID Field:
Fields:
None
Default Mosaic Method: Center
Allowed Mosaic Methods:
SortField:
SortValue: null
Mosaic Operator: First
Default Compression Quality: 75
Default Resampling Method: Bilinear
Max Record Count: null
Max Image Height: 4100
Max Image Width: 15000
Max Download Image Count: null
Max Mosaic Image Count: null
Allow Raster Function: true
Allow Copy: true
Allow Analysis: true
Allow Compute TiePoints: false
Supports Statistics: false
Supports Advanced Queries: false
Use StandardizedQueries: true
Raster Type Infos:
Name: Raster Dataset
Description: Supports all ArcGIS Raster Datasets
Help:
Has Raster Attribute Table: false
Edit Fields Info: null
Ownership Based AccessControl For Rasters: null
Child Resources:
Info
Histograms
Statistics
Key Properties
Legend
Raster Function Infos
Supported Operations:
Export Image
Identify
Measure
Compute Histograms
Compute Statistics Histograms
Get Samples
Compute Class Statistics
Query Boundary
Compute Pixel Location
Compute Angles
Validate
Project