View In:
ArcGIS JavaScript
ArcGIS Online Map Viewer
ArcGIS Earth
Service Description: HISTO_CARTE_DUVILLARD_1588
Name: HISTO_CARTE_DUVILLARD_1588
Description:
Single Fused Map Cache: false
Extent:
XMin: 2463155.3141022474
YMin: 1098647.8572785582
XMax: 2574440.4115405306
YMax: 1172632.3679284994
Spatial Reference: 2056
(2056)
LatestVCSWkid(0)
Initial Extent:
XMin: 2463155.3141022474
YMin: 1098647.8572785582
XMax: 2574440.4115405306
YMax: 1172632.3679284994
Spatial Reference: 2056
(2056)
LatestVCSWkid(0)
Full Extent:
XMin: 2463155.3141022474
YMin: 1098647.8572785582
XMax: 2574440.4115405306
YMax: 1172632.3679284994
Spatial Reference: 2056
(2056)
LatestVCSWkid(0)
Pixel Size X: 7.5202795944237915
Pixel Size Y: 7.520279594423782
Band Count: 3
Pixel Type: U8
RasterFunction Infos: {"rasterFunctionInfos": [{
"name": "None",
"description": "",
"help": ""
}]}
Mensuration Capabilities: Basic
Inspection Capabilities:
Has Histograms: true
Has Colormap: false
Has Multi Dimensions : false
Rendering Rule:
Min Scale: 0
Max Scale: 0
Resampling: false
Copyright Text:
Service Data Type: esriImageServiceDataTypeRGB
Min Values: 0, 0, 0
Max Values: 255, 255, 255
Mean Values: 159.46435715719426, 148.02563550301699, 121.35047778342377
Standard Deviation Values: 35.713396099260585, 34.904046562012525, 32.3052179481712
Object ID Field:
Fields:
None
Default Mosaic Method: Center
Allowed Mosaic Methods:
SortField:
SortValue: null
Mosaic Operator: First
Default Compression Quality: 75
Default Resampling Method: Bilinear
Max Record Count: null
Max Image Height: 4100
Max Image Width: 15000
Max Download Image Count: null
Max Mosaic Image Count: null
Allow Raster Function: true
Allow Copy: true
Allow Analysis: true
Allow Compute TiePoints: false
Supports Statistics: false
Supports Advanced Queries: false
Use StandardizedQueries: true
Raster Type Infos:
Name: Raster Dataset
Description: Supports all ArcGIS Raster Datasets
Help:
Has Raster Attribute Table: false
Edit Fields Info: null
Ownership Based AccessControl For Rasters: null
Child Resources:
Info
Histograms
Statistics
Key Properties
Legend
Raster Function Infos
Supported Operations:
Export Image
Identify
Measure
Compute Histograms
Compute Statistics Histograms
Get Samples
Compute Class Statistics
Query Boundary
Compute Pixel Location
Compute Angles
Validate
Project