View In:
ArcGIS JavaScript
ArcGIS Online Map Viewer
ArcGIS Earth
Service Description: HISTO_CARTE_FATIO_DE_DUILLIER_CHOPY_1730
Name: HISTO_CARTE_FATIO_DE_DUILLIER_CHOPY_1730
Description:
Single Fused Map Cache: false
Extent:
XMin: 2456063.655274528
YMin: 1075091.2129812804
XMax: 2602642.6264717686
YMax: 1184277.1336170794
Spatial Reference: 2056
(2056)
LatestVCSWkid(0)
Initial Extent:
XMin: 2456063.655274528
YMin: 1075091.2129812804
XMax: 2602642.6264717686
YMax: 1184277.1336170794
Spatial Reference: 2056
(2056)
LatestVCSWkid(0)
Full Extent:
XMin: 2456063.655274528
YMin: 1075091.2129812804
XMax: 2602642.6264717686
YMax: 1184277.1336170794
Spatial Reference: 2056
(2056)
LatestVCSWkid(0)
Pixel Size X: 22.337545138256708
Pixel Size Y: 22.33754513825674
Band Count: 3
Pixel Type: U8
RasterFunction Infos: {"rasterFunctionInfos": [{
"name": "None",
"description": "",
"help": ""
}]}
Mensuration Capabilities: Basic
Inspection Capabilities:
Has Histograms: true
Has Colormap: false
Has Multi Dimensions : false
Rendering Rule:
Min Scale: 0
Max Scale: 0
Resampling: false
Copyright Text:
Service Data Type: esriImageServiceDataTypeRGB
Min Values: 0, 0, 0
Max Values: 255, 255, 255
Mean Values: 197.3199996978718, 186.77611916827576, 156.67320918671135
Standard Deviation Values: 52.547867796228196, 52.45400988599309, 54.330588498268156
Object ID Field:
Fields:
None
Default Mosaic Method: Center
Allowed Mosaic Methods:
SortField:
SortValue: null
Mosaic Operator: First
Default Compression Quality: 75
Default Resampling Method: Bilinear
Max Record Count: null
Max Image Height: 4100
Max Image Width: 15000
Max Download Image Count: null
Max Mosaic Image Count: null
Allow Raster Function: true
Allow Copy: true
Allow Analysis: true
Allow Compute TiePoints: false
Supports Statistics: false
Supports Advanced Queries: false
Use StandardizedQueries: true
Raster Type Infos:
Name: Raster Dataset
Description: Supports all ArcGIS Raster Datasets
Help:
Has Raster Attribute Table: false
Edit Fields Info: null
Ownership Based AccessControl For Rasters: null
Child Resources:
Info
Histograms
Statistics
Key Properties
Legend
Raster Function Infos
Supported Operations:
Export Image
Identify
Measure
Compute Histograms
Compute Statistics Histograms
Get Samples
Compute Class Statistics
Query Boundary
Compute Pixel Location
Compute Angles
Validate
Project