View In:
ArcGIS JavaScript
ArcGIS Online Map Viewer
ArcGIS Earth
Service Description: HISTO_CARTE_SANSON_1663
Name: HISTO_CARTE_SANSON_1663
Description:
Single Fused Map Cache: false
Extent:
XMin: 2451138.715870717
YMin: 1043764.7534859517
XMax: 2589953.097105004
YMax: 1167013.15955879
Spatial Reference: 2056
(2056)
LatestVCSWkid(0)
Initial Extent:
XMin: 2451138.715870717
YMin: 1043764.7534859517
XMax: 2589953.097105004
YMax: 1167013.15955879
Spatial Reference: 2056
(2056)
LatestVCSWkid(0)
Full Extent:
XMin: 2451138.715870717
YMin: 1043764.7534859517
XMax: 2589953.097105004
YMax: 1167013.15955879
Spatial Reference: 2056
(2056)
LatestVCSWkid(0)
Pixel Size X: 21.323253645819786
Pixel Size Y: 21.323253645819783
Band Count: 3
Pixel Type: U8
RasterFunction Infos: {"rasterFunctionInfos": [{
"name": "None",
"description": "",
"help": ""
}]}
Mensuration Capabilities: Basic
Inspection Capabilities:
Has Histograms: true
Has Colormap: false
Has Multi Dimensions : false
Rendering Rule:
Min Scale: 0
Max Scale: 0
Resampling: false
Copyright Text:
Service Data Type: esriImageServiceDataTypeRGB
Min Values: 0, 0, 0
Max Values: 255, 252, 243
Mean Values: 164.56398902761543, 154.95496970679005, 124.78288078914596
Standard Deviation Values: 60.464958547818405, 57.33898518049374, 56.41310696150002
Object ID Field:
Fields:
None
Default Mosaic Method: Center
Allowed Mosaic Methods:
SortField:
SortValue: null
Mosaic Operator: First
Default Compression Quality: 75
Default Resampling Method: Bilinear
Max Record Count: null
Max Image Height: 4100
Max Image Width: 15000
Max Download Image Count: null
Max Mosaic Image Count: null
Allow Raster Function: true
Allow Copy: true
Allow Analysis: true
Allow Compute TiePoints: false
Supports Statistics: false
Supports Advanced Queries: false
Use StandardizedQueries: true
Raster Type Infos:
Name: Raster Dataset
Description: Supports all ArcGIS Raster Datasets
Help:
Has Raster Attribute Table: false
Edit Fields Info: null
Ownership Based AccessControl For Rasters: null
Child Resources:
Info
Histograms
Statistics
Key Properties
Legend
Raster Function Infos
Supported Operations:
Export Image
Identify
Measure
Compute Histograms
Compute Statistics Histograms
Get Samples
Compute Class Statistics
Query Boundary
Compute Pixel Location
Compute Angles
Validate
Project