View In:
ArcGIS JavaScript
ArcGIS Online Map Viewer
ArcGIS Earth
Service Description: HISTO_CARTE_TRAITE_TURIN_PARIS_ANNEXE_03_1754
Name: HISTO_CARTE_TRAITE_TURIN_PARIS_ANNEXE_03_1754
Description:
Single Fused Map Cache: false
Extent:
XMin: 2484684.0408353563
YMin: 1108948.5809038542
XMax: 2513861.317237576
YMax: 1124745.8865864482
Spatial Reference: 2056
(2056)
LatestVCSWkid(0)
Initial Extent:
XMin: 2484684.0408353563
YMin: 1108948.5809038542
XMax: 2513861.317237576
YMax: 1124745.8865864482
Spatial Reference: 2056
(2056)
LatestVCSWkid(0)
Full Extent:
XMin: 2484684.0408353563
YMin: 1108948.5809038542
XMax: 2513861.317237576
YMax: 1124745.8865864482
Spatial Reference: 2056
(2056)
LatestVCSWkid(0)
Pixel Size X: 0.1735967657427914
Pixel Size Y: 0.17359676574279073
Band Count: 3
Pixel Type: U8
RasterFunction Infos: {"rasterFunctionInfos": [{
"name": "None",
"description": "",
"help": ""
}]}
Mensuration Capabilities: Basic
Inspection Capabilities:
Has Histograms: true
Has Colormap: false
Has Multi Dimensions : false
Rendering Rule:
Min Scale: 0
Max Scale: 0
Resampling: false
Copyright Text:
Service Data Type: esriImageServiceDataTypeRGB
Min Values: 0, 0, 0
Max Values: 255, 255, 255
Mean Values: 213.36658478463514, 202.60735122044747, 176.97746216499544
Standard Deviation Values: 36.65868047466613, 35.38324089302541, 33.72658258482461
Object ID Field:
Fields:
None
Default Mosaic Method: Center
Allowed Mosaic Methods:
SortField:
SortValue: null
Mosaic Operator: First
Default Compression Quality: 75
Default Resampling Method: Bilinear
Max Record Count: null
Max Image Height: 4100
Max Image Width: 15000
Max Download Image Count: null
Max Mosaic Image Count: null
Allow Raster Function: true
Allow Copy: true
Allow Analysis: true
Allow Compute TiePoints: false
Supports Statistics: false
Supports Advanced Queries: false
Use StandardizedQueries: true
Raster Type Infos:
Name: Raster Dataset
Description: Supports all ArcGIS Raster Datasets
Help:
Has Raster Attribute Table: false
Edit Fields Info: null
Ownership Based AccessControl For Rasters: null
Child Resources:
Info
Histograms
Statistics
Key Properties
Legend
Raster Function Infos
Supported Operations:
Export Image
Identify
Measure
Compute Histograms
Compute Statistics Histograms
Get Samples
Compute Class Statistics
Query Boundary
Compute Pixel Location
Compute Angles
Validate
Project