View In:
ArcGIS JavaScript
ArcGIS Online Map Viewer
ArcGIS Earth
Service Description: HISTO_CARTE_TRAITE_TURIN_PARIS_ANNEXE_05_1763
Name: HISTO_CARTE_TRAITE_TURIN_PARIS_ANNEXE_05_1763
Description:
Single Fused Map Cache: false
Extent:
XMin: 2487615.5618792693
YMin: 1114006.9826394143
XMax: 2492803.5530422954
YMax: 1119575.6484692344
Spatial Reference: 2056
(2056)
LatestVCSWkid(0)
Initial Extent:
XMin: 2487615.5618792693
YMin: 1114006.9826394143
XMax: 2492803.5530422954
YMax: 1119575.6484692344
Spatial Reference: 2056
(2056)
LatestVCSWkid(0)
Full Extent:
XMin: 2487615.5618792693
YMin: 1114006.9826394143
XMax: 2492803.5530422954
YMax: 1119575.6484692344
Spatial Reference: 2056
(2056)
LatestVCSWkid(0)
Pixel Size X: 0.23615053771341782
Pixel Size Y: 0.23615053771341726
Band Count: 3
Pixel Type: U8
RasterFunction Infos: {"rasterFunctionInfos": [{
"name": "None",
"description": "",
"help": ""
}]}
Mensuration Capabilities: Basic
Inspection Capabilities:
Has Histograms: true
Has Colormap: false
Has Multi Dimensions : false
Rendering Rule:
Min Scale: 0
Max Scale: 0
Resampling: false
Copyright Text:
Service Data Type: esriImageServiceDataTypeRGB
Min Values: 33, 47, 23
Max Values: 254, 247, 224
Mean Values: 210.94236041737875, 203.73634008022879, 177.0428647117974
Standard Deviation Values: 25.888906733914588, 22.62806602974862, 21.072368511342393
Object ID Field:
Fields:
None
Default Mosaic Method: Center
Allowed Mosaic Methods:
SortField:
SortValue: null
Mosaic Operator: First
Default Compression Quality: 75
Default Resampling Method: Bilinear
Max Record Count: null
Max Image Height: 4100
Max Image Width: 15000
Max Download Image Count: null
Max Mosaic Image Count: null
Allow Raster Function: true
Allow Copy: true
Allow Analysis: true
Allow Compute TiePoints: false
Supports Statistics: false
Supports Advanced Queries: false
Use StandardizedQueries: true
Raster Type Infos:
Name: Raster Dataset
Description: Supports all ArcGIS Raster Datasets
Help:
Has Raster Attribute Table: false
Edit Fields Info: null
Ownership Based AccessControl For Rasters: null
Child Resources:
Info
Histograms
Statistics
Key Properties
Legend
Raster Function Infos
Supported Operations:
Export Image
Identify
Measure
Compute Histograms
Compute Statistics Histograms
Get Samples
Compute Class Statistics
Query Boundary
Compute Pixel Location
Compute Angles
Validate
Project