View In:
ArcGIS JavaScript
ArcGIS Online Map Viewer
ArcGIS Earth
Service Description: HISTO_CARTE_TRAITE_TURIN_PARIS_ANNEXE_06_1816
Name: HISTO_CARTE_TRAITE_TURIN_PARIS_ANNEXE_06_1816
Description:
Single Fused Map Cache: false
Extent:
XMin: 2484733.3249228364
YMin: 1108043.80251215
XMax: 2513547.0396823497
YMax: 1130511.106003504
Spatial Reference: 2056
(2056)
LatestVCSWkid(0)
Initial Extent:
XMin: 2484733.3249228364
YMin: 1108043.80251215
XMax: 2513547.0396823497
YMax: 1130511.106003504
Spatial Reference: 2056
(2056)
LatestVCSWkid(0)
Full Extent:
XMin: 2484733.3249228364
YMin: 1108043.80251215
XMax: 2513547.0396823497
YMax: 1130511.106003504
Spatial Reference: 2056
(2056)
LatestVCSWkid(0)
Pixel Size X: 0.7408838744057307
Pixel Size Y: 0.7408838744057374
Band Count: 3
Pixel Type: U8
RasterFunction Infos: {"rasterFunctionInfos": [{
"name": "None",
"description": "",
"help": ""
}]}
Mensuration Capabilities: Basic
Inspection Capabilities:
Has Histograms: true
Has Colormap: false
Has Multi Dimensions : false
Rendering Rule:
Min Scale: 0
Max Scale: 0
Resampling: false
Copyright Text:
Service Data Type: esriImageServiceDataTypeRGB
Min Values: 62, 52, 38
Max Values: 255, 255, 255
Mean Values: 231.74076689354112, 224.07217167021847, 204.27796822063013
Standard Deviation Values: 17.173794166138354, 19.13255832844862, 18.313230444543272
Object ID Field:
Fields:
None
Default Mosaic Method: Center
Allowed Mosaic Methods:
SortField:
SortValue: null
Mosaic Operator: First
Default Compression Quality: 75
Default Resampling Method: Bilinear
Max Record Count: null
Max Image Height: 4100
Max Image Width: 15000
Max Download Image Count: null
Max Mosaic Image Count: null
Allow Raster Function: true
Allow Copy: true
Allow Analysis: true
Allow Compute TiePoints: false
Supports Statistics: false
Supports Advanced Queries: false
Use StandardizedQueries: true
Raster Type Infos:
Name: Raster Dataset
Description: Supports all ArcGIS Raster Datasets
Help:
Has Raster Attribute Table: false
Edit Fields Info: null
Ownership Based AccessControl For Rasters: null
Child Resources:
Info
Histograms
Statistics
Key Properties
Legend
Raster Function Infos
Supported Operations:
Export Image
Identify
Measure
Compute Histograms
Compute Statistics Histograms
Get Samples
Compute Class Statistics
Query Boundary
Compute Pixel Location
Compute Angles
Validate
Project