View In:
ArcGIS JavaScript
ArcGIS Online Map Viewer
ArcGIS Earth
Service Description: HISTO_CARTE_TRAITE_TURIN_PARIS_ANNEXE_09_1828
Name: HISTO_CARTE_TRAITE_TURIN_PARIS_ANNEXE_09_1828
Description:
Single Fused Map Cache: false
Extent:
XMin: 2481692.082155942
YMin: 1104637.2621912314
XMax: 2518476.1169784255
YMax: 1132122.693740676
Spatial Reference: 2056
(2056)
LatestVCSWkid(0)
Initial Extent:
XMin: 2481692.082155942
YMin: 1104637.2621912314
XMax: 2518476.1169784255
YMax: 1132122.693740676
Spatial Reference: 2056
(2056)
LatestVCSWkid(0)
Full Extent:
XMin: 2481692.082155942
YMin: 1104637.2621912314
XMax: 2518476.1169784255
YMax: 1132122.693740676
Spatial Reference: 2056
(2056)
LatestVCSWkid(0)
Pixel Size X: 0.6608345727410228
Pixel Size Y: 0.6608345727410214
Band Count: 3
Pixel Type: U8
RasterFunction Infos: {"rasterFunctionInfos": [{
"name": "None",
"description": "",
"help": ""
}]}
Mensuration Capabilities: Basic
Inspection Capabilities:
Has Histograms: true
Has Colormap: false
Has Multi Dimensions : false
Rendering Rule:
Min Scale: 0
Max Scale: 0
Resampling: false
Copyright Text:
Service Data Type: esriImageServiceDataTypeRGB
Min Values: 47, 45, 35
Max Values: 255, 255, 248
Mean Values: 229.12635650768837, 218.70850666458327, 195.27004998931727
Standard Deviation Values: 10.004201670435005, 10.784850259308488, 9.502404636980524
Object ID Field:
Fields:
None
Default Mosaic Method: Center
Allowed Mosaic Methods:
SortField:
SortValue: null
Mosaic Operator: First
Default Compression Quality: 75
Default Resampling Method: Bilinear
Max Record Count: null
Max Image Height: 4100
Max Image Width: 15000
Max Download Image Count: null
Max Mosaic Image Count: null
Allow Raster Function: true
Allow Copy: true
Allow Analysis: true
Allow Compute TiePoints: false
Supports Statistics: false
Supports Advanced Queries: false
Use StandardizedQueries: true
Raster Type Infos:
Name: Raster Dataset
Description: Supports all ArcGIS Raster Datasets
Help:
Has Raster Attribute Table: false
Edit Fields Info: null
Ownership Based AccessControl For Rasters: null
Child Resources:
Info
Histograms
Statistics
Key Properties
Legend
Raster Function Infos
Supported Operations:
Export Image
Identify
Measure
Compute Histograms
Compute Statistics Histograms
Get Samples
Compute Class Statistics
Query Boundary
Compute Pixel Location
Compute Angles
Validate
Project