View In:
ArcGIS JavaScript
ArcGIS Online Map Viewer
ArcGIS Earth
Service Description: HISTO_PLAN_BILLON
Name: HISTO_PLAN_BILLON
Description:
Single Fused Map Cache: false
Extent:
XMin: 2499639.523331895
YMin: 1117120.0843339837
XMax: 2500839.577213871
YMax: 1118560.1286714014
Spatial Reference: 2056
(2056)
LatestVCSWkid(0)
Initial Extent:
XMin: 2499639.523331895
YMin: 1117120.0843339837
XMax: 2500839.577213871
YMax: 1118560.1286714014
Spatial Reference: 2056
(2056)
LatestVCSWkid(0)
Full Extent:
XMin: 2499639.523331895
YMin: 1117120.0843339837
XMax: 2500839.577213871
YMax: 1118560.1286714014
Spatial Reference: 2056
(2056)
LatestVCSWkid(0)
Pixel Size X: 0.1016047652168167
Pixel Size Y: 0.10160476521679937
Band Count: 3
Pixel Type: U8
RasterFunction Infos: {"rasterFunctionInfos": [{
"name": "None",
"description": "",
"help": ""
}]}
Mensuration Capabilities: Basic
Inspection Capabilities:
Has Histograms: true
Has Colormap: false
Has Multi Dimensions : false
Rendering Rule:
Min Scale: 0
Max Scale: 0
Resampling: false
Copyright Text:
Service Data Type: esriImageServiceDataTypeRGB
Min Values: 0, 0, 0
Max Values: 255, 255, 255
Mean Values: 234.51024012124228, 204.0203041848985, 127.36696501939132
Standard Deviation Values: 28.220757904063504, 38.55208080018336, 55.67199479642023
Object ID Field:
Fields:
None
Default Mosaic Method: Center
Allowed Mosaic Methods:
SortField:
SortValue: null
Mosaic Operator: First
Default Compression Quality: 75
Default Resampling Method: Bilinear
Max Record Count: null
Max Image Height: 4100
Max Image Width: 15000
Max Download Image Count: null
Max Mosaic Image Count: null
Allow Raster Function: true
Allow Copy: true
Allow Analysis: true
Allow Compute TiePoints: false
Supports Statistics: false
Supports Advanced Queries: false
Use StandardizedQueries: true
Raster Type Infos:
Name: Raster Dataset
Description: Supports all ArcGIS Raster Datasets
Help:
Has Raster Attribute Table: false
Edit Fields Info: null
Ownership Based AccessControl For Rasters: null
Child Resources:
Info
Histograms
Statistics
Key Properties
Legend
Raster Function Infos
Supported Operations:
Export Image
Identify
Measure
Compute Histograms
Compute Statistics Histograms
Get Samples
Compute Class Statistics
Query Boundary
Compute Pixel Location
Compute Angles
Validate
Project