View In:
ArcGIS JavaScript
ArcGIS Online Map Viewer
ArcGIS Earth
Service Description: HISTO_PLAN_DUFOUR
Name: HISTO_PLAN_DUFOUR
Description:
Single Fused Map Cache: false
Extent:
XMin: 2478848.3439621157
YMin: 1106133.9065300317
XMax: 2523631.4781184723
YMax: 1138871.9218443336
Spatial Reference: 2056
(2056)
LatestVCSWkid(0)
Initial Extent:
XMin: 2478848.3439621157
YMin: 1106133.9065300317
XMax: 2523631.4781184723
YMax: 1138871.9218443336
Spatial Reference: 2056
(2056)
LatestVCSWkid(0)
Full Extent:
XMin: 2478848.3439621157
YMin: 1106133.9065300317
XMax: 2523631.4781184723
YMax: 1138871.9218443336
Spatial Reference: 2056
(2056)
LatestVCSWkid(0)
Pixel Size X: 0.11999993074992447
Pixel Size Y: 0.11999990951554317
Band Count: 3
Pixel Type: U8
RasterFunction Infos: {"rasterFunctionInfos": [{
"name": "None",
"description": "",
"help": ""
}]}
Mensuration Capabilities: Basic
Inspection Capabilities:
Has Histograms: true
Has Colormap: false
Has Multi Dimensions : false
Rendering Rule:
Min Scale: 0
Max Scale: 0
Resampling: false
Copyright Text:
Service Data Type: esriImageServiceDataTypeRGB
Min Values: 1, 1, 1
Max Values: 255, 255, 255
Mean Values: 230.11386013424266, 210.63194571611692, 178.97136395996938
Standard Deviation Values: 16.406991810577665, 19.19309005453934, 22.884660274955134
Object ID Field:
Fields:
None
Default Mosaic Method: Center
Allowed Mosaic Methods:
SortField:
SortValue: null
Mosaic Operator: First
Default Compression Quality: 75
Default Resampling Method: Bilinear
Max Record Count: null
Max Image Height: 4100
Max Image Width: 15000
Max Download Image Count: null
Max Mosaic Image Count: null
Allow Raster Function: true
Allow Copy: true
Allow Analysis: true
Allow Compute TiePoints: false
Supports Statistics: false
Supports Advanced Queries: false
Use StandardizedQueries: true
Raster Type Infos:
Name: Raster Dataset
Description: Supports all ArcGIS Raster Datasets
Help:
Has Raster Attribute Table: false
Edit Fields Info: null
Ownership Based AccessControl For Rasters: null
Child Resources:
Info
Histograms
Statistics
Key Properties
Legend
Raster Function Infos
Supported Operations:
Export Image
Identify
Measure
Compute Histograms
Compute Statistics Histograms
Get Samples
Compute Class Statistics
Query Boundary
Compute Pixel Location
Compute Angles
Validate
Project