View In:
ArcGIS JavaScript
ArcGIS Online Map Viewer
ArcGIS Earth
Service Description: HISTO_PLAN_GRANGE
Name: HISTO_PLAN_GRANGE
Description:
Single Fused Map Cache: false
Extent:
XMin: 2499399.4723000005
YMin: 1116640.090448918
XMax: 2501559.5711510833
YMax: 1118800.1893000007
Spatial Reference: 2056
(2056)
LatestVCSWkid(0)
Initial Extent:
XMin: 2499399.4723000005
YMin: 1116640.090448918
XMax: 2501559.5711510833
YMax: 1118800.1893000007
Spatial Reference: 2056
(2056)
LatestVCSWkid(0)
Full Extent:
XMin: 2499399.4723000005
YMin: 1116640.090448918
XMax: 2501559.5711510833
YMax: 1118800.1893000007
Spatial Reference: 2056
(2056)
LatestVCSWkid(0)
Pixel Size X: 0.16936638318040195
Pixel Size Y: 0.1693663831803837
Band Count: 3
Pixel Type: U8
RasterFunction Infos: {"rasterFunctionInfos": [{
"name": "None",
"description": "",
"help": ""
}]}
Mensuration Capabilities: Basic
Inspection Capabilities:
Has Histograms: true
Has Colormap: false
Has Multi Dimensions : false
Rendering Rule:
Min Scale: 0
Max Scale: 0
Resampling: false
Copyright Text:
Service Data Type: esriImageServiceDataTypeRGB
Min Values: 0, 0, 0
Max Values: 255, 255, 255
Mean Values: 245.4383029559179, 212.38906721452736, 160.63639947184333
Standard Deviation Values: 13.403678368746665, 15.98753057884764, 11.606317694628396
Object ID Field:
Fields:
None
Default Mosaic Method: Center
Allowed Mosaic Methods:
SortField:
SortValue: null
Mosaic Operator: First
Default Compression Quality: 75
Default Resampling Method: Bilinear
Max Record Count: null
Max Image Height: 4100
Max Image Width: 15000
Max Download Image Count: null
Max Mosaic Image Count: null
Allow Raster Function: true
Allow Copy: true
Allow Analysis: true
Allow Compute TiePoints: false
Supports Statistics: false
Supports Advanced Queries: false
Use StandardizedQueries: true
Raster Type Infos:
Name: Raster Dataset
Description: Supports all ArcGIS Raster Datasets
Help:
Has Raster Attribute Table: false
Edit Fields Info: null
Ownership Based AccessControl For Rasters: null
Child Resources:
Info
Histograms
Statistics
Key Properties
Legend
Raster Function Infos
Supported Operations:
Export Image
Identify
Measure
Compute Histograms
Compute Statistics Histograms
Get Samples
Compute Class Statistics
Query Boundary
Compute Pixel Location
Compute Angles
Validate
Project