View In:
ArcGIS JavaScript
ArcGIS Online Map Viewer
ArcGIS Earth
Service Description: HISTO_PLAN_REZ_DE_CHAUSSEE
Name: HISTO_PLAN_REZ_DE_CHAUSSEE
Description:
Single Fused Map Cache: false
Extent:
XMin: 2499762.774
YMin: 1117155.1834000014
XMax: 2500735.3463500002
YMax: 1118261.0653000013
Spatial Reference: 2056
(2056)
LatestVCSWkid(0)
Initial Extent:
XMin: 2499762.774
YMin: 1117155.1834000014
XMax: 2500735.3463500002
YMax: 1118261.0653000013
Spatial Reference: 2056
(2056)
LatestVCSWkid(0)
Full Extent:
XMin: 2499762.774
YMin: 1117155.1834000014
XMax: 2500735.3463500002
YMax: 1118261.0653000013
Spatial Reference: 2056
(2056)
LatestVCSWkid(0)
Pixel Size X: 0.014870000000000478
Pixel Size Y: 0.014869999999998927
Band Count: 1
Pixel Type: U8
RasterFunction Infos: {"rasterFunctionInfos": [{
"name": "None",
"description": "",
"help": ""
}]}
Mensuration Capabilities: Basic
Inspection Capabilities:
Has Histograms: true
Has Colormap: false
Has Multi Dimensions : false
Rendering Rule:
Min Scale: 0
Max Scale: 0
Resampling: false
Copyright Text:
Service Data Type: esriImageServiceDataTypeGeneric
Min Values: 0
Max Values: 255
Mean Values: 240.954887663709
Standard Deviation Values: 48.30081121353314
Object ID Field:
Fields:
None
Default Mosaic Method: Center
Allowed Mosaic Methods:
SortField:
SortValue: null
Mosaic Operator: First
Default Compression Quality: 75
Default Resampling Method: Bilinear
Max Record Count: null
Max Image Height: 4100
Max Image Width: 15000
Max Download Image Count: null
Max Mosaic Image Count: null
Allow Raster Function: true
Allow Copy: true
Allow Analysis: true
Allow Compute TiePoints: false
Supports Statistics: false
Supports Advanced Queries: false
Use StandardizedQueries: true
Raster Type Infos:
Name: Raster Dataset
Description: Supports all ArcGIS Raster Datasets
Help:
Has Raster Attribute Table: false
Edit Fields Info: null
Ownership Based AccessControl For Rasters: null
Child Resources:
Info
Histograms
Statistics
Key Properties
Legend
Raster Function Infos
Supported Operations:
Export Image
Identify
Measure
Compute Histograms
Compute Statistics Histograms
Get Samples
Compute Class Statistics
Query Boundary
Compute Pixel Location
Compute Angles
Validate
Project