View In:
ArcGIS JavaScript
ArcGIS Online Map Viewer
ArcGIS Earth
Service Description: IMAGE_AERIENNE_ORTHO_2015_07
Name: IMAGE_AERIENNE_ORTHO_2015_07
Description:
Single Fused Map Cache: false
Extent:
XMin: 2465459.615000002
YMin: 1088844.5358000086
XMax: 2531717.415000002
YMax: 1156875.9358000085
Spatial Reference: 2056
(2056)
LatestVCSWkid(0)
Initial Extent:
XMin: 2465459.615000002
YMin: 1088844.5358000086
XMax: 2531717.415000002
YMax: 1156875.9358000085
Spatial Reference: 2056
(2056)
LatestVCSWkid(0)
Full Extent:
XMin: 2465459.615000002
YMin: 1088844.5358000086
XMax: 2531717.415000002
YMax: 1156875.9358000085
Spatial Reference: 2056
(2056)
LatestVCSWkid(0)
Pixel Size X: 0.19999999999999943
Pixel Size Y: 0.19999999999999973
Band Count: 3
Pixel Type: U8
RasterFunction Infos: {"rasterFunctionInfos": [{
"name": "None",
"description": "",
"help": ""
}]}
Mensuration Capabilities: Basic
Inspection Capabilities:
Has Histograms: true
Has Colormap: false
Has Multi Dimensions : false
Rendering Rule:
Min Scale: 0
Max Scale: 0
Copyright Text:
Service Data Type: esriImageServiceDataTypeRGB
Min Values: 0, 0, 0
Max Values: 255, 255, 255
Mean Values: 82.9646785820101, 87.36684894304068, 72.90074526184102
Standard Deviation Values: 51.81940249564467, 48.411471795908476, 42.210732608388916
Object ID Field:
Fields:
None
Default Mosaic Method: Center
Allowed Mosaic Methods:
SortField:
SortValue: null
Mosaic Operator: First
Default Compression Quality: 75
Default Resampling Method: Bilinear
Max Record Count: null
Max Image Height: 4100
Max Image Width: 15000
Max Download Image Count: null
Max Mosaic Image Count: null
Allow Raster Function: true
Allow Copy: true
Allow Analysis: true
Allow Compute TiePoints: false
Supports Statistics: false
Supports Advanced Queries: false
Use StandardizedQueries: true
Raster Type Infos:
Name: Raster Dataset
Description: Supports all ArcGIS Raster Datasets
Help:
Has Raster Attribute Table: false
Edit Fields Info: null
Ownership Based AccessControl For Rasters: null
Child Resources:
Info
Histograms
Statistics
Key Properties
Legend
Raster Function Infos
Supported Operations:
Export Image
Identify
Measure
Compute Histograms
Compute Statistics Histograms
Get Samples
Compute Class Statistics
Query Boundary
Compute Pixel Location
Compute Angles
Validate
Project