View In:
ArcGIS JavaScript
ArcGIS Online Map Viewer
ArcGIS Earth
Service Description: IMAGE_AERIENNE_ORTHO_2020_03
Name: IMAGE_AERIENNE_ORTHO_2020_03
Description:
Single Fused Map Cache: false
Extent:
XMin: 2485000.0402384996
YMin: 1108999.9756114408
XMax: 2539000.0410431623
YMax: 1157999.9763415977
Spatial Reference: 2056
(2056)
LatestVCSWkid(0)
Initial Extent:
XMin: 2485000.0402384996
YMin: 1108999.9756114408
XMax: 2539000.0410431623
YMax: 1157999.9763415977
Spatial Reference: 2056
(2056)
LatestVCSWkid(0)
Full Extent:
XMin: 2485000.0402384996
YMin: 1108999.9756114408
XMax: 2539000.0410431623
YMax: 1157999.9763415977
Spatial Reference: 2056
(2056)
LatestVCSWkid(0)
Pixel Size X: 0.10000000149011612
Pixel Size Y: 0.10000000149011612
Band Count: 3
Pixel Type: U8
RasterFunction Infos: {"rasterFunctionInfos": [{
"name": "None",
"description": "",
"help": ""
}]}
Mensuration Capabilities: Basic
Inspection Capabilities:
Has Histograms: true
Has Colormap: false
Has Multi Dimensions : false
Rendering Rule:
Min Scale: 0
Max Scale: 0
Resampling: false
Copyright Text:
Service Data Type: esriImageServiceDataTypeRGB
Min Values: 0, 0, 0
Max Values: 255, 255, 255
Mean Values: 83.62102119875755, 91.0757972593529, 75.39746023798102
Standard Deviation Values: 51.44062049298551, 47.39448926363559, 39.67230385035783
Object ID Field:
Fields:
None
Default Mosaic Method: Center
Allowed Mosaic Methods:
SortField:
SortValue: null
Mosaic Operator: First
Default Compression Quality: 75
Default Resampling Method: Bilinear
Max Record Count: null
Max Image Height: 4100
Max Image Width: 15000
Max Download Image Count: null
Max Mosaic Image Count: null
Allow Raster Function: true
Allow Copy: true
Allow Analysis: true
Allow Compute TiePoints: false
Supports Statistics: false
Supports Advanced Queries: false
Use StandardizedQueries: true
Raster Type Infos:
Name: Raster Dataset
Description: Supports all ArcGIS Raster Datasets
Help:
Has Raster Attribute Table: false
Edit Fields Info: null
Ownership Based AccessControl For Rasters: null
Child Resources:
Info
Histograms
Statistics
Key Properties
Legend
Raster Function Infos
Supported Operations:
Export Image
Identify
Measure
Compute Histograms
Compute Statistics Histograms
Get Samples
Compute Class Statistics
Query Boundary
Compute Pixel Location
Compute Angles
Validate
Project