View In:
ArcGIS JavaScript
ArcGIS Online Map Viewer
ArcGIS Earth
Service Description: IMAGE_SATELLITE_ORTHO_2026_06
Name: IMAGE_SATELLITE_ORTHO_2026_06
Description:
Single Fused Map Cache: false
Extent:
XMin: 2484999.945122529
YMin: 1109000.0331512652
XMax: 2513499.945122529
YMax: 1136000.0331512652
Spatial Reference: 2056
(2056)
LatestVCSWkid(0)
Initial Extent:
XMin: 2484999.945122529
YMin: 1109000.0331512652
XMax: 2513499.945122529
YMax: 1136000.0331512652
Spatial Reference: 2056
(2056)
LatestVCSWkid(0)
Full Extent:
XMin: 2484999.945122529
YMin: 1109000.0331512652
XMax: 2513499.945122529
YMax: 1136000.0331512652
Spatial Reference: 2056
(2056)
LatestVCSWkid(0)
Pixel Size X: 0.15
Pixel Size Y: 0.15
Band Count: 4
Pixel Type: U8
RasterFunction Infos: {"rasterFunctionInfos": [{
"name": "None",
"description": "",
"help": ""
}]}
Mensuration Capabilities: Basic
Inspection Capabilities:
Has Histograms: true
Has Colormap: false
Has Multi Dimensions : false
Rendering Rule:
Min Scale: 0
Max Scale: 0
Copyright Text:
Service Data Type: esriImageServiceDataTypeGeneric
Min Values: 0, 0, 0, 0
Max Values: 255, 255, 255, 255
Mean Values: 73.55872519573529, 83.1621239129902, 71.57263079558824, 211.608275625
Standard Deviation Values: 62.4468689128755, 55.56809144903527, 48.06018732526722, 95.82300335430489
Object ID Field:
Fields:
None
Default Mosaic Method: Center
Allowed Mosaic Methods:
SortField:
SortValue: null
Mosaic Operator: First
Default Compression Quality: 75
Default Resampling Method: Bilinear
Max Record Count: null
Max Image Height: 4100
Max Image Width: 15000
Max Download Image Count: null
Max Mosaic Image Count: null
Allow Raster Function: true
Allow Copy: true
Allow Analysis: true
Allow Compute TiePoints: false
Supports Statistics: false
Supports Advanced Queries: false
Use StandardizedQueries: true
Raster Type Infos:
Name: Raster Dataset
Description: Supports all ArcGIS Raster Datasets
Help:
Has Raster Attribute Table: false
Edit Fields Info: null
Ownership Based AccessControl For Rasters: null
Child Resources:
Info
Histograms
Statistics
Key Properties
Legend
Raster Function Infos
Supported Operations:
Export Image
Identify
Measure
Compute Histograms
Compute Statistics Histograms
Get Samples
Compute Class Statistics
Query Boundary
Compute Pixel Location
Compute Angles
Validate
Project